BEGIN:VCALENDAR
VERSION:2.0
PRODID:-//Altoona Community Theatre - ECPv6.15.20//NONSGML v1.0//EN
CALSCALE:GREGORIAN
METHOD:PUBLISH
X-WR-CALNAME:Altoona Community Theatre
X-ORIGINAL-URL:https://altoonacommunitytheatre.com
X-WR-CALDESC:Events for Altoona Community Theatre
REFRESH-INTERVAL;VALUE=DURATION:PT1H
X-Robots-Tag:noindex
X-PUBLISHED-TTL:PT1H
BEGIN:VTIMEZONE
TZID:America/New_York
BEGIN:DAYLIGHT
TZOFFSETFROM:-0500
TZOFFSETTO:-0400
TZNAME:EDT
DTSTART:20230312T070000
END:DAYLIGHT
BEGIN:STANDARD
TZOFFSETFROM:-0400
TZOFFSETTO:-0500
TZNAME:EST
DTSTART:20231105T060000
END:STANDARD
BEGIN:DAYLIGHT
TZOFFSETFROM:-0500
TZOFFSETTO:-0400
TZNAME:EDT
DTSTART:20240310T070000
END:DAYLIGHT
BEGIN:STANDARD
TZOFFSETFROM:-0400
TZOFFSETTO:-0500
TZNAME:EST
DTSTART:20241103T060000
END:STANDARD
BEGIN:DAYLIGHT
TZOFFSETFROM:-0500
TZOFFSETTO:-0400
TZNAME:EDT
DTSTART:20250309T070000
END:DAYLIGHT
BEGIN:STANDARD
TZOFFSETFROM:-0400
TZOFFSETTO:-0500
TZNAME:EST
DTSTART:20251102T060000
END:STANDARD
END:VTIMEZONE
BEGIN:VEVENT
DTSTART;TZID=America/New_York:20240925T180000
DTEND;TZID=America/New_York:20240925T210000
DTSTAMP:20260424T200045
CREATED:20240904T183538Z
LAST-MODIFIED:20240912T202548Z
UID:4540-1727287200-1727298000@altoonacommunitytheatre.com
SUMMARY:A Dickens' Christmas Carol AUDITIONS
DESCRIPTION:A Dickens’ Christmas Carol : A Traveling Travesty in Two Tumultuous Acts\nAudition Dates: Tuesday\, September 24 at 6:00pm & Wednesday\, September 25 at 6:00 p.m.\nShow Dates: November 14-17\, 2024\nDirected by Sam Wagner \nOpen auditions for this hilarious take on Dickens’ “A Christmas Carol\,” directed by Sam Wagner\, will take place September 24 and September 25 at 6:00 p.m. in the Altoona Community Theatre Rehearsal Hall\, 1213 12th Street\, Downtown Altoona. Auditions will consist of cold readings from the script. \nActors must be available for all performances. Availability for rehearsals will be asked at auditions\, please be prepared to list all conflicts from auditions to performance dates. If you are unable to attend general auditions\, please contact the ACT Office to discuss scheduling an alternative audition time. \nCall-backs are expected to take place September 26 as needed. \n  \nA play by Mark Landon Smith. \nFrom the bonny shores of England comes the Styckes-Upon-Thump Repertory Theatre Company\, a stuffy old traveling troupe embarking on their fifteenth annual farewell tour of the Dickens’ tale. Mayhem ensues as this professional company scrambles to keep the show going and everything that could possibly go wrong does\, to hilarious\, ridiculous results! \n  \nAvailable Roles \nThe cast requirements include four men and three women\, all over the age of 18. Actors will need to have brushed up on their English accents and be able to engage in varying degrees of physical comedy (based on the roles.) \nSir Selsdon Piddock – A “Classical” actor in the truest sense of the word who will be playing Ebenezer Scrooge. \nMrs. Cordelia Ffoliet-Ffolkes Ffortescue Woods – An actress who wishes her resume were as long as her name. She will be playing multiple roles this evening. \nDame Rowena Middleton-Lewis – An actress of some pretensions who plays multiple roles. \nCynthia Imbry – A young actress who is the company understudy and is suddenly forced into the production and isn’t prepared but anxious to make an impression. \nMr. Elyot Crummels – A once dashing leading man now playing character parts. He will be very busy in this evening’s production. \nTeddy Shub – An over-anxious young actor who appears to be all teeth. \nMrs. Bettina Salisbury – The company diva who was pretending to be ill for this evening’s performance\, assured that the show would be canceled. It hasn’t happened and she appears mid-way through the show determined to play her roles. \n  \nAll roles are available. No prior theatrical or ACT experience is required.\nRoles are open to diverse & gender-inclusive casting.  Our casting seeks to be as inclusive as possible and we invite gender nonconforming\, genderqueer\, transgender and nonbinary actors to select the roles they most identify with. \nAge ranges are suggestions\, please audition for any role you would like. \n  \nQuestions can be directed to the ACT Office. \nPhone: 814-943-4357 \nEmail: act@altoonacommunitytheatre.com
URL:https://altoonacommunitytheatre.com/event/a-dickens-christmas-carol-auditions/
LOCATION:ACT Rehearsal Hall\, 1213 12th St\, Altoona\, PA\, 16601\, United States
CATEGORIES:Auditions
ATTACH;FMTTYPE=image/png:https://altoonacommunitytheatre.com/wp-content/uploads/2024/09/Graphic-Draft-from-Sam-9.4.png
ORGANIZER;CN="Altoona Community Theatre":MAILTO:act@altoonacommunitytheatre.com
END:VEVENT
END:VCALENDAR