BEGIN:VCALENDAR
VERSION:2.0
PRODID:-//Altoona Community Theatre - ECPv6.15.20//NONSGML v1.0//EN
CALSCALE:GREGORIAN
METHOD:PUBLISH
X-WR-CALNAME:Altoona Community Theatre
X-ORIGINAL-URL:https://altoonacommunitytheatre.com
X-WR-CALDESC:Events for Altoona Community Theatre
REFRESH-INTERVAL;VALUE=DURATION:PT1H
X-Robots-Tag:noindex
X-PUBLISHED-TTL:PT1H
BEGIN:VTIMEZONE
TZID:America/New_York
BEGIN:DAYLIGHT
TZOFFSETFROM:-0500
TZOFFSETTO:-0400
TZNAME:EDT
DTSTART:20230312T070000
END:DAYLIGHT
BEGIN:STANDARD
TZOFFSETFROM:-0400
TZOFFSETTO:-0500
TZNAME:EST
DTSTART:20231105T060000
END:STANDARD
BEGIN:DAYLIGHT
TZOFFSETFROM:-0500
TZOFFSETTO:-0400
TZNAME:EDT
DTSTART:20240310T070000
END:DAYLIGHT
BEGIN:STANDARD
TZOFFSETFROM:-0400
TZOFFSETTO:-0500
TZNAME:EST
DTSTART:20241103T060000
END:STANDARD
BEGIN:DAYLIGHT
TZOFFSETFROM:-0500
TZOFFSETTO:-0400
TZNAME:EDT
DTSTART:20250309T070000
END:DAYLIGHT
BEGIN:STANDARD
TZOFFSETFROM:-0400
TZOFFSETTO:-0500
TZNAME:EST
DTSTART:20251102T060000
END:STANDARD
END:VTIMEZONE
BEGIN:VEVENT
DTSTART;TZID=America/New_York:20241215T150000
DTEND;TZID=America/New_York:20241215T160000
DTSTAMP:20260424T115112
CREATED:20241022T155004Z
LAST-MODIFIED:20241022T191631Z
UID:4761-1734274800-1734278400@altoonacommunitytheatre.com
SUMMARY:The Rainbow Fish Musical (Family Theatre at the Mishler)
DESCRIPTION:Altoona Community Theatre Presents\nThe Rainbow Fish Musical\nAs part of the Blair County Arts Foundation’s Family Theatre at the Mishler Series\nBook\, Music\, and Lyrics by Austin Zumbro\nAdapted from the Book by Marcus Pfister\, translated into English by J. Alison James\, illustrations by Marcus Pfister\nDecember 15th\, 2024 at 3 PM in the Historic Mishler Theatre \nWhen Rainbow Fish refuses to share his vibrant\, shimmering scales\, the whole ocean seems to turn against the vain creature. Unhappy that no one adores him anymore\, the Rainbow Fish seeks out the wise Octopus\, who helps him learn that it’s far better to be admired for being kind than for being beautiful. \nGet tickets now!
URL:https://altoonacommunitytheatre.com/event/the-rainbow-fish-musical-family-theatre-at-the-mishler/
LOCATION:The Historic Mishler Theatre\, 1208 12th Ave\, Altoona\, PA\, 16601\, United States
CATEGORIES:Family Theatre Series
ATTACH;FMTTYPE=image/jpeg:https://altoonacommunitytheatre.com/wp-content/uploads/2024/10/Rainbow-Fish-Musical-colorfishandtitle.jpg
ORGANIZER;CN="Altoona Community Theatre":MAILTO:act@altoonacommunitytheatre.com
END:VEVENT
END:VCALENDAR