BEGIN:VCALENDAR
VERSION:2.0
PRODID:-//Altoona Community Theatre - ECPv6.15.20//NONSGML v1.0//EN
CALSCALE:GREGORIAN
METHOD:PUBLISH
X-ORIGINAL-URL:https://altoonacommunitytheatre.com
X-WR-CALDESC:Events for Altoona Community Theatre
REFRESH-INTERVAL;VALUE=DURATION:PT1H
X-Robots-Tag:noindex
X-PUBLISHED-TTL:PT1H
BEGIN:VTIMEZONE
TZID:America/New_York
BEGIN:DAYLIGHT
TZOFFSETFROM:-0500
TZOFFSETTO:-0400
TZNAME:EDT
DTSTART:20240310T070000
END:DAYLIGHT
BEGIN:STANDARD
TZOFFSETFROM:-0400
TZOFFSETTO:-0500
TZNAME:EST
DTSTART:20241103T060000
END:STANDARD
BEGIN:DAYLIGHT
TZOFFSETFROM:-0500
TZOFFSETTO:-0400
TZNAME:EDT
DTSTART:20250309T070000
END:DAYLIGHT
BEGIN:STANDARD
TZOFFSETFROM:-0400
TZOFFSETTO:-0500
TZNAME:EST
DTSTART:20251102T060000
END:STANDARD
BEGIN:DAYLIGHT
TZOFFSETFROM:-0500
TZOFFSETTO:-0400
TZNAME:EDT
DTSTART:20260308T070000
END:DAYLIGHT
BEGIN:STANDARD
TZOFFSETFROM:-0400
TZOFFSETTO:-0500
TZNAME:EST
DTSTART:20261101T060000
END:STANDARD
END:VTIMEZONE
BEGIN:VEVENT
DTSTART;TZID=America/New_York:20250607T180000
DTEND;TZID=America/New_York:20250607T210000
DTSTAMP:20260424T005103
CREATED:20250508T202939Z
LAST-MODIFIED:20250508T202939Z
UID:5048-1749319200-1749330000@altoonacommunitytheatre.com
SUMMARY:Curtain Call Celebration: End of Season Party
DESCRIPTION:2025 ACT Curtain Call Celebration: End-of-Season Party\n\nDate/Time: June 7\, 2025 @ 6-9 pm\n\nLocation: ACT Rehearsal Hall\n \n\nHow has ACT survived and thrived for the past 75 years? YOU\, our volunteers & members! We cannot say that loudly enough – our success is because of YOU. And what’s one thing that everyone at ACT loves? A good party! We’re hosting our second annual year-end celebration of our volunteers & members!\n\nRSVP to join us in the ACT Rehearsal Hall on Saturday\, June 7th from 6-9 pm for food\, beverages\, Broadway karaoke\, dancing\, awards & recognitions! This event is open to ACT Members AND anyone who volunteered with ACT in any capacity for the 24-25 season.\n\nIf you’re an ACT Member and on Facebook\, please RSVP through our Private bACTstagers Facebook Event here:\nhttps://fb.me/e/31Lvzu73J\n(if you’ve not yet joined bACTstagers\, you’ll have to do that first) \nIf you’re NOT an official ACT Member or not on Facebook\, please RSVP by email to act@altoonacommunitytheatre.com \n  \n\n\nPotluck Sign-Up: This will be a Potluck event\, so sign up to bring something at this link: https://docs.google.com/spreadsheets/d/1euQSfZab4x8rqVzGHqhJ0HZFz3HXqU4DPFcJCh2_JVc/edit\n\nBeverages:The event will be BYOB- you must provide ID (proof of age) when entering the Rehearsal Hall to receive a 21+ wristband\, and all beverages must be given to the bartender who will serve you. Absolutely no exceptions will be made.\n\nOur hope is that this Curtain Call Celebration will become an annual tradition to close the previous season & welcome in the new season. Help us make our first one memorable!\n\nNOMINATIONS FOR AWARDS OPEN UNTIL MAY 18!!!https://docs.google.com/forms/d/e/1FAIpQLSdpVIs90Q5xvXg5Vv5MciPwBmMJSLA2pR5_W5R4MuSvx16HKQ/viewform\n\n 
URL:https://altoonacommunitytheatre.com/event/curtain-call-celebration-end-of-season-party/
LOCATION:ACT Rehearsal Hall\, 1213 12th St\, Altoona\, PA\, 16601\, United States
CATEGORIES:Membership Events
ATTACH;FMTTYPE=image/png:https://altoonacommunitytheatre.com/wp-content/uploads/2024/05/Curtain-Call-Celebration-logo.png
ORGANIZER;CN="Altoona Community Theatre":MAILTO:act@altoonacommunitytheatre.com
END:VEVENT
END:VCALENDAR