BEGIN:VCALENDAR
VERSION:2.0
PRODID:-//Altoona Community Theatre - ECPv6.15.20//NONSGML v1.0//EN
CALSCALE:GREGORIAN
METHOD:PUBLISH
X-ORIGINAL-URL:https://altoonacommunitytheatre.com
X-WR-CALDESC:Events for Altoona Community Theatre
REFRESH-INTERVAL;VALUE=DURATION:PT1H
X-Robots-Tag:noindex
X-PUBLISHED-TTL:PT1H
BEGIN:VTIMEZONE
TZID:America/New_York
BEGIN:DAYLIGHT
TZOFFSETFROM:-0500
TZOFFSETTO:-0400
TZNAME:EDT
DTSTART:20240310T070000
END:DAYLIGHT
BEGIN:STANDARD
TZOFFSETFROM:-0400
TZOFFSETTO:-0500
TZNAME:EST
DTSTART:20241103T060000
END:STANDARD
BEGIN:DAYLIGHT
TZOFFSETFROM:-0500
TZOFFSETTO:-0400
TZNAME:EDT
DTSTART:20250309T070000
END:DAYLIGHT
BEGIN:STANDARD
TZOFFSETFROM:-0400
TZOFFSETTO:-0500
TZNAME:EST
DTSTART:20251102T060000
END:STANDARD
BEGIN:DAYLIGHT
TZOFFSETFROM:-0500
TZOFFSETTO:-0400
TZNAME:EDT
DTSTART:20260308T070000
END:DAYLIGHT
BEGIN:STANDARD
TZOFFSETFROM:-0400
TZOFFSETTO:-0500
TZNAME:EST
DTSTART:20261101T060000
END:STANDARD
END:VTIMEZONE
BEGIN:VEVENT
DTSTART;TZID=America/New_York:20250802T100000
DTEND;TZID=America/New_York:20250802T140000
DTSTAMP:20260423T232527
CREATED:20250513T144327Z
LAST-MODIFIED:20250723T145040Z
UID:5063-1754128800-1754143200@altoonacommunitytheatre.com
SUMMARY:Open House: Tours & Volunteer Info
DESCRIPTION:Curious About Community Theatre? Come to Our Open House!\nHave you always wanted to get involved in community theatre but weren’t sure where to start?Have you filled out our online volunteer form but want to meet people face-to-face?Are you simply curious about what happens behind the scenes? \nNow’s your chance!\nAltoona Community Theatre is opening the doors to our historic downtown space and inviting YOU to come take a look behind the curtain. Whether you’re interested in acting\, building sets\, helping backstage\, or lending a hand in the office\, there’s a place for everyone in our theatre family.\n\nPlease join us:Location: ACT Rehearsal Hall & Administrative Office\, 1213 12th St\, Altoona\, PADate: Saturday August 2Time: 10 AM to 2 PM\n\nWhat to Expect:Tour our building – Get a behind-the-scenes look at where the magic happens.Meet fellow theatre lovers – Connect with current volunteers\, staff\, board members\, and the directors of the upcoming Mainstage shows.Explore volunteer opportunities – In costume construction\, set construction\, prop sourcing and fabrication\, special effects\, and more!Learn how you can get involved – On stage\, off stage\, and everything in between.\n\nWhy Volunteer with ACT?Be part of a creative community – Share your passion for the performing arts with others who love theatre just as much as you do.Discover new skills – Learn the ropes of theatre production\, stagecraft\, or arts administration—no experience needed!Support happens offstage\, too – Help with office tasks\, data entry\, costume organizing\, errands\, and more.Be the power behind the production – We rely on passionate people\, not just patrons. Your willingness to show up and pitch in is what makes our shows possible.\nWhether you’re a seasoned stagehand or someone who’s never set foot in a theatre\, this is your invitation to come see what ACT is all about.\n\nWe can’t wait to meet you!\n\n**IMPORTANT PARKING INFORMATION**The parking lot behind Tom & Joes Diner is reserved for use by Tom & Joes and Brandi Saad ONLY on Saturday mornings.If you’re visiting ACT for the Open House\, please respect our neighbors and only use street parking or other parking lots near us that are open on weekends. We will post some helpful maps closer to the event!
URL:https://altoonacommunitytheatre.com/event/openhouse/
LOCATION:ACT Rehearsal Hall\, 1213 12th St\, Altoona\, PA\, 16601\, United States
CATEGORIES:Mainstage,Membership Events
ATTACH;FMTTYPE=image/jpeg:https://altoonacommunitytheatre.com/wp-content/uploads/2025/05/715e994d-9b1b-41da-84cc-be465f06756c-e1747147398324.jpeg
ORGANIZER;CN="Altoona Community Theatre":MAILTO:act@altoonacommunitytheatre.com
END:VEVENT
END:VCALENDAR