BEGIN:VCALENDAR
VERSION:2.0
PRODID:-//Altoona Community Theatre - ECPv6.15.20//NONSGML v1.0//EN
CALSCALE:GREGORIAN
METHOD:PUBLISH
X-ORIGINAL-URL:https://altoonacommunitytheatre.com
X-WR-CALDESC:Events for Altoona Community Theatre
REFRESH-INTERVAL;VALUE=DURATION:PT1H
X-Robots-Tag:noindex
X-PUBLISHED-TTL:PT1H
BEGIN:VTIMEZONE
TZID:America/New_York
BEGIN:DAYLIGHT
TZOFFSETFROM:-0500
TZOFFSETTO:-0400
TZNAME:EDT
DTSTART:20240310T070000
END:DAYLIGHT
BEGIN:STANDARD
TZOFFSETFROM:-0400
TZOFFSETTO:-0500
TZNAME:EST
DTSTART:20241103T060000
END:STANDARD
BEGIN:DAYLIGHT
TZOFFSETFROM:-0500
TZOFFSETTO:-0400
TZNAME:EDT
DTSTART:20250309T070000
END:DAYLIGHT
BEGIN:STANDARD
TZOFFSETFROM:-0400
TZOFFSETTO:-0500
TZNAME:EST
DTSTART:20251102T060000
END:STANDARD
BEGIN:DAYLIGHT
TZOFFSETFROM:-0500
TZOFFSETTO:-0400
TZNAME:EDT
DTSTART:20260308T070000
END:DAYLIGHT
BEGIN:STANDARD
TZOFFSETFROM:-0400
TZOFFSETTO:-0500
TZNAME:EST
DTSTART:20261101T060000
END:STANDARD
END:VTIMEZONE
BEGIN:VEVENT
DTSTART;TZID=America/New_York:20250929T180000
DTEND;TZID=America/New_York:20250929T210000
DTSTAMP:20260423T185711
CREATED:20250815T171611Z
LAST-MODIFIED:20250815T174610Z
UID:5340-1759168800-1759179600@altoonacommunitytheatre.com
SUMMARY:Boeing Boeing Auditions
DESCRIPTION:Boeing Boeing\nby Marc Camolett\nTranslated by Beverley Cross & Francis Evans\nAudition Dates: Sunday September 28 at 4 PM\nMonday September 29 at 6 PM\nShow Dates: November 13-16\, 2025\nDirected by Tom Menna  \n  \nOpen auditions for this hilarious 1960s farce will take place September 28 at 4 PM and September 29 at 6 PM in the Altoona Community Theatre Rehearsal Hall\, 1213 12th Street\, Downtown Altoona.  \nAuditions will consist of cold readings of scenes and monologues. \nActors must be available for all performances\, listed above. Availability for rehearsals will be asked at auditions\, please be prepared to list all conflicts from auditions to performance dates. If you are unable to attend general auditions\, please contact the ACT Office at least two weeks in advance to discuss scheduling an alternative audition time. \nAuditionees need only attend one night of open auditions unless asked to attend callbacks\, expected to take place October 1 as needed. \n  \nAbout the Show:\nAn uproarious farce with 3 flight attendant fiancées\, 1 bachelor\, and plenty of turbulence. Set in the swinging 1960s\, this riotous comedy follows bachelor Bernard who is juggling secret engagements to three international air hostesses from his Paris apartment. \nWith careful planning and the reliable schedules of the airlines\, his love life runs like clockwork. That is until the introduction of jet planes and a surprise visit from an old school friend brings his precise life to a screeching halt. As Bernard’s carefully separated worlds begin to collide\, the resulting chaos is a first-class ticket to laughter\, making Boeing Boeing an unmissable comedic flight.\n\nPlease note\, this show contains adult humor and situations. \nAvailable Roles \n Bernard – A Parisian bachelor\nGloria – an American air hostess\nBerthe – Bernard’s housekeeper\nRobert – a friend of Bernard’s\nGabriella – an Italian air hostess\nGretchen – a German air hostess \n  \nAll roles are available. No prior theatrical or ACT experience is required.\nRoles are open to diverse & gender-inclusive casting.  Our casting seeks to be as inclusive as possible and we invite gender nonconforming\, genderqueer\, transgender and nonbinary actors to select the roles they most identify with. \n  \nQuestions can be directed to the ACT Office. \nPhone: 814-943-4357 \nEmail: act@altoonacommunitytheatre.com
URL:https://altoonacommunitytheatre.com/event/boeing-boeing-auditions-2/
LOCATION:ACT Rehearsal Hall\, 1213 12th St\, Altoona\, PA\, 16601\, United States
CATEGORIES:Auditions
ATTACH;FMTTYPE=image/png:https://altoonacommunitytheatre.com/wp-content/uploads/2025/08/boeing-boeing-auditions-logo-only-1-e1755279964626.png
ORGANIZER;CN="Altoona Community Theatre":MAILTO:act@altoonacommunitytheatre.com
END:VEVENT
END:VCALENDAR