BEGIN:VCALENDAR
VERSION:2.0
PRODID:-//Altoona Community Theatre - ECPv6.15.20//NONSGML v1.0//EN
CALSCALE:GREGORIAN
METHOD:PUBLISH
X-WR-CALNAME:Altoona Community Theatre
X-ORIGINAL-URL:https://altoonacommunitytheatre.com
X-WR-CALDESC:Events for Altoona Community Theatre
REFRESH-INTERVAL;VALUE=DURATION:PT1H
X-Robots-Tag:noindex
X-PUBLISHED-TTL:PT1H
BEGIN:VTIMEZONE
TZID:America/New_York
BEGIN:DAYLIGHT
TZOFFSETFROM:-0500
TZOFFSETTO:-0400
TZNAME:EDT
DTSTART:20240310T070000
END:DAYLIGHT
BEGIN:STANDARD
TZOFFSETFROM:-0400
TZOFFSETTO:-0500
TZNAME:EST
DTSTART:20241103T060000
END:STANDARD
BEGIN:DAYLIGHT
TZOFFSETFROM:-0500
TZOFFSETTO:-0400
TZNAME:EDT
DTSTART:20250309T070000
END:DAYLIGHT
BEGIN:STANDARD
TZOFFSETFROM:-0400
TZOFFSETTO:-0500
TZNAME:EST
DTSTART:20251102T060000
END:STANDARD
BEGIN:DAYLIGHT
TZOFFSETFROM:-0500
TZOFFSETTO:-0400
TZNAME:EDT
DTSTART:20260308T070000
END:DAYLIGHT
BEGIN:STANDARD
TZOFFSETFROM:-0400
TZOFFSETTO:-0500
TZNAME:EST
DTSTART:20261101T060000
END:STANDARD
END:VTIMEZONE
BEGIN:VEVENT
DTSTART;TZID=America/New_York:20251005T140000
DTEND;TZID=America/New_York:20251005T163000
DTSTAMP:20260423T202400
CREATED:20250930T143219Z
LAST-MODIFIED:20250930T143219Z
UID:5382-1759672800-1759681800@altoonacommunitytheatre.com
SUMMARY:Theatrical Intimacy Workshop
DESCRIPTION:An Introduction to Theatrical Intimacy: Consent and Boundaries is a practical workshop designed to help actors\, directors\, and stage managers create safe\, respectful rehearsal and performance environments. Participants will explore best practices for staging intimacy\, setting clear boundaries\, and establishing consent-based communication. Through guided discussion\, partner activities\, and whole-group exercises\, this workshop provides tools to build trust\, reduce discomfort\, and ensure that storytelling remains both powerful and professional. \nWe welcome theatre practitioners\, educators\, and actors of all experience levels to join us for this important and engaging session. No prior experience with intimacy work is required—just an open mind and a willingness to learn. Whether you’re preparing to stage intimate moments or simply want to strengthen your rehearsal room practices\, this workshop will give you confidence and clarity. Space is limited—register today to reserve your spot and be part of this essential conversation in modern theatre-making. \nSunday October 5\n2PM – 4:30 PM\nACT Rehearsal Hall\n1213 12th St\nAltoona PA 16601\nLIMITED SPACE: Only 26 spots available. Participants must be aged 18+\n$15 for ACT Members\n$30 for Non-members (option to sign up as a member with your registration to save on future workshops) \n  \n\n\n\n\n\n\n\n\n\n\nAbout the Facilitator\n\nJessica Morgan (she/her) is the Head of Graduate Acting and Associate Professor of Stage Movement for BFA/MFA Acting at West Virginia University. Recent highlights of her production work at WVU include Dracula\, a feminist revenge fantasy\, really.\, Phoebe in Winter\, 9 to 5: The Musical\, Cinderella\, Into the Woods\, and Indecent. She is in her fifth season as an Intimacy and Fight Director with The Contemporary Theatre of Ohio where her work includes POTUS: Or\, Behind Every Great Dumbass Are Seven Women Trying to Keep Him Alive\, Big Fish\, Indecent\, Head Over Heels\, and Alice By Heart. She has also worked professionally for Greenbrier Valley Theatre\, Vintage Theatre Company\, Cumberland Theatre Company\, Shepherd University\, and The Contemporary American Theatre Festival doing intimacy and violence. She teaches workshops on consent and intimacy practices for theatre training programs and companies. Jessica is a Certified Intimacy Director with Intimacy Directors and Coordinators (IDC) and is a member of Actors’ Equity Association (AEA). \n  \nRegister Now
URL:https://altoonacommunitytheatre.com/event/intimacy/
LOCATION:ACT Rehearsal Hall\, 1213 12th St\, Altoona\, PA\, 16601\, United States
CATEGORIES:Education/Workshop,Membership Events
ORGANIZER;CN="Altoona Community Theatre":MAILTO:act@altoonacommunitytheatre.com
END:VEVENT
END:VCALENDAR