BEGIN:VCALENDAR
VERSION:2.0
PRODID:-//Altoona Community Theatre - ECPv6.15.20//NONSGML v1.0//EN
CALSCALE:GREGORIAN
METHOD:PUBLISH
X-ORIGINAL-URL:https://altoonacommunitytheatre.com
X-WR-CALDESC:Events for Altoona Community Theatre
REFRESH-INTERVAL;VALUE=DURATION:PT1H
X-Robots-Tag:noindex
X-PUBLISHED-TTL:PT1H
BEGIN:VTIMEZONE
TZID:America/New_York
BEGIN:DAYLIGHT
TZOFFSETFROM:-0500
TZOFFSETTO:-0400
TZNAME:EDT
DTSTART:20190310T070000
END:DAYLIGHT
BEGIN:STANDARD
TZOFFSETFROM:-0400
TZOFFSETTO:-0500
TZNAME:EST
DTSTART:20191103T060000
END:STANDARD
BEGIN:DAYLIGHT
TZOFFSETFROM:-0500
TZOFFSETTO:-0400
TZNAME:EDT
DTSTART:20200308T070000
END:DAYLIGHT
BEGIN:STANDARD
TZOFFSETFROM:-0400
TZOFFSETTO:-0500
TZNAME:EST
DTSTART:20201101T060000
END:STANDARD
BEGIN:DAYLIGHT
TZOFFSETFROM:-0500
TZOFFSETTO:-0400
TZNAME:EDT
DTSTART:20210314T070000
END:DAYLIGHT
BEGIN:STANDARD
TZOFFSETFROM:-0400
TZOFFSETTO:-0500
TZNAME:EST
DTSTART:20211107T060000
END:STANDARD
BEGIN:DAYLIGHT
TZOFFSETFROM:-0500
TZOFFSETTO:-0400
TZNAME:EDT
DTSTART:20220313T070000
END:DAYLIGHT
BEGIN:STANDARD
TZOFFSETFROM:-0400
TZOFFSETTO:-0500
TZNAME:EST
DTSTART:20221106T060000
END:STANDARD
BEGIN:DAYLIGHT
TZOFFSETFROM:-0500
TZOFFSETTO:-0400
TZNAME:EDT
DTSTART:20230312T070000
END:DAYLIGHT
BEGIN:STANDARD
TZOFFSETFROM:-0400
TZOFFSETTO:-0500
TZNAME:EST
DTSTART:20231105T060000
END:STANDARD
BEGIN:DAYLIGHT
TZOFFSETFROM:-0500
TZOFFSETTO:-0400
TZNAME:EDT
DTSTART:20240310T070000
END:DAYLIGHT
BEGIN:STANDARD
TZOFFSETFROM:-0400
TZOFFSETTO:-0500
TZNAME:EST
DTSTART:20241103T060000
END:STANDARD
BEGIN:DAYLIGHT
TZOFFSETFROM:-0500
TZOFFSETTO:-0400
TZNAME:EDT
DTSTART:20250309T070000
END:DAYLIGHT
BEGIN:STANDARD
TZOFFSETFROM:-0400
TZOFFSETTO:-0500
TZNAME:EST
DTSTART:20251102T060000
END:STANDARD
END:VTIMEZONE
BEGIN:VEVENT
DTSTART;TZID=America/New_York:20240817T150000
DTEND;TZID=America/New_York:20240817T180000
DTSTAMP:20260423T143920
CREATED:20240417T135913Z
LAST-MODIFIED:20240813T174713Z
UID:4260-1723906800-1723917600@altoonacommunitytheatre.com
SUMMARY:Rails & Ales Brewfest
DESCRIPTION:Drink for a good cause! Sample beers from your favorite local breweries\, enjoy great food\, and support Altoona Community Theatre. \n\nWhen: August 17\, 2024\nWhere: Heritage Plaza\, 1401 11th Ave\, Downtown Altoona\nRain or Shine Event! \nMore information & tickets at railsandalesaltoona.com \n\n\n\n\nIf you’re interested in being a beer or wine vendor\, food truck\, or Sponsor for the event\, you can get more information at railsandalesaltoona.com\nOR contact the ACT Office at 814-943-4357 or act@altoonacommunitytheatre.com
URL:https://altoonacommunitytheatre.com/event/rails-ales-brewfest-3/
LOCATION:Heritage Plaza\, Downtown Altoona\, Altoona
CATEGORIES:Fundraiser
ATTACH;FMTTYPE=image/png:https://altoonacommunitytheatre.com/wp-content/uploads/2021/04/basic-logo.png
ORGANIZER;CN="Altoona Community Theatre":MAILTO:act@altoonacommunitytheatre.com
END:VEVENT
BEGIN:VEVENT
DTSTART;TZID=America/New_York:20240315T173000
DTEND;TZID=America/New_York:20240315T210000
DTSTAMP:20260423T143920
CREATED:20240228T171051Z
LAST-MODIFIED:20240228T173741Z
UID:4227-1710523800-1710536400@altoonacommunitytheatre.com
SUMMARY:The Villains and the Mystery of the Stolen Curse (Friday)
DESCRIPTION:  \nClick Here to Learn More!
URL:https://altoonacommunitytheatre.com/event/villains2/
LOCATION:US Hotel\, 401 S. Juniata Street\, Hollidaysburg\, PA\, 16648\, United States
CATEGORIES:Fundraiser,Membership Events
ATTACH;FMTTYPE=image/png:https://altoonacommunitytheatre.com/wp-content/uploads/2024/02/The-Villains-and-the-Mystery-of-the-Stolen-Curse-4.png
ORGANIZER;CN="Altoona Community Theatre":MAILTO:act@altoonacommunitytheatre.com
END:VEVENT
BEGIN:VEVENT
DTSTART;TZID=America/New_York:20240314T173000
DTEND;TZID=America/New_York:20240314T210000
DTSTAMP:20260423T143920
CREATED:20240228T170854Z
LAST-MODIFIED:20240228T192647Z
UID:4221-1710437400-1710450000@altoonacommunitytheatre.com
SUMMARY:The Villains and the Mystery of the Stolen Curse (Thursday)
DESCRIPTION:  \nClick Here to Learn More!
URL:https://altoonacommunitytheatre.com/event/villains/
LOCATION:US Hotel\, 401 S. Juniata Street\, Hollidaysburg\, PA\, 16648\, United States
CATEGORIES:Fundraiser,Membership Events
ATTACH;FMTTYPE=image/png:https://altoonacommunitytheatre.com/wp-content/uploads/2024/02/The-Villains-and-the-Mystery-of-the-Stolen-Curse-4.png
ORGANIZER;CN="Altoona Community Theatre":MAILTO:act@altoonacommunitytheatre.com
END:VEVENT
BEGIN:VEVENT
DTSTART;TZID=America/New_York:20240105T193000
DTEND;TZID=America/New_York:20240105T213000
DTSTAMP:20260423T143920
CREATED:20231103T183239Z
LAST-MODIFIED:20240103T142216Z
UID:4058-1704483000-1704490200@altoonacommunitytheatre.com
SUMMARY:Reverse Raffle
DESCRIPTION:  \nOnly 200 tickets will be sold with a chance to win $250 \, $500\, or a grand prize of $1000\nPlus! Second Chance Drawings and Gift Card Drawings throughout the night!\nVirtual Raffle Party\nFriday\, January 5\, 2024 at 7:30 pm\n  \nYou’ll be on the edge of your seat hoping that your name is NOT the next one called\, because once your name is called – you’re out! Cross your fingers and hope that yours is the last name called and the winner of the $1000 cash prize. \nYou’ll receive your email invitation to the exclusive and virtual drawing party after you’ve purchased your raffle tickets. Make sure to get your tickets early so that you can choose your lucky number! \nIt’s sure to be fast-paced and entertaining! \nRaffle tickets with a chance to win $1000 make great holiday gifts for those\nhard-to-buy-for people on your list! \n$50 per ticket. \nTickets on sale now!\nPrefer to purchase your ticket over the phone?  Call 814-943-4357
URL:https://altoonacommunitytheatre.com/event/raffle24/
LOCATION:Virtual\, PA\, United States
CATEGORIES:Fundraiser
ATTACH;FMTTYPE=image/jpeg:https://altoonacommunitytheatre.com/wp-content/uploads/2021/11/reverse-raffle-logo.jpg
ORGANIZER;CN="Altoona Community Theatre":MAILTO:act@altoonacommunitytheatre.com
END:VEVENT
BEGIN:VEVENT
DTSTART;TZID=America/New_York:20231021T173000
DTEND;TZID=America/New_York:20231021T210000
DTSTAMP:20260423T143920
CREATED:20230928T193841Z
LAST-MODIFIED:20231009T163423Z
UID:3914-1697909400-1697922000@altoonacommunitytheatre.com
SUMMARY:Murder at Rutherford Manor @ Coal Country Brewing
DESCRIPTION:Click here to read more!
URL:https://altoonacommunitytheatre.com/event/murdermystery3/
LOCATION:Coal Country Brewing\, 2343 Benjamin Franklin Hwy\, Ebensburg\, 15931
CATEGORIES:Fundraiser,Membership Events
ATTACH;FMTTYPE=image/png:https://altoonacommunitytheatre.com/wp-content/uploads/2023/09/3.png
ORGANIZER;CN="Altoona Community Theatre":MAILTO:act@altoonacommunitytheatre.com
END:VEVENT
BEGIN:VEVENT
DTSTART;TZID=America/New_York:20231020T173000
DTEND;TZID=America/New_York:20231020T210000
DTSTAMP:20260423T143920
CREATED:20230928T193710Z
LAST-MODIFIED:20231009T163356Z
UID:3913-1697823000-1697835600@altoonacommunitytheatre.com
SUMMARY:Murder at Rutherford Manor @ US Hotel
DESCRIPTION:Click here to read more!
URL:https://altoonacommunitytheatre.com/event/murderymystery2/
LOCATION:US Hotel\, 401 S. Juniata Street\, Hollidaysburg\, PA\, 16648\, United States
CATEGORIES:Fundraiser,Membership Events
ATTACH;FMTTYPE=image/png:https://altoonacommunitytheatre.com/wp-content/uploads/2023/09/2-1.png
ORGANIZER;CN="Altoona Community Theatre":MAILTO:act@altoonacommunitytheatre.com
END:VEVENT
BEGIN:VEVENT
DTSTART;TZID=America/New_York:20231019T173000
DTEND;TZID=America/New_York:20231019T210000
DTSTAMP:20260423T143920
CREATED:20230928T193626Z
LAST-MODIFIED:20231009T163338Z
UID:3908-1697736600-1697749200@altoonacommunitytheatre.com
SUMMARY:Murder at Rutherford Manor @ US Hotel
DESCRIPTION:Click here to read more!
URL:https://altoonacommunitytheatre.com/event/murdermystery1/
LOCATION:US Hotel\, 401 S. Juniata Street\, Hollidaysburg\, PA\, 16648\, United States
CATEGORIES:Fundraiser,Membership Events
ATTACH;FMTTYPE=image/png:https://altoonacommunitytheatre.com/wp-content/uploads/2023/09/2-1.png
ORGANIZER;CN="Altoona Community Theatre":MAILTO:act@altoonacommunitytheatre.com
END:VEVENT
BEGIN:VEVENT
DTSTART;TZID=America/New_York:20230819T150000
DTEND;TZID=America/New_York:20230819T180000
DTSTAMP:20260423T143920
CREATED:20230802T185926Z
LAST-MODIFIED:20230802T185926Z
UID:3798-1692457200-1692468000@altoonacommunitytheatre.com
SUMMARY:Rails & Ales Brewfest
DESCRIPTION:What: BOOZE & FOOD & MUSIC\, benefitting ACT\n\n\nWhen: August 19\, 2023\, 3PM – 6PM (2PM for VIPs)\nWhere: Heritage Plaza\, 1401 11th Ave\, Downtown Altoona\n  \n\nDrink for a good cause! Sample beers from your favorite local breweries\, dance to live music\, enjoy great food\, and support Altoona Community Theatre. \nNow located at Heritage Plaza in Downtown Altoona. \n$35 in advance\, $40 at the gate.* \nLIMITED QUANTITY VIP TICKETS AVAILABLE! \n$60 VIP tickets include an extra hour of tasting\, exclusive brews\, and appetizers catered by US Hotel (specialty brews and food only available during VIP hour from 2-3PM). PLUS a Rails & Ales event t-shirt! \n*Processing fees applies to tickets bought online and at the gate \n  \nJoining us this year on the stage is local rock band The Jaded Lips! \n  \nRain or Shine Event! \nTickets available at railsandalesaltoona.com/tickets\n\n\n\n\nIf you’re interested in being a beer or wine vendor\, food truck\, or Sponsor for the event\, you can get more information at railsandalesaltoona.com\nOR contact the ACT Office at 814-943-4357 or act@altoonacommunitytheatre.com
URL:https://altoonacommunitytheatre.com/event/rails-ales-brewfest-2/
LOCATION:Heritage Plaza\, Downtown Altoona\, Altoona
CATEGORIES:Fundraiser
ATTACH;FMTTYPE=image/png:https://altoonacommunitytheatre.com/wp-content/uploads/2021/04/basic-logo.png
ORGANIZER;CN="Altoona Community Theatre":MAILTO:act@altoonacommunitytheatre.com
END:VEVENT
BEGIN:VEVENT
DTSTART;TZID=America/New_York:20230310T173000
DTEND;TZID=America/New_York:20230310T203000
DTSTAMP:20260423T143920
CREATED:20230228T170651Z
LAST-MODIFIED:20230228T184830Z
UID:3508-1678469400-1678480200@altoonacommunitytheatre.com
SUMMARY:Yet Another Murder at Hogwarts
DESCRIPTION:Join us for an evening of mystery & fun with your favorite characters from the world of Harry Potter!\nThings have become very dangerous at Hogwarts\, with yet another murder happening in the magical school. Everyone is locked in the Great Hall. Everyone is a suspect. Can YOU solve the mystery? NOW with even more clues and audience interaction! \nTickets: $40  (gratuity included in ticket price)\nDinner includes an appetizer salad\, dinner buffet\, non-alcoholic beverages\, and dessert. Dinner Buffet includes herb roasted chicken breast\, oven-roasted veggies\, penne pasta primavera with alfredo sauce. Cash bar will be available.\nOptional reduced ticket price for children of $30 to be served chicken fingers and fries ONLY. (This performance is not recommended for children under 8 years old.) \nThursday March 9 or Friday March 10\nDoors open at 5:30 PM\nDinner Served shortly after 6 PM\nUS Hotel\, Hollidaysburg\n  \nClick here for tickets for THURSDAY\nClick here for tickets for  FRIDAY\n\nSchool Uniforms or Dress Robes are encouraged! \nPlease note this location is inside a Muggle-owned building. Use caution while casting spells and remember the International Statute of Wizarding Secrecy! \nThis will be a new mystery to solve from our previous dinners. \n8 wizards per table. We do our best to seat parties together\, but it is not guaranteed. \nQuestions? Please call the ACT Administrative Office at 814-943-4357
URL:https://altoonacommunitytheatre.com/event/hpdinner3/
LOCATION:US Hotel\, 401 S. Juniata Street\, Hollidaysburg\, PA\, 16648\, United States
CATEGORIES:Fundraiser
ORGANIZER;CN="Altoona Community Theatre":MAILTO:act@altoonacommunitytheatre.com
END:VEVENT
BEGIN:VEVENT
DTSTART;TZID=America/New_York:20230309T173000
DTEND;TZID=America/New_York:20230309T203000
DTSTAMP:20260423T143920
CREATED:20230228T163526Z
LAST-MODIFIED:20230228T181915Z
UID:3498-1678383000-1678393800@altoonacommunitytheatre.com
SUMMARY:Yet Another Murder at Hogwarts
DESCRIPTION:Join us for an evening of mystery & fun with your favorite characters from the world of Harry Potter!\nThings have become very dangerous at Hogwarts School\, with yet another murder happening in the magical school. Everyone is locked in the Great Hall. Everyone is a suspect. Can YOU solve the mystery? NOW with even more clues and audience interaction! \nTickets: $40  (gratuity included in ticket price)\nDinner includes an appetizer salad\, dinner buffet\, non-alcoholic beverages\, and dessert. Dinner Buffet includes herb roasted chicken breast\, oven-roasted veggies\, penne pasta primavera with alfredo sauce. Cash bar will be available.\nOptional reduced ticket price for children of $30 to be served chicken fingers and fries ONLY. (This performance is not recommended for children under 8 years old.) \nThursday March 9 or Friday March 10\nDoors open at 5:30 PM\nDinner Served shortly after 6 PM\nUS Hotel\, Hollidaysburg\n  \nClick here for tickets for THURSDAY\nClick here for tickets for  FRIDAY\n\nSchool Uniforms or Dress Robes are encouraged! \nPlease note this location is inside a Muggle-owned building. Use caution while casting spells and remember the International Statute of Wizarding Secrecy! \nThis will be a new mystery to solve from our previous dinners. \n8 wizards per table. We do our best to seat parties together\, but it is not guaranteed. \nQuestions? Please call the ACT Administrative Office at 814-943-4357 \nAs this is a fundraising event that requires meal preparation\, tickets are non-refundable.
URL:https://altoonacommunitytheatre.com/event/hpdinner/
LOCATION:US Hotel\, 401 S. Juniata Street\, Hollidaysburg\, PA\, 16648\, United States
CATEGORIES:Fundraiser
ORGANIZER;CN="Altoona Community Theatre":MAILTO:act@altoonacommunitytheatre.com
END:VEVENT
BEGIN:VEVENT
DTSTART;TZID=America/New_York:20230120T193000
DTEND;TZID=America/New_York:20230120T213000
DTSTAMP:20260423T143920
CREATED:20221118T193445Z
LAST-MODIFIED:20221214T192941Z
UID:3344-1674243000-1674250200@altoonacommunitytheatre.com
SUMMARY:Reverse Raffle
DESCRIPTION:  \nOnly 200 tickets will be sold with a chance to win $250 \, $500\, or a grand prize of $1000\nPlus! Second Chance Drawings and Gift Card Drawings throughout the night!\nVirtual Raffle Party\nFriday\, January 20\, 2023 at 7:30 pm\n  \nYou’ll be on the edge of your seat hoping that your name is NOT the next one called\, because once your name is called – you’re out! Cross your fingers and hope that yours is the last name called and the winner of the $1000 cash prize. \nYou’ll receive your email invitation to the exclusive and virtual drawing party after you’ve purchased your raffle tickets. Make sure to get your tickets early so that you can choose your lucky number! \nOur host for the virtual raffle party is Jonathan O’Harrow & William Baumann. It’s sure to be fast-paced\, entertaining\, and – above all – serendipitous. \nRaffle tickets with a chance to win $1000 make great holiday gifts for those\nhard-to-buy-for people on your list! \n$50 per ticket. \nGet Your Tickets Now!\nPrefer to purchase your ticket over the phone?  Call 814-943-4357
URL:https://altoonacommunitytheatre.com/event/raffle23/
LOCATION:Virtual\, PA\, United States
CATEGORIES:Fundraiser
ATTACH;FMTTYPE=image/jpeg:https://altoonacommunitytheatre.com/wp-content/uploads/2021/11/reverse-raffle-logo.jpg
ORGANIZER;CN="Altoona Community Theatre":MAILTO:act@altoonacommunitytheatre.com
END:VEVENT
BEGIN:VEVENT
DTSTART;TZID=America/New_York:20221007T173000
DTEND;TZID=America/New_York:20221007T203000
DTSTAMP:20260423T143920
CREATED:20220906T204926Z
LAST-MODIFIED:20220913T220234Z
UID:3155-1665163800-1665174600@altoonacommunitytheatre.com
SUMMARY:SOLD OUT: Another Murder at Hogwarts
DESCRIPTION:Tickets for this event are sold out.\nThe Waitlist is also full. Thank you for your interest\, and we hope to have more Murder Mystery Dinners in the future! \n\n\nJoin us for an evening of mystery & fun with your favorite characters from the world of Harry Potter!\nThe school is gathered in The Great Hall for a big holiday feast when the Ministry of Magic bursts in and reveals a tragedy within the walls of Hogwart!  Everyone is locked in the Great Hall. Everyone is a suspect. Can YOU solve the mystery? \nTickets: $40 for Adults\, $30 for children under 12* (gratuity included in ticket price)\nIncludes an appetizer salad\, dinner buffet\, non-alcoholic beverages\, and dessert. Dinner Buffet includes herb roasted chicken breast\, oven-roasted veggies\, penne pasta primavera with alfredo sauce\, chicken fingers\, and fries.\nCash bar will be available.\n*Not recommended for children under 8 years old \nThursday October 6 or Friday October 7\nDoors open at 5:30 PM\nDinner Served shortly after 6 PM\nUS Hotel\, Hollidaysburg\n\nSchool Uniforms or Dress Robes are encouraged! \nPlease note this location is inside a Muggle-owned building. Use caution while casting spells and remember the International Statute of Wizarding Secrecy! \nThis will be a new mystery to solve from our previous dinner in June. \nQuestions? Please call the ACT Administrative Office at 814-943-4357
URL:https://altoonacommunitytheatre.com/event/hpmysterydinner2/
LOCATION:US Hotel\, 401 S. Juniata Street\, Hollidaysburg\, PA\, 16648\, United States
CATEGORIES:Fundraiser
ORGANIZER;CN="Altoona Community Theatre":MAILTO:act@altoonacommunitytheatre.com
END:VEVENT
BEGIN:VEVENT
DTSTART;TZID=America/New_York:20221006T173000
DTEND;TZID=America/New_York:20221006T203000
DTSTAMP:20260423T143920
CREATED:20220906T204504Z
LAST-MODIFIED:20220913T215505Z
UID:3145-1665077400-1665088200@altoonacommunitytheatre.com
SUMMARY:SOLD OUT: Another Murder at Hogwarts
DESCRIPTION:Tickets for this event are sold out.\nThe Waitlist is also full. Thank you for your interest\, and we hope to have more Murder Mystery Dinners in the future! \n\n\nJoin us for an evening of mystery & fun with your favorite characters from the world of Harry Potter!\nThe school is gathered in The Great Hall for a big holiday feast when the Ministry of Magic bursts in and reveals a tragedy within the walls of Hogwart!  Everyone is locked in the Great Hall. Everyone is a suspect. Can YOU solve the mystery? \nTickets: $40 for Adults\, $30 for children under 12* (gratuity included in ticket price)\nIncludes an appetizer salad\, dinner buffet\, non-alcoholic beverages\, and dessert. Dinner Buffet includes herb roasted chicken breast\, oven-roasted veggies\, penne pasta primavera with alfredo sauce\, chicken fingers\, and fries.\nCash bar will be available.\n*Not recommended for children under 8 years old \nThursday October 6 or Friday October 7\nDoors open at 5:30 PM\nDinner Served shortly after 6 PM\nUS Hotel\, Hollidaysburg\n\nSchool Uniforms or Dress Robes are encouraged! \nPlease note this location is inside a Muggle-owned building. Use caution while casting spells and remember the International Statute of Wizarding Secrecy! \nThis will be a new mystery to solve from our previous dinner in June. \nQuestions? Please call the ACT Administrative Office at 814-943-4357
URL:https://altoonacommunitytheatre.com/event/hpmysterdinner1/
LOCATION:US Hotel\, 401 S. Juniata Street\, Hollidaysburg\, PA\, 16648\, United States
CATEGORIES:Fundraiser
ORGANIZER;CN="Altoona Community Theatre":MAILTO:act@altoonacommunitytheatre.com
END:VEVENT
BEGIN:VEVENT
DTSTART;TZID=America/New_York:20220820T150000
DTEND;TZID=America/New_York:20220820T180000
DTSTAMP:20260423T143920
CREATED:20220520T183653Z
LAST-MODIFIED:20220818T144438Z
UID:2987-1661007600-1661018400@altoonacommunitytheatre.com
SUMMARY:Rails & Ales Brewfest
DESCRIPTION:What: BOOZE & FOOD & MUSIC\, benefitting ACT\n\n\nWhen: August 20\, 2022\, 3PM – 6PM (2PM for VIPs)\nWhere: Heritage Plaza\, 1401 11th Ave\, Downtown Altoona\n  \n\nDrink for a good cause! Sample beers from your favorite local breweries\, dance to live music\, enjoy great food\, and support Altoona Community Theatre. \nNow located at Heritage Plaza in Downtown Altoona. \n$35 in advance\, $40 at the gate.* \nUSE PROMO CODE EARLYBIRD for an additional $5 off tickets bought before August 1. \nLIMITED QUANTITY VIP TICKETS AVAILABLE! \n$60 VIP tickets include an extra hour of tasting\, exclusive brews\, and appetizers catered by US Hotel (specialty brews and food only available during VIP hour from 2-3PM). PLUS a Rails & Ales event t-shirt! \nJoining us this year on the stage is local funk band The PennSOULvanians! \nRain or Shine Event! \nTickets available July 5 at railsandalesaltoona.com/tickets\n\n\n\n\nIf you’re interested in being a beer or wine vendor\, food truck\, or Sponsor for the event\, you can get more information at railsandalesaltoona.com\nOR contact the ACT Office at 814-943-4357 or act@altoonacommunitytheatre.com
URL:https://altoonacommunitytheatre.com/event/rails-ales-brewfest/
LOCATION:Heritage Plaza\, Downtown Altoona\, Altoona
CATEGORIES:Fundraiser
ATTACH;FMTTYPE=image/png:https://altoonacommunitytheatre.com/wp-content/uploads/2021/04/basic-logo.png
ORGANIZER;CN="Altoona Community Theatre":MAILTO:act@altoonacommunitytheatre.com
END:VEVENT
BEGIN:VEVENT
DTSTART;TZID=America/New_York:20220624T133000
DTEND;TZID=America/New_York:20220624T170000
DTSTAMP:20260423T143920
CREATED:20220520T175750Z
LAST-MODIFIED:20220526T150443Z
UID:2983-1656077400-1656090000@altoonacommunitytheatre.com
SUMMARY:SOLD OUT! US Hotel Murder Mystery Dinner
DESCRIPTION:Join us for an evening of mystery & fun with your favorite characters from the world of Harry Potter!\nThe school is gathered in The Great Hall for a big holiday feast when the Ministry of Magic bursts in and reveals a tragedy within the walls of Hogwarts!  Everyone is locked in the Great Hall. Everyone is a suspect. Can YOU solve the mystery? \nTickets: $40 for Adults\, $30 for children under 12* (gratuity included in ticket price) Includes an appetizer salad\, dinner buffet\, non-alcoholic beverages\, and dessert. Dinner Buffet includes herb roasted chicken breast\, oven-roasted veggies\, penne pasta primavera with alfredo sauce\, chicken fingers\, and fries. Cash bar will be available. *Not recommended for children under 8 years old \nJune 24th\, 5:30 pm US Hotel\, Hollidaysburg\nSchool Uniforms or Dress Robes are encouraged!\nPlease note this location is inside a Muggle-owned building. Use caution while casting spells and remember the International Statute of Wizarding Secrecy! \nGET TICKETS NOW\nSeating subject to availability. No tickets will be sold at the door. \nQuestions? Please call the ACT Administrative Office at 814-943-4357 \n 
URL:https://altoonacommunitytheatre.com/event/hpmystery/
LOCATION:US Hotel\, 401 S. Juniata Street\, Hollidaysburg\, PA\, 16648\, United States
CATEGORIES:Fundraiser
ORGANIZER;CN="Altoona Community Theatre":MAILTO:act@altoonacommunitytheatre.com
END:VEVENT
BEGIN:VEVENT
DTSTART;TZID=America/New_York:20220107T193000
DTEND;TZID=America/New_York:20220107T213000
DTSTAMP:20260423T143920
CREATED:20211116T192527Z
LAST-MODIFIED:20211216T194534Z
UID:2630-1641583800-1641591000@altoonacommunitytheatre.com
SUMMARY:Reverse Raffle
DESCRIPTION:Only 200 tickets will be sold with a chance to win $250 \, $500\, or a grand prize of $1500\nPlus! Second Chance Drawings and Gift Card Drawings\nVirtual Raffle Party\nFriday\, January 7\, 2022 at 7:30 pm\nSponsored by: \n\nYou’ll be on the edge of your seat hoping that your name is NOT the next one called\, because once your name is called – you’re out! Cross your fingers and hope that yours is the last name called and the winner of the $1500 cash prize\, sponsored by Jackson Hewitt Tax Service! \nYou’ll receive your email invitation to the exclusive and virtual drawing party after you’ve purchased your raffle tickets. Make sure to get your tickets early so that you can choose your lucky number! \nRaffle tickets with a chance to win $1000 make great holiday gifts for those\nhard-to-buy-for people on your list! \n$50 per ticket. \nGet Your Tickets Now!\nPrefer to purchase your ticket over the phone?  Call 814-943-4357
URL:https://altoonacommunitytheatre.com/event/reverseraffle22/
LOCATION:Virtual\, PA\, United States
CATEGORIES:Fundraiser
ATTACH;FMTTYPE=image/jpeg:https://altoonacommunitytheatre.com/wp-content/uploads/2021/11/reverse-raffle-logo.jpg
ORGANIZER;CN="Altoona Community Theatre":MAILTO:act@altoonacommunitytheatre.com
END:VEVENT
BEGIN:VEVENT
DTSTART;TZID=America/New_York:20210821T150000
DTEND;TZID=America/New_York:20210821T180000
DTSTAMP:20260423T143920
CREATED:20210426T203806Z
LAST-MODIFIED:20210621T195117Z
UID:2271-1629558000-1629568800@altoonacommunitytheatre.com
SUMMARY:Rails & Ales Brewfest 2021
DESCRIPTION:Tickets on Sale Now!\n \n  \nMORE THAN 80 CRAFT BREWS.\nLIVE MUSIC. GREAT FOOD.\n8/21/21. 3PM-6PM.\nNEW LOCATION!\nHERITAGE PLAZA\nRAIN OR SHINE
URL:https://altoonacommunitytheatre.com/event/rails-ales-brewfest-2021/
LOCATION:Heritage Plaza\, 1401-07 11th Avenue\, Altoona\, PA\, 16601\, United States
CATEGORIES:Fundraiser
ATTACH;FMTTYPE=image/png:https://altoonacommunitytheatre.com/wp-content/uploads/2021/04/basic-logo.png
ORGANIZER;CN="Altoona Community Theatre":MAILTO:act@altoonacommunitytheatre.com
END:VEVENT
BEGIN:VEVENT
DTSTART;TZID=America/New_York:20201211T193000
DTEND;TZID=America/New_York:20201211T210000
DTSTAMP:20260423T143920
CREATED:20201124T185833Z
LAST-MODIFIED:20201202T133013Z
UID:2059-1607715000-1607720400@altoonacommunitytheatre.com
SUMMARY:Rail City Improv - Naughty or Nice Edition
DESCRIPTION:Join Rail City Improv for holiday-themed shenanigans on December 11th at 7:30 pm! \nRegister to attend this virtual performance HERE \nRCI recommends having a bourbon-laced eggnog\, maybe two\, before the show. \nFeaturing Jonathan O’Harrow\, Gigi Campbell\, Karen Volpe\, Ben Cossitor\, Tara Enedy\, and Mark & Maria Perehinec \nDonations to support Altoona Community Theatre are gladly accepted! \n 
URL:https://altoonacommunitytheatre.com/event/rail-city-improv-naughty-or-nice-edition/
LOCATION:Virtual\, PA\, United States
CATEGORIES:Fundraiser
ATTACH;FMTTYPE=image/jpeg:https://altoonacommunitytheatre.com/wp-content/uploads/2020/11/RailCityLogo-2.jpg
ORGANIZER;CN="Altoona Community Theatre":MAILTO:act@altoonacommunitytheatre.com
END:VEVENT
END:VCALENDAR