BEGIN:VCALENDAR
VERSION:2.0
PRODID:-//Altoona Community Theatre - ECPv6.15.20//NONSGML v1.0//EN
CALSCALE:GREGORIAN
METHOD:PUBLISH
X-WR-CALNAME:Altoona Community Theatre
X-ORIGINAL-URL:https://altoonacommunitytheatre.com
X-WR-CALDESC:Events for Altoona Community Theatre
REFRESH-INTERVAL;VALUE=DURATION:PT1H
X-Robots-Tag:noindex
X-PUBLISHED-TTL:PT1H
BEGIN:VTIMEZONE
TZID:America/New_York
BEGIN:DAYLIGHT
TZOFFSETFROM:-0500
TZOFFSETTO:-0400
TZNAME:EDT
DTSTART:20240310T070000
END:DAYLIGHT
BEGIN:STANDARD
TZOFFSETFROM:-0400
TZOFFSETTO:-0500
TZNAME:EST
DTSTART:20241103T060000
END:STANDARD
BEGIN:DAYLIGHT
TZOFFSETFROM:-0500
TZOFFSETTO:-0400
TZNAME:EDT
DTSTART:20250309T070000
END:DAYLIGHT
BEGIN:STANDARD
TZOFFSETFROM:-0400
TZOFFSETTO:-0500
TZNAME:EST
DTSTART:20251102T060000
END:STANDARD
BEGIN:DAYLIGHT
TZOFFSETFROM:-0500
TZOFFSETTO:-0400
TZNAME:EDT
DTSTART:20260308T070000
END:DAYLIGHT
BEGIN:STANDARD
TZOFFSETFROM:-0400
TZOFFSETTO:-0500
TZNAME:EST
DTSTART:20261101T060000
END:STANDARD
BEGIN:DAYLIGHT
TZOFFSETFROM:-0500
TZOFFSETTO:-0400
TZNAME:EDT
DTSTART:20270314T070000
END:DAYLIGHT
BEGIN:STANDARD
TZOFFSETFROM:-0400
TZOFFSETTO:-0500
TZNAME:EST
DTSTART:20271107T060000
END:STANDARD
END:VTIMEZONE
BEGIN:VEVENT
DTSTART;TZID=America/New_York:20250628T100000
DTEND;TZID=America/New_York:20250628T130000
DTSTAMP:20260425T212953
CREATED:20250604T142749Z
LAST-MODIFIED:20250829T172104Z
UID:5172-1751104800-1751115600@altoonacommunitytheatre.com
SUMMARY:Book Swap
DESCRIPTION:ACT Book Swap \n\n\nNeed to make room on your bookshelf? Want to make sure your previously read books find a good home? Need a vacation read but don’t want to risk your fancy matching book sets? Need new reading suggestions? Simply LOVE reading and talking about it? \n\n\nCome to ACT’s Book Swap! \n\n\nBring books that you would like to find loving homes for\, come to browse through others’ collections\, or do both! You are not required to bring books in order to take some\, and there is no need for a one-for-one exchange at this event. \n\n\nSaturday June 28th 10AM to 1PM \n\n\nACT Rehearsal Hall\, 1213 12t Street\, Downtown Altoona \n\n\n$5 entrance fee per person\, benefitting Altoona Community Theatre \n\n\nEach guest 21+ gets one complimentary mimosa to sip while they browse! (Must have ID) \n\n\nHelp us get a head count (and enough champagne) by paying in advance here.\nEarly registrations accepted until 10 AM on Friday June 27\, after that your entrance fee will be taken at the door (cash or card). \nIf you’ll be bringing a lot of books and want table space\, please purchase an “I need a table” ticket instead of general admission (the price is the same!)
URL:https://altoonacommunitytheatre.com/event/book-swap1/
LOCATION:ACT Rehearsal Hall\, 1213 12th St\, Altoona\, PA\, 16601\, United States
CATEGORIES:Fundraiser,Membership Events
ATTACH;FMTTYPE=image/png:https://altoonacommunitytheatre.com/wp-content/uploads/2025/06/Instagram-Post-Join-Our-Book-Swap-Event-1-e1749046745576.png
ORGANIZER;CN="Altoona Community Theatre":MAILTO:act@altoonacommunitytheatre.com
END:VEVENT
BEGIN:VEVENT
DTSTART;TZID=America/New_York:20250721T110000
DTEND;TZID=America/New_York:20250721T220000
DTSTAMP:20260425T212953
CREATED:20250605T145811Z
LAST-MODIFIED:20250605T145811Z
UID:5179-1753095600-1753135200@altoonacommunitytheatre.com
SUMMARY:Red Robin Fundraiser
DESCRIPTION:Altoona Community Theatre will receive 20% of fundraiser sales at Red Robin on Jul 21\, 2025!\n\nShow the flyer above or simply mentioned the fundraiser to your server at Red Robin (Altoona) when you dine in to count your meal!\nYou can also contribute by ordering online at redrobin.com or on the Red Robin mobile app. For online and mobile app orders you must add the fundraiser to your cart before you check out for the sales to count towards the fundraiser.
URL:https://altoonacommunitytheatre.com/event/red-robin-fundraiser/
LOCATION:Red Robin\, Altoona
CATEGORIES:Fundraiser,Membership Events
ATTACH;FMTTYPE=image/jpeg:https://altoonacommunitytheatre.com/wp-content/uploads/2025/06/l-intro-1743078659-e1749135479174.jpg
ORGANIZER;CN="Altoona Community Theatre":MAILTO:act@altoonacommunitytheatre.com
END:VEVENT
BEGIN:VEVENT
DTSTART;TZID=America/New_York:20250823T150000
DTEND;TZID=America/New_York:20250823T160000
DTSTAMP:20260425T212953
CREATED:20250807T173419Z
LAST-MODIFIED:20250807T173419Z
UID:5324-1755961200-1755964800@altoonacommunitytheatre.com
SUMMARY:Cinderella Tea Party
DESCRIPTION:Join ACT for an enchanting afternoon with the characters of Cinderella! Hosted at Mayfield in the beautiful & historic Capitol Hotel on the Hollidaysburg Diamond\, this tea party will be a fairy tale come to life for children and their families. \nOur royal guests include Cinderella\, Prince Topher\, The Fairy Godmother\, and a few of Cinderella’s friends. They will join you for a light meal and tea starting promptly at 3 PM\, to be followed by a musical medley from the show\, photo memories\, and fun crafts until 4 PM. \nWe encourage you and your little ones to dress in fairytale costumes\, prince/princess outfits\, or tea party attire. Our royalty will be dressed in gowns and formal regalia\, so you can’t be over-dressed! \n$25 per person*\nLimited space available\, so don’t wait to reserve you ticket to this magical event! \nRodgers + Hammerstein’s Cinderella performs September 18-21 in the Historic Mishler Theatre. Each tea party attendee will receive a coupon for discounted tickets to the show\, to be redeemed when tickets go on sale starting September 2.\n\n*This event may be best enjoyed by children age 4 & up.\nAll those who attend must buy a ticket. Children under 13 must be accompanied by an adult. \n\nFor questions\, please call the ACT Office at 814-943-4357 \n  \nMayfield at the Capitol Hotel\n300 Allegheny Street\nHollidaysburg\, PA 16648 \n \n 
URL:https://altoonacommunitytheatre.com/event/tea/
LOCATION:Mayfield at the Capitol Hotel\, 300 Allegheny st\, Hollidaysburg\, PA\, 16648\, United States
CATEGORIES:Fundraiser
ATTACH;FMTTYPE=image/png:https://altoonacommunitytheatre.com/wp-content/uploads/2025/08/Untitled-design-43-e1754494535606.png
ORGANIZER;CN="Altoona Community Theatre":MAILTO:act@altoonacommunitytheatre.com
END:VEVENT
BEGIN:VEVENT
DTSTART;TZID=America/New_York:20250913T100000
DTEND;TZID=America/New_York:20250913T130000
DTSTAMP:20260425T212953
CREATED:20250829T172701Z
LAST-MODIFIED:20250829T185713Z
UID:5354-1757757600-1757768400@altoonacommunitytheatre.com
SUMMARY:Book Swap
DESCRIPTION:Need to make room on your bookshelf?\nWant to make sure your previously read books find a good home?\nNeed a vacation read but don’t want to risk your fancy matching book sets?\nNeed new reading suggestions?\nSimply LOVE reading and talking about it? \nCome to ACT’s Book Swap!\nBring books that you would like to find loving homes for\, come to browse through others’ collections\, or do both!\nYou are not required to bring books in order to take some\, and there is no need for a one-for-one exchange at this event. \nSaturday September 13th\, 10AM to 1PM \nACT Rehearsal Hall\, 1213 12th Street\, Downtown Altoona \n$5 entrance fee per person\, benefitting Altoona Community Theatre \nEarly registrations accepted until 10 AM on Friday September 12\, after that your entrance fee will be taken at the door \nTICKET CHOICES:\n \n\nIf you are bringing many books\, please request a table to put them on (no additional cost)*\nIf you are just coming to browse\, or will only have a few books you can carry\, you can select a regular ticket.\nNEW: Kids corner! We would love for kids to bring their books to exchange too. To make sure we have enough space and books for it to be enjoyable\, please select if a ticket is for a child reading anything below young adult.\n\nEach guest 21+ gets one complimentary mimosa to sip while they browse! (Must have ID) \nSign up now!\n*Books brought with you to the swap MUST be taken with you when you leave. We do not have storage space to keep books in between swaps\, nor do we want them as a donation. \n 
URL:https://altoonacommunitytheatre.com/event/bookswap/
LOCATION:ACT Rehearsal Hall\, 1213 12th St\, Altoona\, PA\, 16601\, United States
CATEGORIES:Fundraiser,Membership Events
ATTACH;FMTTYPE=image/png:https://altoonacommunitytheatre.com/wp-content/uploads/2025/06/Instagram-Post-Join-Our-Book-Swap-Event-1-e1749046745576.png
ORGANIZER;CN="Altoona Community Theatre":MAILTO:act@altoonacommunitytheatre.com
END:VEVENT
BEGIN:VEVENT
DTSTART;TZID=America/New_York:20251001T183000
DTEND;TZID=America/New_York:20251001T203000
DTSTAMP:20260425T212953
CREATED:20250923T192820Z
LAST-MODIFIED:20250923T192820Z
UID:5415-1759343400-1759350600@altoonacommunitytheatre.com
SUMMARY:Trivia at The Pipe Room
DESCRIPTION:Altoona Community Theatre is pleased to be a guest host for Trivia Night at the Pipe Room! \nJoin MC Jerry Cox in the basement of the Capitol Hotel Wednesday October 1. Trivia starts at 6:30\, so come by a little early to grab a table\, drinks\, and delicious food! \nPart of the proceeds of the evening will be donated to ACT. \n  \nThe Pipe Room\n302 Allegheny St\, Hollidaysburg\, PA 16648 \nhttps://www.mayfieldhollidaysburg.com/about-3
URL:https://altoonacommunitytheatre.com/event/trivia-at-the-pipe-room/
LOCATION:PA
CATEGORIES:Fundraiser,Membership Events
END:VEVENT
BEGIN:VEVENT
DTSTART;TZID=America/New_York:20251029T150000
DTEND;TZID=America/New_York:20251029T213000
DTSTAMP:20260425T212953
CREATED:20251013T171801Z
LAST-MODIFIED:20251015T134528Z
UID:5481-1761750000-1761773400@altoonacommunitytheatre.com
SUMMARY:Texas Roadhouse Fundraiser
DESCRIPTION:  \nEat Delicious Food\, Support Local Theatre! \nGet dinner at Texas Roadhouse in Altoona from 3 PM-10 PM on Wednesday October 29 to support Altoona Community Theatre! \nAll you have to do is show this flyer (digitally is fine) and 10% of your order comes back to ACT. \nSET A REMINDER: https://calget.com/w4lbcmes \n  \nPS ACT Members: We have a General Membership Meeting this same evening starting at 6 PM! Come by ACT for a quick update\, then have dinner with your theatre friends!
URL:https://altoonacommunitytheatre.com/event/texas-roadhouse-fundraiser/
LOCATION:PA
CATEGORIES:Fundraiser,Membership Events
ATTACH;FMTTYPE=image/png:https://altoonacommunitytheatre.com/wp-content/uploads/2025/10/Texas-Roadhouse-Emblem-scaled-e1760535910549.png
ORGANIZER;CN="Altoona Community Theatre":MAILTO:act@altoonacommunitytheatre.com
END:VEVENT
BEGIN:VEVENT
DTSTART;TZID=America/New_York:20260127T110000
DTEND;TZID=America/New_York:20260127T230000
DTSTAMP:20260425T212953
CREATED:20260109T184558Z
LAST-MODIFIED:20260109T184558Z
UID:5760-1769511600-1769554800@altoonacommunitytheatre.com
SUMMARY:Primanti Bros Dine to Donate
DESCRIPTION:  \nEat Delicious Food\, Support Local Theatre! \nDine at or order to go from Primanti Bros in Altoona from 11 AM-11 PM on Tuesday January 27 to support Altoona Community Theatre! \nAll you have to do is show this flyer (digitally is fine) when dining in\, or use code DINE2DONATE when ordering online. \n20% of proceeds will come back to ACT! \nSET A REMINDER: https://calget.com/0cdc7vmz
URL:https://altoonacommunitytheatre.com/event/primantisfundraiser/
LOCATION:PA
CATEGORIES:Fundraiser,Membership Events
ATTACH;FMTTYPE=image/png:https://altoonacommunitytheatre.com/wp-content/uploads/2026/01/primantis-logo-e1767984322946.png
ORGANIZER;CN="Altoona Community Theatre":MAILTO:act@altoonacommunitytheatre.com
END:VEVENT
BEGIN:VEVENT
DTSTART;TZID=America/New_York:20260506T110000
DTEND;TZID=America/New_York:20260506T210000
DTSTAMP:20260425T212953
CREATED:20260326T171100Z
LAST-MODIFIED:20260326T171100Z
UID:5948-1778065200-1778101200@altoonacommunitytheatre.com
SUMMARY:Red Robin Fundraiser
DESCRIPTION:Altoona Community Theatre will receive 20% of fundraiser sales at Red Robin on May 6\, 2026!\n\nShow the flyer above or simply mentioned the fundraiser to your server at Red Robin (Altoona) when you dine in to count your meal!\nYou can also contribute by ordering online at redrobin.com or on the Red Robin mobile app. For online and mobile app orders you must add the fundraiser to your cart before you check out for the sales to count towards the fundraiser.
URL:https://altoonacommunitytheatre.com/event/red-robin-fundraiser-2/
LOCATION:Red Robin\, Altoona
CATEGORIES:Fundraiser,Membership Events
ATTACH;FMTTYPE=image/jpeg:https://altoonacommunitytheatre.com/wp-content/uploads/2025/06/l-intro-1743078659-e1749135479174.jpg
ORGANIZER;CN="Altoona Community Theatre":MAILTO:act@altoonacommunitytheatre.com
END:VEVENT
END:VCALENDAR