BEGIN:VCALENDAR
VERSION:2.0
PRODID:-//Altoona Community Theatre - ECPv6.15.20//NONSGML v1.0//EN
CALSCALE:GREGORIAN
METHOD:PUBLISH
X-WR-CALNAME:Altoona Community Theatre
X-ORIGINAL-URL:https://altoonacommunitytheatre.com
X-WR-CALDESC:Events for Altoona Community Theatre
REFRESH-INTERVAL;VALUE=DURATION:PT1H
X-Robots-Tag:noindex
X-PUBLISHED-TTL:PT1H
BEGIN:VTIMEZONE
TZID:America/New_York
BEGIN:DAYLIGHT
TZOFFSETFROM:-0500
TZOFFSETTO:-0400
TZNAME:EDT
DTSTART:20240310T070000
END:DAYLIGHT
BEGIN:STANDARD
TZOFFSETFROM:-0400
TZOFFSETTO:-0500
TZNAME:EST
DTSTART:20241103T060000
END:STANDARD
BEGIN:DAYLIGHT
TZOFFSETFROM:-0500
TZOFFSETTO:-0400
TZNAME:EDT
DTSTART:20250309T070000
END:DAYLIGHT
BEGIN:STANDARD
TZOFFSETFROM:-0400
TZOFFSETTO:-0500
TZNAME:EST
DTSTART:20251102T060000
END:STANDARD
BEGIN:DAYLIGHT
TZOFFSETFROM:-0500
TZOFFSETTO:-0400
TZNAME:EDT
DTSTART:20260308T070000
END:DAYLIGHT
BEGIN:STANDARD
TZOFFSETFROM:-0400
TZOFFSETTO:-0500
TZNAME:EST
DTSTART:20261101T060000
END:STANDARD
END:VTIMEZONE
BEGIN:VEVENT
DTSTART;TZID=America/New_York:20250707T190000
DTEND;TZID=America/New_York:20250707T200000
DTSTAMP:20260424T051011
CREATED:20250702T205344Z
LAST-MODIFIED:20250702T205437Z
UID:5254-1751914800-1751918400@altoonacommunitytheatre.com
SUMMARY:General Membership Meeting
DESCRIPTION:Join us for a General Membership Meeting Monday July 7 at 7PM in the ACT Rehearsal Hall.\n\nIf you can’t make it in person\, you can join us by Zoom: https://us02web.zoom.us/j/83009264828?pwd=j5ocaFpWNXpakXJdu4U8Gmsjb4MNKE.1\n\n\n“Cinderella” director Bryce Cossitor will be in attendance to discuss auditions\, so come ask him all your questions!\n\nWe will also touch base on recent and upcoming events\, as well as some big building changes.\n\nThe meeting is open to Non-Members! Come meet us and let us know your interests.\n\nJoin as Member or to Renew Your Membership:\nhttps://altoonacommunitytheatre.com/membership/
URL:https://altoonacommunitytheatre.com/event/general-membership-meeting-7/
LOCATION:ACT Rehearsal Hall\, 1213 12th St\, Altoona\, PA\, 16601\, United States
CATEGORIES:Meetings,Membership Events
ATTACH;FMTTYPE=image/png:https://altoonacommunitytheatre.com/wp-content/uploads/2022/10/2-e1666294840477.png
ORGANIZER;CN="Altoona Community Theatre":MAILTO:act@altoonacommunitytheatre.com
END:VEVENT
BEGIN:VEVENT
DTSTART;TZID=America/New_York:20250721T110000
DTEND;TZID=America/New_York:20250721T220000
DTSTAMP:20260424T051011
CREATED:20250605T145811Z
LAST-MODIFIED:20250605T145811Z
UID:5179-1753095600-1753135200@altoonacommunitytheatre.com
SUMMARY:Red Robin Fundraiser
DESCRIPTION:Altoona Community Theatre will receive 20% of fundraiser sales at Red Robin on Jul 21\, 2025!\n\nShow the flyer above or simply mentioned the fundraiser to your server at Red Robin (Altoona) when you dine in to count your meal!\nYou can also contribute by ordering online at redrobin.com or on the Red Robin mobile app. For online and mobile app orders you must add the fundraiser to your cart before you check out for the sales to count towards the fundraiser.
URL:https://altoonacommunitytheatre.com/event/red-robin-fundraiser/
LOCATION:Red Robin\, Altoona
CATEGORIES:Fundraiser,Membership Events
ATTACH;FMTTYPE=image/jpeg:https://altoonacommunitytheatre.com/wp-content/uploads/2025/06/l-intro-1743078659-e1749135479174.jpg
ORGANIZER;CN="Altoona Community Theatre":MAILTO:act@altoonacommunitytheatre.com
END:VEVENT
END:VCALENDAR