BEGIN:VCALENDAR
VERSION:2.0
PRODID:-//Altoona Community Theatre - ECPv6.15.20//NONSGML v1.0//EN
CALSCALE:GREGORIAN
METHOD:PUBLISH
X-WR-CALNAME:Altoona Community Theatre
X-ORIGINAL-URL:https://altoonacommunitytheatre.com
X-WR-CALDESC:Events for Altoona Community Theatre
REFRESH-INTERVAL;VALUE=DURATION:PT1H
X-Robots-Tag:noindex
X-PUBLISHED-TTL:PT1H
BEGIN:VTIMEZONE
TZID:America/New_York
BEGIN:DAYLIGHT
TZOFFSETFROM:-0500
TZOFFSETTO:-0400
TZNAME:EDT
DTSTART:20240310T070000
END:DAYLIGHT
BEGIN:STANDARD
TZOFFSETFROM:-0400
TZOFFSETTO:-0500
TZNAME:EST
DTSTART:20241103T060000
END:STANDARD
BEGIN:DAYLIGHT
TZOFFSETFROM:-0500
TZOFFSETTO:-0400
TZNAME:EDT
DTSTART:20250309T070000
END:DAYLIGHT
BEGIN:STANDARD
TZOFFSETFROM:-0400
TZOFFSETTO:-0500
TZNAME:EST
DTSTART:20251102T060000
END:STANDARD
BEGIN:DAYLIGHT
TZOFFSETFROM:-0500
TZOFFSETTO:-0400
TZNAME:EDT
DTSTART:20260308T070000
END:DAYLIGHT
BEGIN:STANDARD
TZOFFSETFROM:-0400
TZOFFSETTO:-0500
TZNAME:EST
DTSTART:20261101T060000
END:STANDARD
END:VTIMEZONE
BEGIN:VEVENT
DTSTART;TZID=America/New_York:20251205T183000
DTEND;TZID=America/New_York:20251205T213000
DTSTAMP:20260423T172411
CREATED:20251106T191127Z
LAST-MODIFIED:20251119T151755Z
UID:5635-1764959400-1764970200@altoonacommunitytheatre.com
SUMMARY:ACT Membership Holiday Party
DESCRIPTION:All ACT Members and Active Volunteers are invited to a Holiday Party on December 5 in the ACT Rehearsal Hall.\nPlease join us for Pizza & Festivities to celebrate the season & our theatre family. \nWe ask that you please RSVP by December 3 to act@altoonacommunitytheatre.com \n\nPizza & Soda Provided\nBring a snack to share if you’re able\nBYO Adult Beverages (Must Have ID)\nThe ACT Great Gift Give Away begins at 7:30PM\nACT Members or Volunteers from an 2025 show\, event\, etc. only\, but you may bring a Non-Member Guest\n\nMemberships run with our Theatre Season\, July 1 to June 30 of the following year. Please make sure your membership dues for this season are paid.\nOnline Membership Registration (New members welcome!)\n\n\n\n  \nMORE INFORMATION: \nThe ACT Great Gift Give Away: Each guest who wants to participate brings one “White-Elephant” Gift. This gift can be a silly item\, a random object cluttering up your house you want to get rid of\, or\, if you choose to purchase something\, any gift under $30—just make sure whatever it is\, you wrap it pretty! Rules will be explained at the party. You may walk away with a nice present\, a useless trinket\, or maybe nothing at all. It’s a game of chance\, speed\, and theft. Similar to paper bag awards\, it’s an honor to play\, but not always an honor to win. \n  \nDrinking Rules: All ACT functions that involve alcoholic beverages are served by a RAMP certified bartender. Even in the case of Bring Your Own Booze such as this party\, you must turn your drinks over to the bartender and provide an ID. (We don’t care how old you look– No ID\, no wristband\, no drinking!) Your drinks will then be served to you in appropriate portions to make sure everyone is drinking responsibly. ACT pays for the bartender’s fee\, but tips from our party guests are appreciated. \n  \nPossible other games & activities to follow the Gift Give Away. Bartender stops serving at 9:30PM & Party officially ends at 10:00PM \nWe hope too see you there!
URL:https://altoonacommunitytheatre.com/event/act-membership-holiday-party-5/
LOCATION:ACT Rehearsal Hall\, 1213 12th St\, Altoona\, PA\, 16601\, United States
CATEGORIES:Membership Events
ATTACH;FMTTYPE=image/png:https://altoonacommunitytheatre.com/wp-content/uploads/2021/12/Membership-Party-2.png
ORGANIZER;CN="Altoona Community Theatre":MAILTO:act@altoonacommunitytheatre.com
END:VEVENT
END:VCALENDAR