BEGIN:VCALENDAR
VERSION:2.0
PRODID:-//Altoona Community Theatre - ECPv6.15.20//NONSGML v1.0//EN
CALSCALE:GREGORIAN
METHOD:PUBLISH
X-ORIGINAL-URL:https://altoonacommunitytheatre.com
X-WR-CALDESC:Events for Altoona Community Theatre
REFRESH-INTERVAL;VALUE=DURATION:PT1H
X-Robots-Tag:noindex
X-PUBLISHED-TTL:PT1H
BEGIN:VTIMEZONE
TZID:America/New_York
BEGIN:DAYLIGHT
TZOFFSETFROM:-0500
TZOFFSETTO:-0400
TZNAME:EDT
DTSTART:20190310T070000
END:DAYLIGHT
BEGIN:STANDARD
TZOFFSETFROM:-0400
TZOFFSETTO:-0500
TZNAME:EST
DTSTART:20191103T060000
END:STANDARD
BEGIN:DAYLIGHT
TZOFFSETFROM:-0500
TZOFFSETTO:-0400
TZNAME:EDT
DTSTART:20200308T070000
END:DAYLIGHT
BEGIN:STANDARD
TZOFFSETFROM:-0400
TZOFFSETTO:-0500
TZNAME:EST
DTSTART:20201101T060000
END:STANDARD
BEGIN:DAYLIGHT
TZOFFSETFROM:-0500
TZOFFSETTO:-0400
TZNAME:EDT
DTSTART:20210314T070000
END:DAYLIGHT
BEGIN:STANDARD
TZOFFSETFROM:-0400
TZOFFSETTO:-0500
TZNAME:EST
DTSTART:20211107T060000
END:STANDARD
BEGIN:DAYLIGHT
TZOFFSETFROM:-0500
TZOFFSETTO:-0400
TZNAME:EDT
DTSTART:20220313T070000
END:DAYLIGHT
BEGIN:STANDARD
TZOFFSETFROM:-0400
TZOFFSETTO:-0500
TZNAME:EST
DTSTART:20221106T060000
END:STANDARD
BEGIN:DAYLIGHT
TZOFFSETFROM:-0500
TZOFFSETTO:-0400
TZNAME:EDT
DTSTART:20230312T070000
END:DAYLIGHT
BEGIN:STANDARD
TZOFFSETFROM:-0400
TZOFFSETTO:-0500
TZNAME:EST
DTSTART:20231105T060000
END:STANDARD
BEGIN:DAYLIGHT
TZOFFSETFROM:-0500
TZOFFSETTO:-0400
TZNAME:EDT
DTSTART:20240310T070000
END:DAYLIGHT
BEGIN:STANDARD
TZOFFSETFROM:-0400
TZOFFSETTO:-0500
TZNAME:EST
DTSTART:20241103T060000
END:STANDARD
BEGIN:DAYLIGHT
TZOFFSETFROM:-0500
TZOFFSETTO:-0400
TZNAME:EDT
DTSTART:20250309T070000
END:DAYLIGHT
BEGIN:STANDARD
TZOFFSETFROM:-0400
TZOFFSETTO:-0500
TZNAME:EST
DTSTART:20251102T060000
END:STANDARD
BEGIN:DAYLIGHT
TZOFFSETFROM:-0500
TZOFFSETTO:-0400
TZNAME:EDT
DTSTART:20260308T070000
END:DAYLIGHT
BEGIN:STANDARD
TZOFFSETFROM:-0400
TZOFFSETTO:-0500
TZNAME:EST
DTSTART:20261101T060000
END:STANDARD
BEGIN:DAYLIGHT
TZOFFSETFROM:-0500
TZOFFSETTO:-0400
TZNAME:EDT
DTSTART:20270314T070000
END:DAYLIGHT
BEGIN:STANDARD
TZOFFSETFROM:-0400
TZOFFSETTO:-0500
TZNAME:EST
DTSTART:20271107T060000
END:STANDARD
END:VTIMEZONE
BEGIN:VEVENT
DTSTART;TZID=America/New_York:20260130T190000
DTEND;TZID=America/New_York:20260130T210000
DTSTAMP:20260423T150353
CREATED:20260105T193004Z
LAST-MODIFIED:20260114T182910Z
UID:5758-1769799600-1769806800@altoonacommunitytheatre.com
SUMMARY:Membership Meeting
DESCRIPTION:Friday\, January 30 at 7 pm\nACT Rehearsal Hall\n1213 12th St\, Downtown Altoona\n\nGeneral Membership Meeting Agenda\n– Vote on proposed slate for 2026-2027\n– Elect new Artistic Committee members\n– Plan to paint rehearsal hall to match the new floor!\n\nJoin as Member or to Renew Your Membership:\nhttps://altoonacommunitytheatre.com/membership/\n\nYour dues must be up-to-date in order to vote. \n\n\n\n\n\nThe season selections as presented by the Artistic Committee are:\n\n\nSeptember: Come From Away/ Cabaret\n\n\nNovember: Murder on the Orient Express (Ludwig)/\nThe Outsiders (Sergel)\n\n\nFebruary: Pride & Prejudice (Jory)/ Radium Girls (Gregory)\n\n\nMay: Something Rotten/ Monty Python’s Spamalot\n\n\n\n\n\n\n\n\n\n\n\n\n\n\n\n\n\n\n\n\n\nARTISTIC COMMITTEE ELECTION:\n\nFour Artistic Committee members are at the end of their terms and we will be voting on their replacements for new two-year terms. Thank you to Stephanie Curry\, Christine Keppler\, Kristin Franco\, and Lucy Craig for their dedication & time. If you would like to put your name\, or someone else’s name\, on the ballot for a new two-year term\, please send us an email! Nominations for the ballot will also be accepted from the floor. Each nominee will be given a couple of minutes to address the membership and share why they’d like to be on the Artist Committee. \nIf you are submitting someone else’s name for the ballot – check with them first and CC them on the email\, please. Being on the Artistic Committee is a lot of fun\, but it does require a larger time commitment\, both in meetings and in reading or watching or listening to shows.
URL:https://altoonacommunitytheatre.com/event/membership-meeting-6/
LOCATION:ACT Rehearsal Hall\, 1213 12th St\, Altoona\, PA\, 16601\, United States
CATEGORIES:Meetings,Membership Events
ATTACH;FMTTYPE=image/png:https://altoonacommunitytheatre.com/wp-content/uploads/2022/02/YOUR-VOTE-COUNTS-1.png
ORGANIZER;CN="Altoona Community Theatre":MAILTO:act@altoonacommunitytheatre.com
END:VEVENT
BEGIN:VEVENT
DTSTART;TZID=America/New_York:20250815T170000
DTEND;TZID=America/New_York:20250815T183000
DTSTAMP:20260423T150353
CREATED:20251013T172524Z
LAST-MODIFIED:20251013T172524Z
UID:5484-1755277200-1755282600@altoonacommunitytheatre.com
SUMMARY:General Membership Meeting
DESCRIPTION:Join us for a General Membership Meeting Wednesday October 29 at 6 PM in the ACT Rehearsal Hall.\nWe understand the earlier start time will not work for everyone\, but it’s to allow Boeing Boeing to still hold rehearsal after the meeting. Thanks for your understanding!\n“Wait Until Dark” director Michael Manfred will be in attendance to discuss auditions\, so come ask him all your questions!\n\nWe will also updated you on fundraising endeavors\, discuss volunteer positions still needing filled\, and more!\n\nThe meeting is open to Non-Members! Come meet us and let us know your interests.\n\nJoin as Member or to Renew Your Membership:\nhttps://altoonacommunitytheatre.com/membership/\n\nHave dinner at Texas Roadhouse after the meeting!
URL:https://altoonacommunitytheatre.com/event/general-membership-meeting-9/
LOCATION:ACT Rehearsal Hall\, 1213 12th St\, Altoona\, PA\, 16601\, United States
CATEGORIES:Meetings,Membership Events
ATTACH;FMTTYPE=image/png:https://altoonacommunitytheatre.com/wp-content/uploads/2022/10/2-e1666294840477.png
ORGANIZER;CN="Altoona Community Theatre":MAILTO:act@altoonacommunitytheatre.com
END:VEVENT
BEGIN:VEVENT
DTSTART;TZID=America/New_York:20250815T170000
DTEND;TZID=America/New_York:20250815T183000
DTSTAMP:20260423T150353
CREATED:20250723T172338Z
LAST-MODIFIED:20250723T182534Z
UID:5289-1755277200-1755282600@altoonacommunitytheatre.com
SUMMARY:General Membership Meeting
DESCRIPTION:Join us for a General Membership Meeting Friday August 15 in the ACT Rehearsal Hall.\n\nPLEASE NOTE THE TIME CHANGE:\n5 PM “Anything but a bowl” popcorn mixer*\n5:30 PM Meeting Start\nWe understand the early start time will not work for everyone\, but it’s to allow Cinderella to still hold rehearsal after the meeting. Thanks for your understanding!\nIf you can’t make it in person\, you can join us by Zoom: LINK WILL BE PROVIDED SOON\n\n“Boeing Boeing” director Thomas Menna will be in attendance to discuss auditions\, so come ask him all your questions!\n\nWe will also updated you on fundraising endeavors\, evaluate Open House results\, discuss volunteer positions still needing filled\, and more!\n\nThe meeting is open to Non-Members! Come meet us and let us know your interests.\n\nJoin as Member or to Renew Your Membership:\nhttps://altoonacommunitytheatre.com/membership/\n\n*Anything but a bowl:\nWe provide you with a scoop of sweet\, salty\, or cheesy popcorn.\nYou provide something to put it in… but it can’t be a regular bowl!\nA small prize will be awarded to the most creative container!
URL:https://altoonacommunitytheatre.com/event/general-membership-meeting-8/
LOCATION:ACT Rehearsal Hall\, 1213 12th St\, Altoona\, PA\, 16601\, United States
CATEGORIES:Meetings,Membership Events
ATTACH;FMTTYPE=image/png:https://altoonacommunitytheatre.com/wp-content/uploads/2025/07/Untitled-design-46.png
ORGANIZER;CN="Altoona Community Theatre":MAILTO:act@altoonacommunitytheatre.com
END:VEVENT
BEGIN:VEVENT
DTSTART;TZID=America/New_York:20250707T190000
DTEND;TZID=America/New_York:20250707T200000
DTSTAMP:20260423T150353
CREATED:20250702T205344Z
LAST-MODIFIED:20250702T205437Z
UID:5254-1751914800-1751918400@altoonacommunitytheatre.com
SUMMARY:General Membership Meeting
DESCRIPTION:Join us for a General Membership Meeting Monday July 7 at 7PM in the ACT Rehearsal Hall.\n\nIf you can’t make it in person\, you can join us by Zoom: https://us02web.zoom.us/j/83009264828?pwd=j5ocaFpWNXpakXJdu4U8Gmsjb4MNKE.1\n\n\n“Cinderella” director Bryce Cossitor will be in attendance to discuss auditions\, so come ask him all your questions!\n\nWe will also touch base on recent and upcoming events\, as well as some big building changes.\n\nThe meeting is open to Non-Members! Come meet us and let us know your interests.\n\nJoin as Member or to Renew Your Membership:\nhttps://altoonacommunitytheatre.com/membership/
URL:https://altoonacommunitytheatre.com/event/general-membership-meeting-7/
LOCATION:ACT Rehearsal Hall\, 1213 12th St\, Altoona\, PA\, 16601\, United States
CATEGORIES:Meetings,Membership Events
ATTACH;FMTTYPE=image/png:https://altoonacommunitytheatre.com/wp-content/uploads/2022/10/2-e1666294840477.png
ORGANIZER;CN="Altoona Community Theatre":MAILTO:act@altoonacommunitytheatre.com
END:VEVENT
BEGIN:VEVENT
DTSTART;TZID=America/New_York:20250131T190000
DTEND;TZID=America/New_York:20250131T210000
DTSTAMP:20260423T150353
CREATED:20250106T184000Z
LAST-MODIFIED:20250123T190912Z
UID:4894-1738350000-1738357200@altoonacommunitytheatre.com
SUMMARY:Membership Meeting
DESCRIPTION:Friday\, January 31 at 7 pm\nACT Rehearsal Hall\n1213 12th St\, Downtown Altoona\n\nGeneral Membership Meeting Agenda\n– Vote on proposed slate for 2025-2026\n– Elect new Artistic Committee members\n\nJoin as Member or to Renew Your Membership:\nhttps://altoonacommunitytheatre.com/membership/\n\nYour dues must be up-to-date in order to vote. \n\n\n\nPROPOSED SLATE:\nSeptember 18-21\, 2025\nCinderella (Primary)- Rodgers\, Hammerstein II\, Beane\nGroundhog Day (Alternate)- Minchin\, Rubin\n\n\n\nNovember 13-16\, 2025\nBoeing Boeing (Primary)- Camoletti\, Cross\, Evans\nPresent Laughter (Alternate)- Coward\n\n\n\nFebruary 12-15. 2026\nWait Until Dark (Primary)- Knott\, Hatcher\nThe Importance of Being Earnest (Alternate)- Wilde\, Holland\n\n\n\nApril 30-May 3\, 2026\n9 to 5 (Primary)- Parton\, Resnick\nDirty Rotten Scoundrels (Alternate)- Yazbek\, Lane\n\n\n\n\n \nThree Artistic Committee members are at the end of their terms and we will be voting on their replacements for new two-year terms. . If you would like to put your name\, or someone else’s name\, on the ballot for a new two-year term\, please send us an email! Nominations for the ballot will also be accepted from the floor. Each nominee will be given a couple of minutes to address the membership and share why they’d like to be on the Artist Committee. \nIf you are submitting someone else’s name for the ballot – check with them first and CC them on the email\, please. Being on the Artistic Committee is a lot of fun\, but it does require a larger time commitment\, both in meetings and in reading or watching or listening to shows.
URL:https://altoonacommunitytheatre.com/event/membership-meeting-5/
LOCATION:ACT Rehearsal Hall\, 1213 12th St\, Altoona\, PA\, 16601\, United States
CATEGORIES:Meetings,Membership Events
ATTACH;FMTTYPE=image/png:https://altoonacommunitytheatre.com/wp-content/uploads/2022/02/YOUR-VOTE-COUNTS-1.png
ORGANIZER;CN="Altoona Community Theatre":MAILTO:act@altoonacommunitytheatre.com
END:VEVENT
BEGIN:VEVENT
DTSTART;TZID=America/New_York:20240513T190000
DTEND;TZID=America/New_York:20240513T210000
DTSTAMP:20260423T150353
CREATED:20240417T135305Z
LAST-MODIFIED:20240417T135305Z
UID:4258-1715626800-1715634000@altoonacommunitytheatre.com
SUMMARY:General Membership Meeting
DESCRIPTION:  \n  \nJoin us for a General Membership Meeting on MONDAY May 13 at 7PM in the ACT Rehearsal Hall. \nAt this meeting\, we’ll discuss the success of the 2023-24 Season\, plan our end of season membership party\, and look ahead to the new season\, including Rails & Ales Brewfest & the return of The Penguin Project! \nThe meeting is open to Non-Members! Come meet us and let us know your interests! \nJoin as Member or to Renew Your Membership:\nhttps://altoonacommunitytheatre.com/membership/
URL:https://altoonacommunitytheatre.com/event/general-membership-meeting-6/
LOCATION:ACT Rehearsal Hall\, 1213 12th St\, Altoona\, PA\, 16601\, United States
CATEGORIES:Meetings,Membership Events
ATTACH;FMTTYPE=image/png:https://altoonacommunitytheatre.com/wp-content/uploads/2022/10/2-e1666294840477.png
ORGANIZER;CN="Altoona Community Theatre":MAILTO:act@altoonacommunitytheatre.com
END:VEVENT
BEGIN:VEVENT
DTSTART;TZID=America/New_York:20240223T190000
DTEND;TZID=America/New_York:20240223T210000
DTSTAMP:20260423T150353
CREATED:20240212T181244Z
LAST-MODIFIED:20240212T211132Z
UID:4202-1708714800-1708722000@altoonacommunitytheatre.com
SUMMARY:Membership Meeting
DESCRIPTION:Friday\, February 23 at 7 pm\nACT Rehearsal Hall\n1213 12th St\, Downtown Altoona\n\nGeneral Membership Meeting Agenda\n– Vote on proposed slate for 2024-2025\n– Elect new Artistic Committee members\n\nJoin as Member or to Renew Your Membership:\nhttps://altoonacommunitytheatre.com/membership/\n\nYour dues must be up-to-date in order to vote. \n\n\n\n\nArtistic Committee’s proposed slate of shows:\n\nSeptember\nPrimary – Chicago\nAlternate – Sweet Charity \nNovember\nPrimary – A Dickens Christmas Carol – A Traveling Travesty in Two Tumultuous Acts\nAlternate – Boeing Boeing \nFebruary\nPrimary – Much Ado about Nothing\nAlternate – Twelfth Night \nMay\nPrimary – Mary Poppins\nAlternate – Rodgers & Hammerstein’s Cinderella \n\n\n\n\n\n \nFour Artistic Committee members are at the end of their terms and we will be voting on their replacements for new two-year terms. Thank you to Allyssa Piper\, Laura Letsche\, Katie Kensinger\, and Matt Michrina for their dedication & time. If you would like to put your name\, or someone else’s name\, on the ballot for a new two-year term\, please send us an email! Nominations for the ballot will also be accepted from the floor. Each nominee will be given a couple of minutes to address the membership and share why they’d like to be on the Artist Committee. \nIf you are submitting someone else’s name for the ballot – check with them first and CC them on the email\, please. Being on the Artistic Committee is a lot of fun\, but it does require a larger time committment\, both in meetings and in reading or watching or listening to shows.
URL:https://altoonacommunitytheatre.com/event/membership-meeting-4/
LOCATION:ACT Rehearsal Hall\, 1213 12th St\, Altoona\, PA\, 16601\, United States
CATEGORIES:Meetings,Membership Events
ATTACH;FMTTYPE=image/png:https://altoonacommunitytheatre.com/wp-content/uploads/2022/02/YOUR-VOTE-COUNTS-1.png
ORGANIZER;CN="Altoona Community Theatre":MAILTO:act@altoonacommunitytheatre.com
END:VEVENT
BEGIN:VEVENT
DTSTART;TZID=America/New_York:20231103T190000
DTEND;TZID=America/New_York:20231103T210000
DTSTAMP:20260423T150353
CREATED:20231009T162025Z
LAST-MODIFIED:20231009T162253Z
UID:3970-1699038000-1699045200@altoonacommunitytheatre.com
SUMMARY:General Membership Meeting
DESCRIPTION:  \nJoin us for a General Membership Meeting on Friday November 3 at 7PM in the ACT Rehearsal Hall. \nAt this meeting\, we’ll discuss load-in for “Clue: On Stage”\, auditions for “Angel Street” and “Into the Woods”\, the upcoming Membership Holiday Party\, and general business for ACT! \nThe meeting is open to Non-Members! Come meet us and let us know your interests! \nJoin as Member or to Renew Your Membership:\nhttps://altoonacommunitytheatre.com/membership/
URL:https://altoonacommunitytheatre.com/event/general-membership-meeting-5/
LOCATION:ACT Rehearsal Hall\, 1213 12th St\, Altoona\, PA\, 16601\, United States
CATEGORIES:Meetings,Membership Events
ATTACH;FMTTYPE=image/png:https://altoonacommunitytheatre.com/wp-content/uploads/2022/10/2-e1666294840477.png
ORGANIZER;CN="Altoona Community Theatre":MAILTO:act@altoonacommunitytheatre.com
END:VEVENT
BEGIN:VEVENT
DTSTART;TZID=America/New_York:20230224T190000
DTEND;TZID=America/New_York:20230224T210000
DTSTAMP:20260423T150353
CREATED:20230117T191952Z
LAST-MODIFIED:20230117T192001Z
UID:3447-1677265200-1677272400@altoonacommunitytheatre.com
SUMMARY:General Membership Meeting
DESCRIPTION:Join us for a General Membership Meeting on Friday February 24 at 7PM in the ACT Rehearsal Hall. \nAt this meeting\, we’ll discuss auditions for “Oliver!”\, the 75th Anniversary Celebration\, results of the Reverse Raffle Fundraiser. \nThe Artistic Committee will also present their show choices for the 2023-2024 seasons\, and the membership will discuss & vote on their selections. \nThe meeting is open to Non-Members\, but only current paid Members can vote on upcoming season. \nJoin as Member or to Renew Your Membership:\nhttps://altoonacommunitytheatre.com/membership/\n\nWe will also elect new members to the Artistic Committee. To nominate yourself or someone for consideration\, please email your nomination to act@altoonacommunitytheatre.com
URL:https://altoonacommunitytheatre.com/event/general-membership-meeting-4/
LOCATION:ACT Rehearsal Hall\, 1213 12th St\, Altoona\, PA\, 16601\, United States
CATEGORIES:Meetings,Membership Events
ATTACH;FMTTYPE=image/png:https://altoonacommunitytheatre.com/wp-content/uploads/2022/10/2-e1666294840477.png
ORGANIZER;CN="Altoona Community Theatre":MAILTO:act@altoonacommunitytheatre.com
END:VEVENT
BEGIN:VEVENT
DTSTART;TZID=America/New_York:20221104T190000
DTEND;TZID=America/New_York:20221104T190000
DTSTAMP:20260423T150353
CREATED:20221019T191259Z
LAST-MODIFIED:20221103T181522Z
UID:3256-1667588400-1667588400@altoonacommunitytheatre.com
SUMMARY:General Membership Meeting
DESCRIPTION:Join us for a General Membership Meeting on Friday\, November 4 at 7:00PM in the ACT Rehearsal Hall. \nOn the Agenda: \n\n“Wonderthon” Load-in (November 5 @ 9 AM)\n“Our Town” Auditions (November 29 & 30 at 6 PM)\nGame Day (December 3 @ 1 PM)\nMembership Holiday Party (December 16 @ 6:30 PM)\nReverse Raffle (January 20)\n\n 
URL:https://altoonacommunitytheatre.com/event/general-membership-meeting-3/
LOCATION:ACT Rehearsal Hall\, 1213 12th St\, Altoona\, PA\, 16601\, United States
CATEGORIES:Meetings
ATTACH;FMTTYPE=image/png:https://altoonacommunitytheatre.com/wp-content/uploads/2022/10/2-e1666294840477.png
ORGANIZER;CN="Altoona Community Theatre":MAILTO:act@altoonacommunitytheatre.com
END:VEVENT
BEGIN:VEVENT
DTSTART;TZID=America/New_York:20220725T190000
DTEND;TZID=America/New_York:20220725T210000
DTSTAMP:20260423T150353
CREATED:20220708T193922Z
LAST-MODIFIED:20220708T193922Z
UID:3067-1658775600-1658782800@altoonacommunitytheatre.com
SUMMARY:Membership Meeting
DESCRIPTION:Monday\, July 25 at 7 pm\n\n\nHosted at McGarvey’s Bar & Grill\n623 N 4th Ave\, Juniata\n\n\n\nCome early to order from McGarvey’s delicious menu\, then stay after the meeting for KARAOKE!\nIn-person only. Open to the public! \n\n\nOn the agenda:\n-“She Loves Me” auditions\n-Rails & Ales fundraising event\n-Committee openings for 2022-2023\n-Volunteer needs for upcoming season\n\n\nDon’t forget! Our Memberships run with our Fiscal Year from July to June. Renewals from March 2022 or before expired June 31.\nRenew your membership  here:\nhttps://altoonacommunitytheatre.com/membership/
URL:https://altoonacommunitytheatre.com/event/membership-meeting-3/
LOCATION:McGarvey’s Bar\, 625 N 4th Ave\, Altoona\, PA\, 16601\, United States
CATEGORIES:Meetings
ATTACH;FMTTYPE=image/jpeg:https://altoonacommunitytheatre.com/wp-content/uploads/2021/01/General-Membership-Meeting-header.jpg
ORGANIZER;CN="Altoona Community Theatre":MAILTO:act@altoonacommunitytheatre.com
END:VEVENT
BEGIN:VEVENT
DTSTART;TZID=America/New_York:20201204T190000
DTEND;TZID=America/New_York:20201204T200000
DTSTAMP:20260423T150353
CREATED:20201124T182107Z
LAST-MODIFIED:20201201T211938Z
UID:2049-1607108400-1607112000@altoonacommunitytheatre.com
SUMMARY:General Membership Meeting
DESCRIPTION:Friday\, December 4\, 7 pm \nJoin us via Zoom for our December General membership meeting where we’ll be discussing our upcoming events\, education workshop\, fundraisers\, and introducing our new Director of Operations\, Tara Enedy. \nJim Watt is inviting you to a scheduled Zoom meeting. \nJoin Zoom Meeting \nBecome a Member today! \n  \nOR:  \nJoin a Zoom Meeting ID: 982 8632 1576 \nDial by your location when computer audio is not available: +1 301 715 8592 US (Washington D.C) \nMeeting ID: 982 8632 1576 \n 
URL:https://altoonacommunitytheatre.com/event/general-membership-meeting/
LOCATION:Virtual\, PA\, United States
CATEGORIES:Meetings
ATTACH;FMTTYPE=image/jpeg:https://altoonacommunitytheatre.com/wp-content/uploads/2020/11/save-the-date.jpg
ORGANIZER;CN="Altoona Community Theatre":MAILTO:act@altoonacommunitytheatre.com
END:VEVENT
END:VCALENDAR