BEGIN:VCALENDAR
VERSION:2.0
PRODID:-//Altoona Community Theatre - ECPv6.15.20//NONSGML v1.0//EN
CALSCALE:GREGORIAN
METHOD:PUBLISH
X-WR-CALNAME:Altoona Community Theatre
X-ORIGINAL-URL:https://altoonacommunitytheatre.com
X-WR-CALDESC:Events for Altoona Community Theatre
REFRESH-INTERVAL;VALUE=DURATION:PT1H
X-Robots-Tag:noindex
X-PUBLISHED-TTL:PT1H
BEGIN:VTIMEZONE
TZID:America/New_York
BEGIN:DAYLIGHT
TZOFFSETFROM:-0500
TZOFFSETTO:-0400
TZNAME:EDT
DTSTART:20250309T070000
END:DAYLIGHT
BEGIN:STANDARD
TZOFFSETFROM:-0400
TZOFFSETTO:-0500
TZNAME:EST
DTSTART:20251102T060000
END:STANDARD
BEGIN:DAYLIGHT
TZOFFSETFROM:-0500
TZOFFSETTO:-0400
TZNAME:EDT
DTSTART:20260308T070000
END:DAYLIGHT
BEGIN:STANDARD
TZOFFSETFROM:-0400
TZOFFSETTO:-0500
TZNAME:EST
DTSTART:20261101T060000
END:STANDARD
BEGIN:DAYLIGHT
TZOFFSETFROM:-0500
TZOFFSETTO:-0400
TZNAME:EDT
DTSTART:20270314T070000
END:DAYLIGHT
BEGIN:STANDARD
TZOFFSETFROM:-0400
TZOFFSETTO:-0500
TZNAME:EST
DTSTART:20271107T060000
END:STANDARD
END:VTIMEZONE
BEGIN:VEVENT
DTSTART;TZID=America/New_York:20260212T193000
DTEND;TZID=America/New_York:20260212T213000
DTSTAMP:20260423T145933
CREATED:20250730T165418Z
LAST-MODIFIED:20251209T153225Z
UID:5305-1770924600-1770931800@altoonacommunitytheatre.com
SUMMARY:Wait Until Dark
DESCRIPTION:Wait Until Dark\nBy Frederick Knott\nAdapted by Jeffrey Hatcher\nFebruary 12\, 13\, 14 at 7:30 PM\nFebruary 15 at 2 PM\nDirected by Michael Manfred\nWait Until Dark is a gripping and suspenseful thriller that keeps audiences on the edge of their seats. In 1944 Greenwich Village\, Susan Hendrix\, a blind yet capable woman\, becomes the target of a group of ruthless criminals searching for a mysterious doll filled with contraband. As the tension mounts and the stakes grow higher\, Susan must use her cunning and her courage to outmaneuver her dangerous adversaries in a heart-pounding battle of wits. \nWith its masterful blend of intrigue\, danger\, and unexpected twists\, Wait Until Dark delivers a thrilling theatrical experience with a final scene that will leave you breathless. \n\nAppropriate for ages 13+. Content advisory: strong language\, violence\, and mild adult themes\nTickets on sale now through the Mishler Theatre Box Office – 814-944-9434
URL:https://altoonacommunitytheatre.com/event/waituntildark/
LOCATION:The Historic Mishler Theatre\, 1208 12th Ave\, Altoona\, PA\, 16601\, United States
CATEGORIES:Mainstage
ATTACH;FMTTYPE=image/png:https://altoonacommunitytheatre.com/wp-content/uploads/2025/07/wait-until-dark-logo-only-doll-scaled.png
ORGANIZER;CN="Altoona Community Theatre":MAILTO:act@altoonacommunitytheatre.com
END:VEVENT
BEGIN:VEVENT
DTSTART;TZID=America/New_York:20260213T193000
DTEND;TZID=America/New_York:20260213T213000
DTSTAMP:20260423T145933
CREATED:20251209T144220Z
LAST-MODIFIED:20251209T153229Z
UID:5703-1771011000-1771018200@altoonacommunitytheatre.com
SUMMARY:Wait Until Dark
DESCRIPTION:Wait Until Dark\nBy Frederick Knott\nAdapted by Jeffrey Hatcher\nFebruary 12\, 13\, 14 at 7:30 PM\nFebruary 15 at 2 PM\nDirected by Michael Manfred\nWait Until Dark is a gripping and suspenseful thriller that keeps audiences on the edge of their seats. In 1944 Greenwich Village\, Susan Hendrix\, a blind yet capable woman\, becomes the target of a group of ruthless criminals searching for a mysterious doll filled with contraband. As the tension mounts and the stakes grow higher\, Susan must use her cunning and her courage to outmaneuver her dangerous adversaries in a heart-pounding battle of wits. \nWith its masterful blend of intrigue\, danger\, and unexpected twists\, Wait Until Dark delivers a thrilling theatrical experience with a final scene that will leave you breathless. \n\nAppropriate for ages 13+. Content advisory: strong language\, violence\, and mild adult themes\nTickets on sale now through the Mishler Theatre Box Office – 814-944-9434
URL:https://altoonacommunitytheatre.com/event/wait-until-dark/
LOCATION:The Historic Mishler Theatre\, 1208 12th Ave\, Altoona\, PA\, 16601\, United States
CATEGORIES:Mainstage
ATTACH;FMTTYPE=image/png:https://altoonacommunitytheatre.com/wp-content/uploads/2025/07/wait-until-dark-logo-only-doll-scaled.png
ORGANIZER;CN="Altoona Community Theatre":MAILTO:act@altoonacommunitytheatre.com
END:VEVENT
BEGIN:VEVENT
DTSTART;TZID=America/New_York:20260214T193000
DTEND;TZID=America/New_York:20260214T213000
DTSTAMP:20260423T145933
CREATED:20251209T144320Z
LAST-MODIFIED:20251209T153234Z
UID:5704-1771097400-1771104600@altoonacommunitytheatre.com
SUMMARY:Wait Until Dark
DESCRIPTION:Wait Until Dark\nBy Frederick Knott\nAdapted by Jeffrey Hatcher\nFebruary 12\, 13\, 14 at 7:30 PM\nFebruary 15 at 2 PM\nDirected by Michael Manfred\nWait Until Dark is a gripping and suspenseful thriller that keeps audiences on the edge of their seats. In 1944 Greenwich Village\, Susan Hendrix\, a blind yet capable woman\, becomes the target of a group of ruthless criminals searching for a mysterious doll filled with contraband. As the tension mounts and the stakes grow higher\, Susan must use her cunning and her courage to outmaneuver her dangerous adversaries in a heart-pounding battle of wits. \nWith its masterful blend of intrigue\, danger\, and unexpected twists\, Wait Until Dark delivers a thrilling theatrical experience with a final scene that will leave you breathless. \n\nAppropriate for ages 13+. Content advisory: strong language\, violence\, and mild adult themes\nTickets on sale now through the Mishler Theatre Box Office – 814-944-9434
URL:https://altoonacommunitytheatre.com/event/wait-until-dark-2/
LOCATION:The Historic Mishler Theatre\, 1208 12th Ave\, Altoona\, PA\, 16601\, United States
CATEGORIES:Mainstage
ATTACH;FMTTYPE=image/png:https://altoonacommunitytheatre.com/wp-content/uploads/2025/07/wait-until-dark-logo-only-doll-scaled.png
ORGANIZER;CN="Altoona Community Theatre":MAILTO:act@altoonacommunitytheatre.com
END:VEVENT
BEGIN:VEVENT
DTSTART;TZID=America/New_York:20260215T140000
DTEND;TZID=America/New_York:20260215T160000
DTSTAMP:20260423T145933
CREATED:20251209T144338Z
LAST-MODIFIED:20251209T153237Z
UID:5705-1771164000-1771171200@altoonacommunitytheatre.com
SUMMARY:Wait Until Dark
DESCRIPTION:Wait Until Dark\nBy Frederick Knott\nAdapted by Jeffrey Hatcher\nFebruary 12\, 13\, 14 at 7:30 PM\nFebruary 15 at 2 PM\nDirected by Michael Manfred\nWait Until Dark is a gripping and suspenseful thriller that keeps audiences on the edge of their seats. In 1944 Greenwich Village\, Susan Hendrix\, a blind yet capable woman\, becomes the target of a group of ruthless criminals searching for a mysterious doll filled with contraband. As the tension mounts and the stakes grow higher\, Susan must use her cunning and her courage to outmaneuver her dangerous adversaries in a heart-pounding battle of wits. \nWith its masterful blend of intrigue\, danger\, and unexpected twists\, Wait Until Dark delivers a thrilling theatrical experience with a final scene that will leave you breathless. \n\nAppropriate for ages 13+. Content advisory: strong language\, violence\, and mild adult themes\nTickets on sale now through the Mishler Theatre Box Office – 814-944-9434
URL:https://altoonacommunitytheatre.com/event/wait-until-dark-3/
LOCATION:The Historic Mishler Theatre\, 1208 12th Ave\, Altoona\, PA\, 16601\, United States
CATEGORIES:Mainstage
ATTACH;FMTTYPE=image/png:https://altoonacommunitytheatre.com/wp-content/uploads/2025/07/wait-until-dark-logo-only-doll-scaled.png
ORGANIZER;CN="Altoona Community Theatre":MAILTO:act@altoonacommunitytheatre.com
END:VEVENT
BEGIN:VEVENT
DTSTART;TZID=America/New_York:20260221T133000
DTEND;TZID=America/New_York:20260221T153000
DTSTAMP:20260423T145933
CREATED:20260205T181929Z
LAST-MODIFIED:20260216T210110Z
UID:5805-1771680600-1771687800@altoonacommunitytheatre.com
SUMMARY:Theatrical Intimacy: Staging and Storytelling
DESCRIPTION:Theatrical Intimacy: Staging and Storytelling\n \nYou can attend this workshop without having attended “Intro to Intimacy” last fall\n\nIn this workshop\, we will explore storytelling techniques behind moments of intimacy on stage. We will begin by examining spatial relationships in staging—how the physical distance and positioning of actors can communicate a great deal about their relationships. We will then consider how specific details\, such as the way characters hold hands\, can alter the story being told. Next\, we will explore different approaches to embraces and physical closeness\, and how minor adjustments in blocking\, timing\, and intention can significantly shift meaning. Participants will then be divided into small groups to stage a specific moment between two characters using these principles. Intimacy in this context includes closeness between friends and family as well as romantic partners\, and may encompass moments of comfort\, connection\, joy\, and support—not only romance. All touch will be consensual and must remain within each participant’s stated boundaries. A willingness to give and receive respectful\, non-sexual touch is encouraged but not required in order to participate.\nSaturday February 21\n1:30PM – 3:30 PM\nACT Rehearsal Hall\n1213 12th St\nAltoona PA 16601\nLIMITED SPACE: Only 26 spots available. Participants must be aged 18+\n$15 for ACT Members\n$30 for Non-members (option to sign up as a member with your registration to save on future workshops) \n \n\nAbout the Facilitator\n\nJessica Morgan (she/her) is the Head of Graduate Acting and Associate Professor of Stage Movement for BFA/MFA Acting at West Virginia University. Recent highlights of her production work at WVU include Dracula\, a feminist revenge fantasy\, really.\, Phoebe in Winter\, 9 to 5: The Musical\, Cinderella\, Into the Woods\, and Indecent. She is in her fifth season as an Intimacy and Fight Director with The Contemporary Theatre of Ohio where her work includes POTUS: Or\, Behind Every Great Dumbass Are Seven Women Trying to Keep Him Alive\, Big Fish\, Indecent\, Head Over Heels\, and Alice By Heart. She has also worked professionally for Greenbrier Valley Theatre\, Vintage Theatre Company\, Cumberland Theatre Company\, Shepherd University\, and The Contemporary American Theatre Festival doing intimacy and violence. She teaches workshops on consent and intimacy practices for theatre training programs and companies. Jessica is a Certified Intimacy Director with Intimacy Directors and Coordinators (IDC) and is a member of Actors’ Equity Association (AEA). \n  \nRegister Now
URL:https://altoonacommunitytheatre.com/event/intimacy2/
LOCATION:ACT Rehearsal Hall\, 1213 12th St\, Altoona\, PA\, 16601\, United States
CATEGORIES:Education/Workshop,Membership Events
ATTACH;FMTTYPE=image/png:https://altoonacommunitytheatre.com/wp-content/uploads/2025/09/intimacy-photos.png
ORGANIZER;CN="Altoona Community Theatre":MAILTO:act@altoonacommunitytheatre.com
END:VEVENT
BEGIN:VEVENT
DTSTART;TZID=America/New_York:20260319T123000
DTEND;TZID=America/New_York:20260319T180000
DTSTAMP:20260423T145933
CREATED:20260116T162909Z
LAST-MODIFIED:20260116T163102Z
UID:5766-1773923400-1773943200@altoonacommunitytheatre.com
SUMMARY:Blood Drive
DESCRIPTION:  \nAltoona Community Theatre is proud to host an American Red Cross blood drive on March 19\,  12:30-6:00  \nSchedule your donation time now!  \nAll who come to give at ACT’s blood drive will receive a discount voucher for tickets to our upcoming production of “9 to 5”. \nAltoona Community Theatre\nRehearsal Hall\n1213 12th Street\nAltoona\, PA 16601\n(Located next to Tom & Joe’s\, downtown Altoona)
URL:https://altoonacommunitytheatre.com/event/blood-drive-2/
LOCATION:ACT Rehearsal Hall\, 1213 12th St\, Altoona\, PA\, 16601\, United States
ATTACH;FMTTYPE=image/png:https://altoonacommunitytheatre.com/wp-content/uploads/2022/03/save-a-life-give-blood.png
END:VEVENT
BEGIN:VEVENT
DTSTART;TZID=America/New_York:20260321T180000
DTEND;TZID=America/New_York:20260321T210000
DTSTAMP:20260423T145933
CREATED:20260216T190659Z
LAST-MODIFIED:20260227T173701Z
UID:5839-1774116000-1774126800@altoonacommunitytheatre.com
SUMMARY:Bet On The Arts Fundraiser
DESCRIPTION:You’re invited to BET ON THE ARTS with Altoona Community Theatre!\nJoin us for an unforgettable night of casino-style games\, live entertainment\, and show-stopping fun. \nACT’s brand new fundraising gala event takes place March 21\, 2026 from 6 pm to 9 pm at the Blair County Convention Center. \nEach ticket to the gala includes:-Two drink tickets for select alcoholic beverages-$10 worth of game chips-Catered Hors d’oeuvres-Support of quality live theatre in your community and art education programs such as Summer Drama Camps\, The Isaac Awards\, and The Penguin Project \nAvailable games include poker\, blackjack\, roulette\, craps and virtual horse racing\, all run by professional dealers! \nAs you place your bets\, local performers will serenade you with Broadway to Hollywood favorites\, as well as music from ACT’s upcoming 2026-2027 season. \nAdditional alcoholic beverages and game chips available for purchase with cash or card.Game chips/winnings are exchanged for raffle tickets entered for prizes. \nCocktail or semi-formal attire\, please. \n21+ only event.ID required for alcohol consumption. \n  \nTicket options:Individual Buy-in: $65 a ticket\, includes two drink tickets\, $10 worth of game chipsDouble Down: Buy a pair of tickets and save! $100\, includes four drink tickets and $20 worth of game chipsHigh Roller VIP: $450\, includes 8 VIP ticket packages (total 16 drink tickets and $80 worth of game chips) plus a reserved table for your group! Limited quantity available \nGo all in on your support of the arts now!
URL:https://altoonacommunitytheatre.com/event/bet-on-the-arts-fundraiser/
LOCATION:PA
ATTACH;FMTTYPE=image/png:https://altoonacommunitytheatre.com/wp-content/uploads/2026/02/BET-ON-THE-ARTS-DIGITAL-INVITE-e1771269721773.png
END:VEVENT
BEGIN:VEVENT
DTSTART;TZID=America/New_York:20260328T140000
DTEND;TZID=America/New_York:20260328T170000
DTSTAMP:20260423T145933
CREATED:20260324T170122Z
LAST-MODIFIED:20260324T170122Z
UID:5908-1774706400-1774717200@altoonacommunitytheatre.com
SUMMARY:Penguin Project Spring Fling
DESCRIPTION:ACT invites you to our Penguin Project Spring Fling! \nOpen to current Penguins or those interested in getting involved for the first time. \nPlease RSVP to act@altoonacommunitytheatre.com
URL:https://altoonacommunitytheatre.com/event/penguin-project-spring-fling-2/
LOCATION:ACT Rehearsal Hall\, 1213 12th St\, Altoona\, PA\, 16601\, United States
CATEGORIES:The Penguin Project
ATTACH;FMTTYPE=image/png:https://altoonacommunitytheatre.com/wp-content/uploads/2023/06/Penguin-Project-Email-banner.png
ORGANIZER;CN="Altoona Community Theatre":MAILTO:act@altoonacommunitytheatre.com
END:VEVENT
BEGIN:VEVENT
DTSTART;TZID=America/New_York:20260412T140000
DTEND;TZID=America/New_York:20260412T150000
DTSTAMP:20260423T145933
CREATED:20260324T170654Z
LAST-MODIFIED:20260324T170654Z
UID:5911-1776002400-1776006000@altoonacommunitytheatre.com
SUMMARY:Penguin Project Informational Meeting
DESCRIPTION:  \nThe Penguin Project at Altoona Community Theatre returns with “Shrek Jr” in August 2026! \nIf you’re interested in getting your child involved as an Artist or Peer Mentor\, or you’re an adult who would like to volunteer as a “rehearsal helper”\, please join us for an informational meeting on Sunday April 12 at 2 PM.  \nThe meeting will include a brief overview of the history of the Penguin Project and ACT’s commitment to bringing this central Pennsylvania. You’ll learn about the time commitment involved\, how rehearsals are conducted\, and have an opportunity to ask questions. The meeting lasts approximately one hour. \nLearn more about the Penguin Project at ACT here.
URL:https://altoonacommunitytheatre.com/event/penguin-project-informational-meeting-3/
LOCATION:ACT Rehearsal Hall\, 1213 12th St\, Altoona\, PA\, 16601\, United States
CATEGORIES:The Penguin Project
ATTACH;FMTTYPE=image/png:https://altoonacommunitytheatre.com/wp-content/uploads/2023/06/Penguin-Project-Email-banner.png
ORGANIZER;CN="Altoona Community Theatre":MAILTO:act@altoonacommunitytheatre.com
END:VEVENT
BEGIN:VEVENT
DTSTART;TZID=America/New_York:20260427T180000
DTEND;TZID=America/New_York:20260427T190000
DTSTAMP:20260423T145933
CREATED:20260421T152530Z
LAST-MODIFIED:20260421T152530Z
UID:6024-1777312800-1777316400@altoonacommunitytheatre.com
SUMMARY:Penguin Project Informational Meeting
DESCRIPTION:  \nThe Penguin Project at Altoona Community Theatre returns with “Shrek Jr” in August 2026! \nIf you’re interested in getting your child involved as an Artist or Peer Mentor\, or you’re an adult who would like to volunteer as a “rehearsal helper”\, please join us for an informational meeting on Monday April 27 at 6 PM.  \nThe meeting will include a brief overview of the history of the Penguin Project and ACT’s commitment to bringing this central Pennsylvania. You’ll learn about the time commitment involved\, how rehearsals are conducted\, and have an opportunity to ask questions. The meeting lasts approximately one hour. \nLearn more about the Penguin Project at ACT here.
URL:https://altoonacommunitytheatre.com/event/penguin-project-informational-meeting-4/
LOCATION:ACT Rehearsal Hall\, 1213 12th St\, Altoona\, PA\, 16601\, United States
CATEGORIES:The Penguin Project
ATTACH;FMTTYPE=image/png:https://altoonacommunitytheatre.com/wp-content/uploads/2023/06/Penguin-Project-Email-banner.png
ORGANIZER;CN="Altoona Community Theatre":MAILTO:act@altoonacommunitytheatre.com
END:VEVENT
BEGIN:VEVENT
DTSTART;TZID=America/New_York:20260430T193000
DTEND;TZID=America/New_York:20260430T220000
DTSTAMP:20260423T145933
CREATED:20250730T170518Z
LAST-MODIFIED:20260316T151045Z
UID:5309-1777577400-1777586400@altoonacommunitytheatre.com
SUMMARY:9 to 5
DESCRIPTION:9 to 5\nMusic and Lyrics by Dolly Parton\nBook by Patricia Resnick\nBased on the 20th Century Fox Picture\nOriginally produced on Broadway by Robert Greenblatt\, April 2009\nApril 30\, May 1 & 2 at 7:30 PM\nMay 3 at 2 PM\n9 to 5 The Musical\, based on the 1980 hit movie\, is a laugh-out-loud story of friendship and revenge with music and lyrics by Dolly Parton. \nPushed to the boiling point\, three female coworkers concoct a plan to get even with the sexist\, egotistical\, lying\, hypocritical bigot they call a boss. In a zany turn of events\, Violet\, Judy\, and Doralee live out their wildest fantasy – giving their boss the boot! While Mr. Hart remains “otherwise engaged\,” the women give their workplace a dream makeover\, taking control of the company that had always kept them down. Hey\, a girl can scheme\, can’t she? \n\nThis production is recommended for audiences ages 13 and up for adult themes and mild language.\nTickets on sale now through the Mishler Theatre Box Office – 814-944-9434\n \n\n 
URL:https://altoonacommunitytheatre.com/event/9to5/
LOCATION:The Historic Mishler Theatre\, 1208 12th Ave\, Altoona\, PA\, 16601\, United States
CATEGORIES:Mainstage
ATTACH;FMTTYPE=image/png:https://altoonacommunitytheatre.com/wp-content/uploads/2026/02/9-to-5-e1773673836671.png
ORGANIZER;CN="Altoona Community Theatre":MAILTO:act@altoonacommunitytheatre.com
END:VEVENT
BEGIN:VEVENT
DTSTART;TZID=America/New_York:20260501T193000
DTEND;TZID=America/New_York:20260501T220000
DTSTAMP:20260423T145933
CREATED:20260216T190427Z
LAST-MODIFIED:20260316T150945Z
UID:5833-1777663800-1777672800@altoonacommunitytheatre.com
SUMMARY:9 to 5
DESCRIPTION:9 to 5\nMusic and Lyrics by Dolly Parton\nBook by Patricia Resnick\nBased on the 20th Century Fox Picture\nOriginally produced on Broadway by Robert Greenblatt\, April 2009\nApril 30\, May 1 & 2 at 7:30 PM\nMay 3 at 2 PM\n9 to 5 The Musical\, based on the 1980 hit movie\, is a laugh-out-loud story of friendship and revenge with music and lyrics by Dolly Parton. \nPushed to the boiling point\, three female coworkers concoct a plan to get even with the sexist\, egotistical\, lying\, hypocritical bigot they call a boss. In a zany turn of events\, Violet\, Judy\, and Doralee live out their wildest fantasy – giving their boss the boot! While Mr. Hart remains “otherwise engaged\,” the women give their workplace a dream makeover\, taking control of the company that had always kept them down. Hey\, a girl can scheme\, can’t she? \n\nThis production is recommended for audiences ages 13 and up for adult themes and mild language.\nTickets on sale now through the Mishler Theatre Box Office – 814-944-9434\n \n\n 
URL:https://altoonacommunitytheatre.com/event/9-to-5/
LOCATION:The Historic Mishler Theatre\, 1208 12th Ave\, Altoona\, PA\, 16601\, United States
CATEGORIES:Mainstage
ATTACH;FMTTYPE=image/png:https://altoonacommunitytheatre.com/wp-content/uploads/2026/02/9-to-5-e1773673836671.png
ORGANIZER;CN="Altoona Community Theatre":MAILTO:act@altoonacommunitytheatre.com
END:VEVENT
BEGIN:VEVENT
DTSTART;TZID=America/New_York:20260502T193000
DTEND;TZID=America/New_York:20260502T220000
DTSTAMP:20260423T145933
CREATED:20260216T190435Z
LAST-MODIFIED:20260316T150959Z
UID:5834-1777750200-1777759200@altoonacommunitytheatre.com
SUMMARY:9 to 5
DESCRIPTION:9 to 5\nMusic and Lyrics by Dolly Parton\nBook by Patricia Resnick\nBased on the 20th Century Fox Picture\nOriginally produced on Broadway by Robert Greenblatt\, April 2009\nApril 30\, May 1 & 2 at 7:30 PM\nMay 3 at 2 PM\n9 to 5 The Musical\, based on the 1980 hit movie\, is a laugh-out-loud story of friendship and revenge with music and lyrics by Dolly Parton. \nPushed to the boiling point\, three female coworkers concoct a plan to get even with the sexist\, egotistical\, lying\, hypocritical bigot they call a boss. In a zany turn of events\, Violet\, Judy\, and Doralee live out their wildest fantasy – giving their boss the boot! While Mr. Hart remains “otherwise engaged\,” the women give their workplace a dream makeover\, taking control of the company that had always kept them down. Hey\, a girl can scheme\, can’t she? \n\nThis production is recommended for audiences ages 13 and up for adult themes and mild language.\nTickets on sale now through the Mishler Theatre Box Office – 814-944-9434\n \n\n 
URL:https://altoonacommunitytheatre.com/event/9-to-5-2/
LOCATION:The Historic Mishler Theatre\, 1208 12th Ave\, Altoona\, PA\, 16601\, United States
CATEGORIES:Mainstage
ATTACH;FMTTYPE=image/png:https://altoonacommunitytheatre.com/wp-content/uploads/2026/02/9-to-5-e1773673836671.png
ORGANIZER;CN="Altoona Community Theatre":MAILTO:act@altoonacommunitytheatre.com
END:VEVENT
BEGIN:VEVENT
DTSTART;TZID=America/New_York:20260503T140000
DTEND;TZID=America/New_York:20260503T163000
DTSTAMP:20260423T145933
CREATED:20260216T190451Z
LAST-MODIFIED:20260316T150900Z
UID:5835-1777816800-1777825800@altoonacommunitytheatre.com
SUMMARY:9 to 5
DESCRIPTION:9 to 5\nMusic and Lyrics by Dolly Parton\nBook by Patricia Resnick\nBased on the 20th Century Fox Picture\nOriginally produced on Broadway by Robert Greenblatt\, April 2009\nApril 30\, May 1 & 2 at 7:30 PM\nMay 3 at 2 PM\n9 to 5 The Musical\, based on the 1980 hit movie\, is a laugh-out-loud story of friendship and revenge with music and lyrics by Dolly Parton. \nPushed to the boiling point\, three female coworkers concoct a plan to get even with the sexist\, egotistical\, lying\, hypocritical bigot they call a boss. In a zany turn of events\, Violet\, Judy\, and Doralee live out their wildest fantasy – giving their boss the boot! While Mr. Hart remains “otherwise engaged\,” the women give their workplace a dream makeover\, taking control of the company that had always kept them down. Hey\, a girl can scheme\, can’t she? \n\nThis production is recommended for audiences ages 13 and up for adult themes and mild language.\nTickets on sale now through the Mishler Theatre Box Office – 814-944-9434\n \n\n 
URL:https://altoonacommunitytheatre.com/event/9-to-5-3/
LOCATION:The Historic Mishler Theatre\, 1208 12th Ave\, Altoona\, PA\, 16601\, United States
CATEGORIES:Mainstage
ATTACH;FMTTYPE=image/png:https://altoonacommunitytheatre.com/wp-content/uploads/2026/02/9-to-5-e1773673836671.png
ORGANIZER;CN="Altoona Community Theatre":MAILTO:act@altoonacommunitytheatre.com
END:VEVENT
BEGIN:VEVENT
DTSTART;TZID=America/New_York:20260506T110000
DTEND;TZID=America/New_York:20260506T210000
DTSTAMP:20260423T145933
CREATED:20260326T171100Z
LAST-MODIFIED:20260326T171100Z
UID:5948-1778065200-1778101200@altoonacommunitytheatre.com
SUMMARY:Red Robin Fundraiser
DESCRIPTION:Altoona Community Theatre will receive 20% of fundraiser sales at Red Robin on May 6\, 2026!\n\nShow the flyer above or simply mentioned the fundraiser to your server at Red Robin (Altoona) when you dine in to count your meal!\nYou can also contribute by ordering online at redrobin.com or on the Red Robin mobile app. For online and mobile app orders you must add the fundraiser to your cart before you check out for the sales to count towards the fundraiser.
URL:https://altoonacommunitytheatre.com/event/red-robin-fundraiser-2/
LOCATION:Red Robin\, Altoona
CATEGORIES:Fundraiser,Membership Events
ATTACH;FMTTYPE=image/jpeg:https://altoonacommunitytheatre.com/wp-content/uploads/2025/06/l-intro-1743078659-e1749135479174.jpg
ORGANIZER;CN="Altoona Community Theatre":MAILTO:act@altoonacommunitytheatre.com
END:VEVENT
BEGIN:VEVENT
DTSTART;TZID=America/New_York:20260523T193000
DTEND;TZID=America/New_York:20260523T223000
DTSTAMP:20260423T145933
CREATED:20260313T135715Z
LAST-MODIFIED:20260313T135715Z
UID:5896-1779564600-1779575400@altoonacommunitytheatre.com
SUMMARY:The Isaac Awards
DESCRIPTION:The mission of the Isaac Awards is to encourage and support excellence in high school musical theatre in our region through an annual awards event that recognizes student achievement. \nThe 21st Annual Isaac Awards for High School Musicals will be held May 23 and 24\, 2026 at 7:30 p.m. at Altoona’s historic Mishler Theatre. \nRead more about the awards at altoonacommunitytheatre.com/isaac-awards \nTickets to the event are sold directly to the participating schools\, and in the last few years we have had a completely full house of students\, educators\, and parents!
URL:https://altoonacommunitytheatre.com/event/the-isaac-awards/
LOCATION:The Historic Mishler Theatre\, 1208 12th Ave\, Altoona\, PA\, 16601\, United States
ATTACH;FMTTYPE=image/png:https://altoonacommunitytheatre.com/wp-content/uploads/2026/03/isaacs-est-2006-scaled.png
ORGANIZER;CN="Altoona Community Theatre":MAILTO:act@altoonacommunitytheatre.com
END:VEVENT
BEGIN:VEVENT
DTSTART;TZID=America/New_York:20260524T193000
DTEND;TZID=America/New_York:20260524T223000
DTSTAMP:20260423T145933
CREATED:20260313T135749Z
LAST-MODIFIED:20260313T135749Z
UID:5899-1779651000-1779661800@altoonacommunitytheatre.com
SUMMARY:The Isaac Awards
DESCRIPTION:The mission of the Isaac Awards is to encourage and support excellence in high school musical theatre in our region through an annual awards event that recognizes student achievement. \nThe 21st Annual Isaac Awards for High School Musicals will be held May 23 and 24\, 2026 at 7:30 p.m. at Altoona’s historic Mishler Theatre. \nRead more about the awards at altoonacommunitytheatre.com/isaac-awards \nTickets to the event are sold directly to the participating schools\, and in the last few years we have had a completely full house of students\, educators\, and parents!
URL:https://altoonacommunitytheatre.com/event/the-isaac-awards-2/
LOCATION:The Historic Mishler Theatre\, 1208 12th Ave\, Altoona\, PA\, 16601\, United States
ATTACH;FMTTYPE=image/png:https://altoonacommunitytheatre.com/wp-content/uploads/2026/03/isaacs-est-2006-scaled.png
ORGANIZER;CN="Altoona Community Theatre":MAILTO:act@altoonacommunitytheatre.com
END:VEVENT
END:VCALENDAR