BEGIN:VCALENDAR
VERSION:2.0
PRODID:-//Altoona Community Theatre - ECPv6.15.20//NONSGML v1.0//EN
CALSCALE:GREGORIAN
METHOD:PUBLISH
X-WR-CALNAME:Altoona Community Theatre
X-ORIGINAL-URL:https://altoonacommunitytheatre.com
X-WR-CALDESC:Events for Altoona Community Theatre
REFRESH-INTERVAL;VALUE=DURATION:PT1H
X-Robots-Tag:noindex
X-PUBLISHED-TTL:PT1H
BEGIN:VTIMEZONE
TZID:America/New_York
BEGIN:DAYLIGHT
TZOFFSETFROM:-0500
TZOFFSETTO:-0400
TZNAME:EDT
DTSTART:20180311T070000
END:DAYLIGHT
BEGIN:STANDARD
TZOFFSETFROM:-0400
TZOFFSETTO:-0500
TZNAME:EST
DTSTART:20181104T060000
END:STANDARD
BEGIN:DAYLIGHT
TZOFFSETFROM:-0500
TZOFFSETTO:-0400
TZNAME:EDT
DTSTART:20190310T070000
END:DAYLIGHT
BEGIN:STANDARD
TZOFFSETFROM:-0400
TZOFFSETTO:-0500
TZNAME:EST
DTSTART:20191103T060000
END:STANDARD
BEGIN:DAYLIGHT
TZOFFSETFROM:-0500
TZOFFSETTO:-0400
TZNAME:EDT
DTSTART:20200308T070000
END:DAYLIGHT
BEGIN:STANDARD
TZOFFSETFROM:-0400
TZOFFSETTO:-0500
TZNAME:EST
DTSTART:20201101T060000
END:STANDARD
BEGIN:DAYLIGHT
TZOFFSETFROM:-0500
TZOFFSETTO:-0400
TZNAME:EDT
DTSTART:20210314T070000
END:DAYLIGHT
BEGIN:STANDARD
TZOFFSETFROM:-0400
TZOFFSETTO:-0500
TZNAME:EST
DTSTART:20211107T060000
END:STANDARD
END:VTIMEZONE
BEGIN:VEVENT
DTSTART;TZID=America/New_York:20201106T190000
DTEND;TZID=America/New_York:20201108T140000
DTSTAMP:20260425T123744
CREATED:20201018T054853Z
LAST-MODIFIED:20201028T153719Z
UID:2012-1604689200-1604844000@altoonacommunitytheatre.com
SUMMARY:The Final Act of Dr. Faustus (Virtual Performance)
DESCRIPTION:Buy Tickets Now\nNovember 6 & 7\, 2020 – 7 p.m.\nNovember 8 – 2 p.m.\nTom Liszka is the director of “The Final Act of Dr. Faustus” which is based on Christopher Marlowe’s classic\, “The Tragical History of the Life and Death of Dr. Faustus.” The play tells the story of the famously brilliant scholar who sold his soul to the devil and ACT’s production focuses on the last day of Faustus’ life. \nIntroduced by the late Steve Helsel\, the performance features David Misera\, Tara Enedy\, Rodney Berkey\, Kristine Allen\, Hannah Misera\, Sister Caroline Caritas (aka Kelsey Ingold) and Valerie Stratton\, with additional tech by Marjorie Long\, Carl Newfield and Marlene Liszka.
URL:https://altoonacommunitytheatre.com/event/the-final-act-of-dr-faustus/
LOCATION:Virtual\, PA\, United States
CATEGORIES:Mainstage
END:VEVENT
BEGIN:VEVENT
DTSTART;VALUE=DATE:20200709
DTEND;VALUE=DATE:20200713
DTSTAMP:20260425T123744
CREATED:20191216T023208Z
LAST-MODIFIED:20200525T154339Z
UID:1500-1594252800-1594598399@altoonacommunitytheatre.com
SUMMARY:Gypsy - cancelled
DESCRIPTION:“Gypsy” tells the story of the dreams and determination of Mama Rose\, the quintessential Stage Mother\, a hungry powerhouse of a woman who will stop at nothing to see her daughters become famous\, leading one of them into a career as cabaret legend\, Gypsy Rose Lee. \nThe musical recounts the saga of the “stage gypsies” traveling the nationwide circuit of vaudeville theatres (just like the Mishler). \nOffering up rousing numbers like “Everything’s Coming Up Roses\,” “Let Me Entertain You\,” and “You Gotta Get a Gimmick\,” it’s a clever\, funny\, and provocative story that’s strikingly relevant more than 60 years after it premiered. \nBuy Tickets Now
URL:https://altoonacommunitytheatre.com/event/gypsy/
LOCATION:The Historic Mishler Theatre\, 1208 12th Ave\, Altoona\, PA\, 16601\, United States
CATEGORIES:Mainstage
ATTACH;FMTTYPE=image/jpeg:https://altoonacommunitytheatre.com/wp-content/uploads/2020/04/Gypsy-logo-4-8-20.jpg
ORGANIZER;CN="Altoona Community Theatre":MAILTO:act@altoonacommunitytheatre.com
END:VEVENT
BEGIN:VEVENT
DTSTART;TZID=America/New_York:20200614T190000
DTEND;TZID=America/New_York:20200614T210000
DTSTAMP:20260425T123744
CREATED:20200521T174758Z
LAST-MODIFIED:20200611T122625Z
UID:1936-1592161200-1592168400@altoonacommunitytheatre.com
SUMMARY:Virtual Isaac Awards
DESCRIPTION:The Isaacs are going virtual for 2020! \nThe Virtual Isaacs will be streamed via YouTube on Sunday\, June 14 at 7:00 p.m. Here is the YouTube link. \nIf it was a normal year\, the Mishler Theatre would have been filled to the rafters with high school students and their parents for the 15th annual Isaac Awards on May 23 and 24. But there’s been nothing normal about 2020. \nBecause of the COVID-19 pandemic\, only five of our twenty participating schools were able to perform their musical. In addition\, we obviously could not bring 1\,500 high school students\, their teachers\, and their parents to the Mishler Theatre over Memorial Day weekend for an awards show. \nThe good news is that\, based on feedback from our participating schools from across six counties\, we will be presenting the Virtual Isaacs on Sunday\, June 14 at 7:00 p.m. as a streaming broadcast on YouTube.  Just click on this link.
URL:https://altoonacommunitytheatre.com/event/virtual-isaac-awards/
LOCATION:PA
CATEGORIES:Education/Workshop
ORGANIZER;CN="Altoona Community Theatre":MAILTO:act@altoonacommunitytheatre.com
END:VEVENT
BEGIN:VEVENT
DTSTART;VALUE=DATE:20200608
DTEND;VALUE=DATE:20200815
DTSTAMP:20260425T123744
CREATED:20200407T173008Z
LAST-MODIFIED:20200620T132404Z
UID:1894-1591574400-1597449599@altoonacommunitytheatre.com
SUMMARY:Summer Drama Camps - links to at-home activities
DESCRIPTION:Unfortunately\, ACT’s 2020 Summer Drama Camps have been cancelled due to the COVID-19 pandemic.  We will miss seeing your kids’ smiling faces and doing activities together – but we’ve been compiling a list of great websites and links to videos for you and your young actors to enjoy at home. \nBelow are some of those resources to begin your “online summer theatre journey!”  We’ll be adding to the list periodically during the summer so keep an eye out for new choices. \nStay safe\, stay well\, and have fun!\nACT Summer Drama Camp Instructors \n  \nWebsites and Videos for Theatrical Kids! \nUCLArts & Healing series-healing through the Arts \nDisney Curriculum \nHamilton Education Program \nMehron stage make-up demos \nTour 11 Famous Theaters Across the World \n“Story Fairy” Weekly Scenes with Interactive Questions and Games \nFun Brain Breaks for Kids from Unicef KidPower
URL:https://altoonacommunitytheatre.com/event/summer-drama-camps/
LOCATION:ACT Rehearsal Hall\, 1213 12th St\, Altoona\, PA\, 16601\, United States
CATEGORIES:Education/Workshop
ORGANIZER;CN="Altoona Community Theatre":MAILTO:act@altoonacommunitytheatre.com
END:VEVENT
BEGIN:VEVENT
DTSTART;TZID=America/New_York:20200229T090000
DTEND;TZID=America/New_York:20200229T150000
DTSTAMP:20260425T123744
CREATED:20191216T014936Z
LAST-MODIFIED:20200131T195352Z
UID:1493-1582966800-1582988400@altoonacommunitytheatre.com
SUMMARY:Play in a Day Workshop for Kids
DESCRIPTION:Altoona Community Theatre will present a “Play in a Day” workshop on Saturday\, Feb. 29\, 2020\, from 9 a.m.-3 p.m. in the rehearsal hall of the Altoona Community Theatre Building. \nLead by Cindy Stanbro\, the workshop offers skilled and new artists the opportunity to go through the entire production process in six hours. Attendees will learn stage directions\, acting\, auditioning\, set design\, costuming\, and marketing while producing a short show. \nLunch will be provided. \nRegistration fee $50. \nOpen to students in grades one through nine. \nA free performance for family and friends will take place at 3 p.m. \nRegister Now
URL:https://altoonacommunitytheatre.com/event/play-in-a-day/
LOCATION:ACT Rehearsal Hall\, 1213 12th St\, Altoona\, PA\, 16601\, United States
CATEGORIES:Education/Workshop
ATTACH;FMTTYPE=image/jpeg:https://altoonacommunitytheatre.com/wp-content/uploads/2019/12/PIAD-sold-out.jpg
ORGANIZER;CN="Altoona Community Theatre":MAILTO:act@altoonacommunitytheatre.com
END:VEVENT
BEGIN:VEVENT
DTSTART;VALUE=DATE:20200213
DTEND;VALUE=DATE:20200217
DTSTAMP:20260425T123744
CREATED:20191103T071229Z
LAST-MODIFIED:20200127T101029Z
UID:1212-1581552000-1581897599@altoonacommunitytheatre.com
SUMMARY:A Midsummer Night’s Dream
DESCRIPTION:Thurs\, 2/13 – 7:30 p.m.\nFri\, 2/14 – 7:30 p.m.\nSat\, 2/15 – 7:30 p.m.\nSun\, 2/16 – 2:00 p.m.\n\nOne of Shakespeare’s most beloved comedies. On the eve of a royal wedding\, a quartet of lovers and a motley group of amateur actors enter a fairy-filled forest. In a single\, fantastical night in this bewitched wilderness of moonlight and magic\, Shakespeare creates an enchanting and humorous exploration of romance. \nWhen the worlds of mortals and fairies cross paths\, what ensues is sorcery\, mischief\, explosive passion\, fickle infatuation\, and shape-shifting mayhem in a hilarious adventure where ridiculous antics lead to magical moments. \nBuy Tickets Now
URL:https://altoonacommunitytheatre.com/event/a-midsummer-nights-dream/
LOCATION:The Historic Mishler Theatre\, 1208 12th Ave\, Altoona\, PA\, 16601\, United States
CATEGORIES:Mainstage
ATTACH;FMTTYPE=image/jpeg:https://altoonacommunitytheatre.com/wp-content/uploads/2016/07/poster-1-16.jpg
ORGANIZER;CN="Altoona Community Theatre":MAILTO:act@altoonacommunitytheatre.com
END:VEVENT
BEGIN:VEVENT
DTSTART;TZID=America/New_York:20200125T090000
DTEND;TZID=America/New_York:20200125T120000
DTSTAMP:20260425T123744
CREATED:20191103T071738Z
LAST-MODIFIED:20200102T211655Z
UID:1219-1579942800-1579953600@altoonacommunitytheatre.com
SUMMARY:Set Design Workshop
DESCRIPTION:​A partnership with Blair County Arts Foundation and Altoona Community Theatre. Learn set design concepts from Al Pelliccioni and how to turn those ideas into reality. Coffee and donuts provided. \n$15 registration fee. \n18 years and older. \nClass takes place at the Mishler Theatre. \nRegister Now
URL:https://altoonacommunitytheatre.com/event/set-design-workshop/
LOCATION:The Historic Mishler Theatre\, 1208 12th Ave\, Altoona\, PA\, 16601\, United States
CATEGORIES:Education/Workshop
ATTACH;FMTTYPE=image/jpeg:https://altoonacommunitytheatre.com/wp-content/uploads/2019/12/set-design-workshop-2.jpg
END:VEVENT
BEGIN:VEVENT
DTSTART;TZID=America/New_York:20200112T180000
DTEND;TZID=America/New_York:20200113T210000
DTSTAMP:20260425T123744
CREATED:20191219T035310Z
LAST-MODIFIED:20200106T200144Z
UID:1511-1578852000-1578949200@altoonacommunitytheatre.com
SUMMARY:Gypsy Auditions
DESCRIPTION:Auditions for Gypsy directed by Bryce Cossitor will be January 12th and 13th from 6-9 pm at the Mishler Theatre. Children (14 and under) will be seen from 6-7 pm. Adults will be seen from 7-9 pm. Please prepare 16 to 32 bars of a Broadway standard. Accompanist provided. Please provide music in the appropriate key. If you prefer not to prepare a song in advance\, one will be taught at auditions. All should dress comfortably and bring appropriate shoes for a simple dance audition. \nCharacter breakdowns are below. All roles are open. Ages are just a guideline\, not definitive. Roles will be cast relative to the ensemble chosen. Ages may fluctuate in accordance. \n\nMomma Rose (ages from 35 – 50) The ultimate stage mother. Lives her life vicariously through her two daughters\, whom she’s put into show business. She is loud\, brash\, pushy and single-minded\, but at times can be doting and charming. She is holding down demons of her own that she is afraid to face. Her voice is the ultimate powerful Broadway belt. Minimal dance but must move well. Comic timing a must. Strong Mezzo/Alto with good low notes and belt.\nBaby June (about 10) is a Shirley Temple-like up-and-coming vaudeville star\, and Madam Rose’s youngest daughter. Her onstage demeanor is sugary-sweet\, cute\, precocious and adorable to the nth degree. Must be no taller than 3′\, 5″. An adorable character – Mama Rose’s shining star. Strong child singer\, strong dancer and taps. Mezzo.\nYoung Louise (about 12) She should look a couple years older than Baby June. She is Madam Rose’s brow-beaten oldest daughter\, and has always played second fiddle to her baby sister. She is shy\, awkward\, a little sad and subdued; she doesn’t have the confidence of her sister. Strong acting skills needed. The character always dances slightly out of step but the actress playing this part must be able to dance. Mezzo singer.\nHerbie (about 45) agent for Rose’s children and Rose’s boyfriend and a possible husband number 4. He has a heart of gold but also has the power to defend the people he loves with strength. Minimum dance. A Baritone\, sings in one group number\, two duets and trio with Rose and Louise. Strong acting role.\nDainty June (16-24) Baby June as a young teenager. The older she gets\, the less she enjoys being her mother’s trained monkey. Strong Alto\, must be able to belt a song and have decent dancing skills. The ability to do the splits and twirl a baton a big plus\, but not a requirement. Must dance very well\, taps\, strong Broadway teen singer\, close harmony skills preferred.\nLouise/Gypsy Rose Lee (18 – 25) Baby Louise as a teenager\, who grows up to be Gypsy Rose Lee. Still pushed aside by Madam Rose in favor of June\, until she herself becomes her mother’s new pet project. Should be able to move well. Minimum actual dance but must have very strong movement skills\, strong acting skills needed. Must be able to portray both the awkward teen and a sophisticated woman we know now as Gypsy Rose Lee. Must dance inside a dancing cow costume\, must be comfortable with the character’s profession – stripping. The character is very scantily clad but never actual appears in the nude. Mezzo (needs light sound for “little Lamb” and belt for “Let Me Entertain You.”\nDressy Tessie Tura (20s-40s) a stripper just past her prime. Big Broadway voice (Mezzo Belt)\, strong movement/dance\, ballet training helpful. A burlesque dancer that shares her dressing room with Louise. She was once a ballerina and still has some of the moves. A course broad who’s been around the block. Very funny.\nMazeppa (20s-40s) a stripper just past her prime. Big Broadway voice (Alto Belt)\, strong movement/dance\, powerful character. A burlesque dancer who’s tough and physically intimidating. Trumpet playing skills would be outstanding but not required.\nElectra (20s-40s) a stripper just past her prime. Big Broadway voice (Mezzo Belt)\, strong movement/dance. Quieter than her counterparts but her costume is wired with lights\, allowing her to “shine” without working up a sweat. Ditzy and sweet.\nCratchitt (any age over 20) the production assistant for the Grantzinger theater\, N.Y.C. The comedic role.\nChildren’s Ensemble (ages 10 -12) Two or three young boys and one young girl. Baby June’s back up dancers and singers. Ability of one child to play accordion or clarinet a plus. Must sing and dance.\nYoung Women’s Ensemble (ages 20 – 30) singer/dancers who act as both the back up dancers for Louise/Gypsy Rose Lee and perform in the large burlesque numbers in the second act. Strong dancers. Some comic skills very helpful. Very minimal singing. A few have minor expanded roles.\nAgnes (20-30) one of the women’s dancing chorus\, strong comic skills required.\nYoung Men’s Ensemble (ages 16 -20) Six young men sing and dance backup for teenage June\, plus join in the number “Have an Eggroll\, Mr. Goldstone.” Should be strong singers and dancers. Will double as small parts in Act I and Act II\, plus some backup dancing in Gypsy’s strip routine. Must be very strong dancers and singers. Comic time preferred.\nTulsa (age 17 – 20) Boy-next-door type. Strives to break out of the troupe with an act of his own. Sings and dances “All I Need Is the Girl.” Extremely strong dancer in all styles of show dance including tap. Good singer\, charming\, very athletic and handsome young man. High Baritone.\nKringelin (adult male character over 35) the put upon manager of a hotel.\nMr. Goldstone (any age over 30) Booking agent for the Orpheum Theater Circuit. Chaplin-like skills a must never speaks.\nCigar (adult male\, age 30-50) rather aggressive owner of a burlesque theatre\, Classic character part.\nPastey (any age) Cigar’s stage manager.\nChowsie A small dog (with a good temperament).\n\n“Gypsy” tells the story of the dreams and determination of Mama Rose\, the quintessential Stage Mother\, a hungry powerhouse of a woman who will stop at nothing to see her daughters become famous\, leading one of them into a career as cabaret legend\, Gypsy Rose Lee. The musical recounts the saga of the “stage gypsies” traveling the nationwide circuit of vaudeville theatres (just like the Mishler). Offering up rousing numbers like “Everything’s Coming Up Roses\,” “Let Me Entertain You\,” and “You Gotta Get a Gimmick\,” it’s a clever\, funny\, and provocative story that’s strikingly relevant more than 60 years after it premiered. \nQuestions? Email act@altoonacommunitytheatre.com.
URL:https://altoonacommunitytheatre.com/event/gypsy-auditions/
LOCATION:The Historic Mishler Theatre\, 1208 12th Ave\, Altoona\, PA\, 16601\, United States
CATEGORIES:Auditions
ATTACH;FMTTYPE=image/jpeg:https://altoonacommunitytheatre.com/wp-content/uploads/2019/12/Gypsy-logo-horizontal.jpg
END:VEVENT
BEGIN:VEVENT
DTSTART;TZID=America/New_York:20191121T193000
DTEND;TZID=America/New_York:20191124T163000
DTSTAMP:20260425T123744
CREATED:20191117T202342Z
LAST-MODIFIED:20191117T202438Z
UID:1450-1574364600-1574613000@altoonacommunitytheatre.com
SUMMARY:Elf: The Musical
DESCRIPTION:Thurs\, 11/21 – 7:30 p.m.\nFri\, 11/22 – 7:30 p.m.\nSat\, 11/23 – 7:30 p.m.\nSun\, 11/24 – 2:00 p.m.\n\nBased on the hilarious Will Ferrell holiday movie\, Buddy\, an orphaned baby\, mistakenly crawls into Santa’s bag and is transported to the North Pole. The would-be elf is raised unaware that he is actually a human until his enormous size causes him to face the truth. Buddy embarks on a journey to New York City to find his birth father and to discover his true identity. Faced with the harsh reality that his father is on the Naughty List\, Buddy is determined to win over his new family and help NYC remember the true meaning of Christmas. After all\, “the best way to spread Christmas Cheer is singing loud for all to hear.” \nBuy Tickets Now
URL:https://altoonacommunitytheatre.com/event/elf-the-musical/
LOCATION:The Historic Mishler Theatre\, 1208 12th Ave\, Altoona\, PA\, 16601\, United States
CATEGORIES:Mainstage
ATTACH;FMTTYPE=image/jpeg:https://altoonacommunitytheatre.com/wp-content/uploads/2019/11/elf.jpg
ORGANIZER;CN="Altoona Community Theatre":MAILTO:act@altoonacommunitytheatre.com
END:VEVENT
END:VCALENDAR