BEGIN:VCALENDAR
VERSION:2.0
PRODID:-//Altoona Community Theatre - ECPv6.15.20//NONSGML v1.0//EN
CALSCALE:GREGORIAN
METHOD:PUBLISH
X-WR-CALNAME:Altoona Community Theatre
X-ORIGINAL-URL:https://altoonacommunitytheatre.com
X-WR-CALDESC:Events for Altoona Community Theatre
REFRESH-INTERVAL;VALUE=DURATION:PT1H
X-Robots-Tag:noindex
X-PUBLISHED-TTL:PT1H
BEGIN:VTIMEZONE
TZID:America/New_York
BEGIN:DAYLIGHT
TZOFFSETFROM:-0500
TZOFFSETTO:-0400
TZNAME:EDT
DTSTART:20230312T070000
END:DAYLIGHT
BEGIN:STANDARD
TZOFFSETFROM:-0400
TZOFFSETTO:-0500
TZNAME:EST
DTSTART:20231105T060000
END:STANDARD
BEGIN:DAYLIGHT
TZOFFSETFROM:-0500
TZOFFSETTO:-0400
TZNAME:EDT
DTSTART:20240310T070000
END:DAYLIGHT
BEGIN:STANDARD
TZOFFSETFROM:-0400
TZOFFSETTO:-0500
TZNAME:EST
DTSTART:20241103T060000
END:STANDARD
BEGIN:DAYLIGHT
TZOFFSETFROM:-0500
TZOFFSETTO:-0400
TZNAME:EDT
DTSTART:20250309T070000
END:DAYLIGHT
BEGIN:STANDARD
TZOFFSETFROM:-0400
TZOFFSETTO:-0500
TZNAME:EST
DTSTART:20251102T060000
END:STANDARD
END:VTIMEZONE
BEGIN:VEVENT
DTSTART;TZID=America/New_York:20240215T193000
DTEND;TZID=America/New_York:20240215T220000
DTSTAMP:20260425T063851
CREATED:20240111T190028Z
LAST-MODIFIED:20240208T204853Z
UID:4125-1708025400-1708034400@altoonacommunitytheatre.com
SUMMARY:Angel Street (Gaslight)
DESCRIPTION:Angel Street (Gaslight)\nby Patrick Hamilton\nDirected by Matt Michrina\nFebruary 15\, 16\, & 17 at 7:30 PM\n& February 18 at 2:00 PM\nMystery and madness loom in the air in this classic Victorian thriller.  Strange things have been happening in the Manningham household: items go missing\, their dog is injured\, and Mrs. Manningham hears footsteps coming from the locked\, uninhabited top floor.  She fears that she is going mad–that is certainly what Mr. Manningham believes.  But when Detective Rough arrives one night to visit Mrs. Manningham while she is alone\, questions arise and secrets are revealed. \nFirst performed in 1939\, this play is relevant today since it is the origin of the term “gaslighting” which Merriam-Webster named their “word of the year” for 2022. \n  \nRecommended for mature audiences. This show contains scenes of domestic violence that may be sensitive for some viewers.\nPlease call the ACT Office at 814-943-4357 if you have any questions about show content. \nApproximate run time for the performance is two and a half hours\, including one 15 minute intermission. \n  \nTICKETS ON SALE NOW!\nhttp://mishlertheatre.vbotickets.com/event/angel_street_gaslight/98254 \n  \nProudly Partnering with \n \nFamily Services Incorported will be collecting donations at all performances of “Angel Street (Gaslight)”. Please consider bringing cash for a contribution. \nFamily Services Incorporated provides many services to Blair County PA\, including: \n\nOffering shelter services and specialized housing.\nTargeting prevention of abuse and victimization.\nEmpowering those dealing with the results of abuse and victimization.\nAssisting victims of trauma from events or relationships in their lives.\nMeeting the Needs of Our Community through self determination and the use of guiding principals\, we provide personalized support to individuals with intellectual disabilities\n\nLearn more or contact Family Services Incorporated:\nwww.familyservicesinc.net\n2022 Broad Ave\, Altoona\, PA 16601\n(814) 944-3583 \nCall or text the Victim Services Helpline at 814-944-3585. \n 
URL:https://altoonacommunitytheatre.com/event/angel-street-gaslight/
LOCATION:The Historic Mishler Theatre\, 1208 12th Ave\, Altoona\, PA\, 16601\, United States
CATEGORIES:Mainstage
ATTACH;FMTTYPE=image/png:https://altoonacommunitytheatre.com/wp-content/uploads/2023/10/Angel-Street-Logo.png
ORGANIZER;CN="Altoona Community Theatre":MAILTO:act@altoonacommunitytheatre.com
END:VEVENT
BEGIN:VEVENT
DTSTART;TZID=America/New_York:20240216T193000
DTEND;TZID=America/New_York:20240216T220000
DTSTAMP:20260425T063851
CREATED:20240111T190306Z
LAST-MODIFIED:20240208T204850Z
UID:4129-1708111800-1708120800@altoonacommunitytheatre.com
SUMMARY:Angel Street (Gaslight)
DESCRIPTION:Angel Street (Gaslight)\nby Patrick Hamilton\nDirected by Matt Michrina\nFebruary 15\, 16\, & 17 at 7:30 PM\n& February 18 at 2:00 PM\nMystery and madness loom in the air in this classic Victorian thriller.  Strange things have been happening in the Manningham household: items go missing\, their dog is injured\, and Mrs. Manningham hears footsteps coming from the locked\, uninhabited top floor.  She fears that she is going mad–that is certainly what Mr. Manningham believes.  But when Detective Rough arrives one night to visit Mrs. Manningham while she is alone\, questions arise and secrets are revealed. \nFirst performed in 1939\, this play is relevant today since it is the origin of the term “gaslighting” which Merriam-Webster named their “word of the year” for 2022. \n  \nRecommended for mature audiences. This show contains scenes of domestic violence that may be sensitive for some viewers.\nPlease call the ACT Office at 814-943-4357 if you have any questions about show content. \nApproximate run time for the performance is two and a half hours\, including one 15 minute intermission. \n  \nTICKETS ON SALE NOW!\nhttp://mishlertheatre.vbotickets.com/event/angel_street_gaslight/98254 \n  \nProudly Partnering with \n \nFamily Services Incorported will be collecting donations at all performances of “Angel Street (Gaslight)”. Please consider bringing cash for a contribution. \nFamily Services Incorporated provides many services to Blair County PA\, including: \n\nOffering shelter services and specialized housing.\nTargeting prevention of abuse and victimization.\nEmpowering those dealing with the results of abuse and victimization.\nAssisting victims of trauma from events or relationships in their lives.\nMeeting the Needs of Our Community through self determination and the use of guiding principals\, we provide personalized support to individuals with intellectual disabilities\n\nLearn more or contact Family Services Incorporated:\nwww.familyservicesinc.net\n2022 Broad Ave\, Altoona\, PA 16601\n(814) 944-3583 \nCall or text the Victim Services Helpline at 814-944-3585. \n 
URL:https://altoonacommunitytheatre.com/event/angel-street-gaslight-2/
LOCATION:The Historic Mishler Theatre\, 1208 12th Ave\, Altoona\, PA\, 16601\, United States
CATEGORIES:Mainstage
ATTACH;FMTTYPE=image/png:https://altoonacommunitytheatre.com/wp-content/uploads/2023/10/Angel-Street-Logo.png
ORGANIZER;CN="Altoona Community Theatre":MAILTO:act@altoonacommunitytheatre.com
END:VEVENT
BEGIN:VEVENT
DTSTART;TZID=America/New_York:20240217T193000
DTEND;TZID=America/New_York:20240217T220000
DTSTAMP:20260425T063851
CREATED:20240111T190345Z
LAST-MODIFIED:20240208T204848Z
UID:4130-1708198200-1708207200@altoonacommunitytheatre.com
SUMMARY:Angel Street (Gaslight)
DESCRIPTION:Angel Street (Gaslight)\nby Patrick Hamilton\nDirected by Matt Michrina\nFebruary 15\, 16\, & 17 at 7:30 PM\n& February 18 at 2:00 PM\nMystery and madness loom in the air in this classic Victorian thriller.  Strange things have been happening in the Manningham household: items go missing\, their dog is injured\, and Mrs. Manningham hears footsteps coming from the locked\, uninhabited top floor.  She fears that she is going mad–that is certainly what Mr. Manningham believes.  But when Detective Rough arrives one night to visit Mrs. Manningham while she is alone\, questions arise and secrets are revealed. \nFirst performed in 1939\, this play is relevant today since it is the origin of the term “gaslighting” which Merriam-Webster named their “word of the year” for 2022. \n  \nRecommended for mature audiences. This show contains scenes of domestic violence that may be sensitive for some viewers.\nPlease call the ACT Office at 814-943-4357 if you have any questions about show content. \nApproximate run time for the performance is two and a half hours\, including one 15 minute intermission. \n  \nTICKETS ON SALE NOW!\nhttp://mishlertheatre.vbotickets.com/event/angel_street_gaslight/98254 \n  \nProudly Partnering with \n \nFamily Services Incorported will be collecting donations at all performances of “Angel Street (Gaslight)”. Please consider bringing cash for a contribution. \nFamily Services Incorporated provides many services to Blair County PA\, including: \n\nOffering shelter services and specialized housing.\nTargeting prevention of abuse and victimization.\nEmpowering those dealing with the results of abuse and victimization.\nAssisting victims of trauma from events or relationships in their lives.\nMeeting the Needs of Our Community through self determination and the use of guiding principals\, we provide personalized support to individuals with intellectual disabilities\n\nLearn more or contact Family Services Incorporated:\nwww.familyservicesinc.net\n2022 Broad Ave\, Altoona\, PA 16601\n(814) 944-3583 \nCall or text the Victim Services Helpline at 814-944-3585. \n 
URL:https://altoonacommunitytheatre.com/event/angel-street-gaslight-3/
LOCATION:The Historic Mishler Theatre\, 1208 12th Ave\, Altoona\, PA\, 16601\, United States
CATEGORIES:Mainstage
ATTACH;FMTTYPE=image/png:https://altoonacommunitytheatre.com/wp-content/uploads/2023/10/Angel-Street-Logo.png
ORGANIZER;CN="Altoona Community Theatre":MAILTO:act@altoonacommunitytheatre.com
END:VEVENT
BEGIN:VEVENT
DTSTART;TZID=America/New_York:20240218T140000
DTEND;TZID=America/New_York:20240218T160000
DTSTAMP:20260425T063851
CREATED:20240111T190407Z
LAST-MODIFIED:20240208T204845Z
UID:4131-1708264800-1708272000@altoonacommunitytheatre.com
SUMMARY:Angel Street (Gaslight)
DESCRIPTION:Angel Street (Gaslight)\nby Patrick Hamilton\nDirected by Matt Michrina\nFebruary 15\, 16\, & 17 at 7:30 PM\n& February 18 at 2:00 PM\nMystery and madness loom in the air in this classic Victorian thriller.  Strange things have been happening in the Manningham household: items go missing\, their dog is injured\, and Mrs. Manningham hears footsteps coming from the locked\, uninhabited top floor.  She fears that she is going mad–that is certainly what Mr. Manningham believes.  But when Detective Rough arrives one night to visit Mrs. Manningham while she is alone\, questions arise and secrets are revealed. \nFirst performed in 1939\, this play is relevant today since it is the origin of the term “gaslighting” which Merriam-Webster named their “word of the year” for 2022. \n  \nRecommended for mature audiences. This show contains scenes of domestic violence that may be sensitive for some viewers.\nPlease call the ACT Office at 814-943-4357 if you have any questions about show content. \nApproximate run time for the performance is two and a half hours\, including one 15 minute intermission. \n  \nTICKETS ON SALE NOW!\nhttp://mishlertheatre.vbotickets.com/event/angel_street_gaslight/98254 \n  \nProudly Partnering with \n \nFamily Services Incorported will be collecting donations at all performances of “Angel Street (Gaslight)”. Please consider bringing cash for a contribution. \nFamily Services Incorporated provides many services to Blair County PA\, including: \n\nOffering shelter services and specialized housing.\nTargeting prevention of abuse and victimization.\nEmpowering those dealing with the results of abuse and victimization.\nAssisting victims of trauma from events or relationships in their lives.\nMeeting the Needs of Our Community through self determination and the use of guiding principals\, we provide personalized support to individuals with intellectual disabilities\n\nLearn more or contact Family Services Incorporated:\nwww.familyservicesinc.net\n2022 Broad Ave\, Altoona\, PA 16601\n(814) 944-3583 \nCall or text the Victim Services Helpline at 814-944-3585. \n 
URL:https://altoonacommunitytheatre.com/event/angel-street-gaslight-4/
LOCATION:The Historic Mishler Theatre\, 1208 12th Ave\, Altoona\, PA\, 16601\, United States
CATEGORIES:Mainstage
ATTACH;FMTTYPE=image/png:https://altoonacommunitytheatre.com/wp-content/uploads/2023/10/Angel-Street-Logo.png
ORGANIZER;CN="Altoona Community Theatre":MAILTO:act@altoonacommunitytheatre.com
END:VEVENT
BEGIN:VEVENT
DTSTART;TZID=America/New_York:20240223T190000
DTEND;TZID=America/New_York:20240223T210000
DTSTAMP:20260425T063851
CREATED:20240212T181244Z
LAST-MODIFIED:20240212T211132Z
UID:4202-1708714800-1708722000@altoonacommunitytheatre.com
SUMMARY:Membership Meeting
DESCRIPTION:Friday\, February 23 at 7 pm\nACT Rehearsal Hall\n1213 12th St\, Downtown Altoona\n\nGeneral Membership Meeting Agenda\n– Vote on proposed slate for 2024-2025\n– Elect new Artistic Committee members\n\nJoin as Member or to Renew Your Membership:\nhttps://altoonacommunitytheatre.com/membership/\n\nYour dues must be up-to-date in order to vote. \n\n\n\n\nArtistic Committee’s proposed slate of shows:\n\nSeptember\nPrimary – Chicago\nAlternate – Sweet Charity \nNovember\nPrimary – A Dickens Christmas Carol – A Traveling Travesty in Two Tumultuous Acts\nAlternate – Boeing Boeing \nFebruary\nPrimary – Much Ado about Nothing\nAlternate – Twelfth Night \nMay\nPrimary – Mary Poppins\nAlternate – Rodgers & Hammerstein’s Cinderella \n\n\n\n\n\n \nFour Artistic Committee members are at the end of their terms and we will be voting on their replacements for new two-year terms. Thank you to Allyssa Piper\, Laura Letsche\, Katie Kensinger\, and Matt Michrina for their dedication & time. If you would like to put your name\, or someone else’s name\, on the ballot for a new two-year term\, please send us an email! Nominations for the ballot will also be accepted from the floor. Each nominee will be given a couple of minutes to address the membership and share why they’d like to be on the Artist Committee. \nIf you are submitting someone else’s name for the ballot – check with them first and CC them on the email\, please. Being on the Artistic Committee is a lot of fun\, but it does require a larger time committment\, both in meetings and in reading or watching or listening to shows.
URL:https://altoonacommunitytheatre.com/event/membership-meeting-4/
LOCATION:ACT Rehearsal Hall\, 1213 12th St\, Altoona\, PA\, 16601\, United States
CATEGORIES:Meetings,Membership Events
ATTACH;FMTTYPE=image/png:https://altoonacommunitytheatre.com/wp-content/uploads/2022/02/YOUR-VOTE-COUNTS-1.png
ORGANIZER;CN="Altoona Community Theatre":MAILTO:act@altoonacommunitytheatre.com
END:VEVENT
BEGIN:VEVENT
DTSTART;TZID=America/New_York:20240225T150000
DTEND;TZID=America/New_York:20240225T163000
DTSTAMP:20260425T063851
CREATED:20240111T195340Z
LAST-MODIFIED:20240111T202927Z
UID:4140-1708873200-1708878600@altoonacommunitytheatre.com
SUMMARY:Pinkalicious (Family Theatre at the Mishler)
DESCRIPTION:Altoona Community Theatre Presents\nPINKALICIOUS the Musical\nAs part of the Blair County Arts Foundation’s Family Theatre at the Mishler Series\nBook by Elizabeth Kann & Victoria Kann\nMusic by John Gregor\nLyrics by John Gregor\, Elizabeth Kann\, & Victoria Kann\nBased on the book “Pinkalicious” by Victoria Kann & Elizabeth Kann\nFebruary 25\, 2024 at 3 PM in the Historic Mishler Theatre \nPinkalicious can’t stop eating pink cupcakes despite warnings from her parents. Her pink indulgence lands her at the doctor’s office with Pinkititis\, an affliction that turns her pink from head to toe – a dream come true for this pink loving enthusiast. But when her hue goes too far\, only Pinkalicious can figure out a way to get out of this predicament.
URL:https://altoonacommunitytheatre.com/event/pinkalicious/
LOCATION:The Historic Mishler Theatre\, 1208 12th Ave\, Altoona\, PA\, 16601\, United States
CATEGORIES:Family Theatre Series,Mainstage
ATTACH;FMTTYPE=image/png:https://altoonacommunitytheatre.com/wp-content/uploads/2024/01/Pinkalicious-logo.png
ORGANIZER;CN="Altoona Community Theatre":MAILTO:act@altoonacommunitytheatre.com
END:VEVENT
END:VCALENDAR