BEGIN:VCALENDAR
VERSION:2.0
PRODID:-//Altoona Community Theatre - ECPv6.15.20//NONSGML v1.0//EN
CALSCALE:GREGORIAN
METHOD:PUBLISH
X-WR-CALNAME:Altoona Community Theatre
X-ORIGINAL-URL:https://altoonacommunitytheatre.com
X-WR-CALDESC:Events for Altoona Community Theatre
REFRESH-INTERVAL;VALUE=DURATION:PT1H
X-Robots-Tag:noindex
X-PUBLISHED-TTL:PT1H
BEGIN:VTIMEZONE
TZID:America/New_York
BEGIN:DAYLIGHT
TZOFFSETFROM:-0500
TZOFFSETTO:-0400
TZNAME:EDT
DTSTART:20230312T070000
END:DAYLIGHT
BEGIN:STANDARD
TZOFFSETFROM:-0400
TZOFFSETTO:-0500
TZNAME:EST
DTSTART:20231105T060000
END:STANDARD
BEGIN:DAYLIGHT
TZOFFSETFROM:-0500
TZOFFSETTO:-0400
TZNAME:EDT
DTSTART:20240310T070000
END:DAYLIGHT
BEGIN:STANDARD
TZOFFSETFROM:-0400
TZOFFSETTO:-0500
TZNAME:EST
DTSTART:20241103T060000
END:STANDARD
BEGIN:DAYLIGHT
TZOFFSETFROM:-0500
TZOFFSETTO:-0400
TZNAME:EDT
DTSTART:20250309T070000
END:DAYLIGHT
BEGIN:STANDARD
TZOFFSETFROM:-0400
TZOFFSETTO:-0500
TZNAME:EST
DTSTART:20251102T060000
END:STANDARD
END:VTIMEZONE
BEGIN:VEVENT
DTSTART;TZID=America/New_York:20240803T110000
DTEND;TZID=America/New_York:20240803T130000
DTSTAMP:20260424T183821
CREATED:20240708T191153Z
LAST-MODIFIED:20240708T191153Z
UID:4468-1722682800-1722690000@altoonacommunitytheatre.com
SUMMARY:Much Ado About Shakespeare (Workshop)
DESCRIPTION:Session 1 of 4 (attendance to all sessions not required\, but different topics will be discussed at each class). \nLearn more and sign up here.\n  \nClasses are open to ALL who are interested\, but they are especially geared towards potential Much Ado About Nothing auditionees who’d like an introduction to the basics.\nAttendance at this workshop is NOT required in order to audition.
URL:https://altoonacommunitytheatre.com/event/much-ado-about-shakespeare-workshop-4/
LOCATION:ACT Rehearsal Hall\, 1213 12th St\, Altoona\, PA\, 16601\, United States
CATEGORIES:Auditions,Education/Workshop,Membership Events
ATTACH;FMTTYPE=image/png:https://altoonacommunitytheatre.com/wp-content/uploads/2024/07/Shakespeare-workshop-icon.png
ORGANIZER;CN="Altoona Community Theatre":MAILTO:act@altoonacommunitytheatre.com
END:VEVENT
BEGIN:VEVENT
DTSTART;TZID=America/New_York:20240809T190000
DTEND;TZID=America/New_York:20240809T210000
DTSTAMP:20260424T183821
CREATED:20240709T180820Z
LAST-MODIFIED:20240709T184555Z
UID:4474-1723230000-1723237200@altoonacommunitytheatre.com
SUMMARY:Aladdin Jr (The Penguin Project at ACT)
DESCRIPTION:The Penguin Project at Altoona Community Theatre’s\nProduction of Disney’s\nALADDIN JR\nAladdin Jr. will perform at the Altoona Area High School on August 9 at 7 pm and August 10 at 2 pm.\nTickets available now at altoonaasd.booktix.com\nPlease call the ACT Office at 814-943-4357 for assistance purchasing tickets\nThis production is made possible by a partnership with the Altoona Area School District; and grants from the Zack Hinish Foundation\, UPMC Altoona\, Ambucs of Altoona\, Rotary Club of Altoona\, and the Central Pennsylvania Community Foundation. \nClick here to learn more about The Penguin Project® at Altoona Community Theatre \n  \nDisney’s Aladdin Jr\nMusic by Alan Menken\nLyrics by Howard Ashman\, Tim Rice\, and Chad Beguelin\nBook by Chad Beguelin\nBased on the Disney film written by Ron Clements\, John Musker\, Ted Elliot & Terry Rossio\nand directed & produced by Ron Clements & John Musker \nPresented through special arrangement with Music Theatre International (MTI).\nAll authorized performance materials are also supplied by MTI.\nww.MTIShows.com \n 
URL:https://altoonacommunitytheatre.com/event/aladdin-jr-the-penguin-project-at-act/
LOCATION:Altoona Area High School Auditorium\, 1415 6th Ave\, Altoona\, PA\, 16602
ATTACH;FMTTYPE=image/png:https://altoonacommunitytheatre.com/wp-content/uploads/2024/07/ALADDINJR_LOGO_TITLE_LIGHT_4C.png
ORGANIZER;CN="Altoona Community Theatre":MAILTO:act@altoonacommunitytheatre.com
END:VEVENT
BEGIN:VEVENT
DTSTART;TZID=America/New_York:20240810T140000
DTEND;TZID=America/New_York:20240810T160000
DTSTAMP:20260424T183821
CREATED:20240709T181025Z
LAST-MODIFIED:20240709T181107Z
UID:4481-1723298400-1723305600@altoonacommunitytheatre.com
SUMMARY:Aladdin Jr (The Penguin Project at ACT)
DESCRIPTION:The Penguin Project at Altoona Community Theatre’s\nProduction of Disney’s\nALADDIN JR\nAladdin Jr. will perform at the Altoona Area High School on August 9 at 7 pm and August 10 at 2 pm.\nTickets available now at altoonaasd.booktix.com\nPlease call the ACT Office at 814-943-4357 for assistance purchasing tickets\nThis production is made possible by a partnership with the Altoona Area School District; and grants from the Zack Hinish Foundation\, UPMC Altoona\, Ambucs of Altoona\, Rotary Club of Altoona\, and the Central Pennsylvania Community Foundation. \nClick here to learn more about The Penguin Project® at Altoona Community Theatre \n  \nDisney’s Aladdin Jr\nMusic by Alan Menken\nLyrics by Howard Ashman\, Tim Rice\, and Chad Beguelin\nBook by Chad Beguelin\nBased on the Disney film written by Ron Clements\, John Musker\, Ted Elliot & Terry Rossio\nand directed & produced by Ron Clements & John Musker \nPresented through special arrangement with Music Theatre International (MTI).\nAll authorized performance materials are also supplied by MTI.\nww.MTIShows.com \n 
URL:https://altoonacommunitytheatre.com/event/aladdin-jr-the-penguin-project-at-act-2/
LOCATION:Altoona Area High School Auditorium\, 1415 6th Ave\, Altoona\, PA\, 16602
CATEGORIES:The Penguin Project
ATTACH;FMTTYPE=image/png:https://altoonacommunitytheatre.com/wp-content/uploads/2024/07/ALADDINJR_LOGO_TITLE_LIGHT_4C.png
ORGANIZER;CN="Altoona Community Theatre":MAILTO:act@altoonacommunitytheatre.com
END:VEVENT
BEGIN:VEVENT
DTSTART;TZID=America/New_York:20240817T150000
DTEND;TZID=America/New_York:20240817T180000
DTSTAMP:20260424T183821
CREATED:20240417T135913Z
LAST-MODIFIED:20240813T174713Z
UID:4260-1723906800-1723917600@altoonacommunitytheatre.com
SUMMARY:Rails & Ales Brewfest
DESCRIPTION:Drink for a good cause! Sample beers from your favorite local breweries\, enjoy great food\, and support Altoona Community Theatre. \n\nWhen: August 17\, 2024\nWhere: Heritage Plaza\, 1401 11th Ave\, Downtown Altoona\nRain or Shine Event! \nMore information & tickets at railsandalesaltoona.com \n\n\n\n\nIf you’re interested in being a beer or wine vendor\, food truck\, or Sponsor for the event\, you can get more information at railsandalesaltoona.com\nOR contact the ACT Office at 814-943-4357 or act@altoonacommunitytheatre.com
URL:https://altoonacommunitytheatre.com/event/rails-ales-brewfest-3/
LOCATION:Heritage Plaza\, Downtown Altoona\, Altoona
CATEGORIES:Fundraiser
ATTACH;FMTTYPE=image/png:https://altoonacommunitytheatre.com/wp-content/uploads/2021/04/basic-logo.png
ORGANIZER;CN="Altoona Community Theatre":MAILTO:act@altoonacommunitytheatre.com
END:VEVENT
END:VCALENDAR