BEGIN:VCALENDAR
VERSION:2.0
PRODID:-//Altoona Community Theatre - ECPv6.15.20//NONSGML v1.0//EN
CALSCALE:GREGORIAN
METHOD:PUBLISH
X-ORIGINAL-URL:https://altoonacommunitytheatre.com
X-WR-CALDESC:Events for Altoona Community Theatre
REFRESH-INTERVAL;VALUE=DURATION:PT1H
X-Robots-Tag:noindex
X-PUBLISHED-TTL:PT1H
BEGIN:VTIMEZONE
TZID:America/New_York
BEGIN:DAYLIGHT
TZOFFSETFROM:-0500
TZOFFSETTO:-0400
TZNAME:EDT
DTSTART:20230312T070000
END:DAYLIGHT
BEGIN:STANDARD
TZOFFSETFROM:-0400
TZOFFSETTO:-0500
TZNAME:EST
DTSTART:20231105T060000
END:STANDARD
BEGIN:DAYLIGHT
TZOFFSETFROM:-0500
TZOFFSETTO:-0400
TZNAME:EDT
DTSTART:20240310T070000
END:DAYLIGHT
BEGIN:STANDARD
TZOFFSETFROM:-0400
TZOFFSETTO:-0500
TZNAME:EST
DTSTART:20241103T060000
END:STANDARD
BEGIN:DAYLIGHT
TZOFFSETFROM:-0500
TZOFFSETTO:-0400
TZNAME:EDT
DTSTART:20250309T070000
END:DAYLIGHT
BEGIN:STANDARD
TZOFFSETFROM:-0400
TZOFFSETTO:-0500
TZNAME:EST
DTSTART:20251102T060000
END:STANDARD
END:VTIMEZONE
BEGIN:VEVENT
DTSTART;TZID=America/New_York:20241206T183000
DTEND;TZID=America/New_York:20241206T213000
DTSTAMP:20260424T102936
CREATED:20241021T153911Z
LAST-MODIFIED:20241022T191151Z
UID:4705-1733509800-1733520600@altoonacommunitytheatre.com
SUMMARY:ACT Membership Holiday Party
DESCRIPTION:All ACT Members are invited to the 2024 Holiday Party on December 6 in the ACT Rehearsal Hall.\nPlease join us for Pizza & Festivities to celebrate the season & our theatre family. \nWe ask that you please RSVP by December 2 to act@altoonacommunitytheatre.com \n\nPizza & Soda Provided\nBring a snack to share if you’re able\nBYO Adult Beverages (Must Have ID)\nThe ACT Great Gift Give Away begins at 7:30PM\nACT Members only\, but you may bring a Non-Member Guest\n\nMemberships run with our Theatre Season\, July 1 to June 30 of the following year. Please make sure your membership dues for this season are paid.\nOnline Membership Registration (New members welcome!)\n\n\n\nMORE INFORMATION: \nThe ACT Great Gift Give Away: Each guest who wants to participate brings one “White-Elephant” Gift. This gift can be a silly item\, a random object cluttering up your house you want to get rid of\, or\, if you choose to purchase something\, any gift under $30—just make sure whatever it is\, you wrap it pretty! Rules will be explained at the party. You may walk away with a nice present\, a useless trinket\, or maybe nothing at all. It’s a game of chance\, speed\, and theft. Similar to paper bag awards\, it’s an honor to play\, but not always an honor to win. \nDrinking Rules: All ACT functions that involve alcoholic beverages are served by a RAMP certified bartender. Even in the case of Bring Your Own Booze such as this party\, you must turn your drinks over to the bartender and provide an ID. (We don’t care how old you look– No ID\, no wristband\, no drinking!) Your drinks will then be served to you in appropriate portions to make sure everyone is drinking responsibly. ACT pays for the bartender’s fee\, but tips from our party guests are appreciated. \nPossible other games & activities to follow the Gift Give Away. Bartender stops serving at 9:30PM & Party officially ends at 10:00PM \nWe hope too see you there!
URL:https://altoonacommunitytheatre.com/event/act-membership-holiday-party-4/
LOCATION:ACT Rehearsal Hall\, 1213 12th St\, Altoona\, PA\, 16601\, United States
CATEGORIES:Membership Events
ATTACH;FMTTYPE=image/png:https://altoonacommunitytheatre.com/wp-content/uploads/2021/12/Membership-Party-2.png
ORGANIZER;CN="Altoona Community Theatre":MAILTO:act@altoonacommunitytheatre.com
END:VEVENT
BEGIN:VEVENT
DTSTART;TZID=America/New_York:20241207T160000
DTEND;TZID=America/New_York:20241207T180000
DTSTAMP:20260424T102936
CREATED:20241022T144147Z
LAST-MODIFIED:20241022T154730Z
UID:4734-1733587200-1733594400@altoonacommunitytheatre.com
SUMMARY:Penguin Project Holiday Party!
DESCRIPTION:Join us for the annual Penguin Project Holiday Party at Altoona Community Theatre! \nThe event will be hosted at the ACT Rehearsal Hall (1213 12th St. Altoona\, PA) on December 7th. You can enter through the back door of ACT\, located behind Tom & Joe’s. The event will begin at approximately 4 pm\, after the conclusion of the Altoona Holiday Parade\, and last until about 6 pm. \nThis event is open to those currently involved in the Penguin Project (and their families!) as well as those looking to get involved with the Penguin Project for the first time. Please send your RSVP to act@altoonacommunitytheatre.com by November 30th\, and make sure to include the number in your party so that we can accurately plan for food. \nWe look forward to seeing you there!
URL:https://altoonacommunitytheatre.com/event/penguin-project-holiday-party/
LOCATION:ACT Rehearsal Hall\, 1213 12th St\, Altoona\, PA\, 16601\, United States
CATEGORIES:Membership Events,The Penguin Project
ATTACH;FMTTYPE=image/png:https://altoonacommunitytheatre.com/wp-content/uploads/2024/10/Jingle-Mingle-2.png
ORGANIZER;CN="Altoona Community Theatre":MAILTO:act@altoonacommunitytheatre.com
END:VEVENT
BEGIN:VEVENT
DTSTART;TZID=America/New_York:20241208T163000
DTEND;TZID=America/New_York:20241208T183000
DTSTAMP:20260424T102936
CREATED:20241022T151412Z
LAST-MODIFIED:20241202T181906Z
UID:4755-1733675400-1733682600@altoonacommunitytheatre.com
SUMMARY:Membership Play Reading #2
DESCRIPTION:Join the Artistic Committee for the second of two Play Reading events! We will present a few titles to gauge membership interest\, as we prepare to propose the 2025-2026 Main Stage season slate. The plays presented are in consideration\, but not necessarily indicative of the Artistic Committee’s opinions for the proposed season. \nThe shows that will be being read from are Wait until Dark\, The Dinner Party\, and The Great American Musical Disaster. \nThe event will be hosted at the ACT Rehearsal Hall (1213 12th St. Altoona\, PA) on December 8th. You can enter through the back door of ACT\, located behind Tom & Joe’s. The event will begin at 4:30 pm\, and last until about 6:30 pm. This event is open to ACT members only. \nYou can sign up for a membership or renew a membership at this link: https://altoonacommunitytheatre.com/membership/.
URL:https://altoonacommunitytheatre.com/event/membership-play-reading-2/
LOCATION:ACT Rehearsal Hall\, 1213 12th St\, Altoona\, PA\, 16601\, United States
CATEGORIES:Membership Events
ATTACH;FMTTYPE=image/png:https://altoonacommunitytheatre.com/wp-content/uploads/2024/10/The-Artistic-Committee-invites-you-to-join-a-play-reading.-5.png
ORGANIZER;CN="Altoona Community Theatre":MAILTO:act@altoonacommunitytheatre.com
END:VEVENT
BEGIN:VEVENT
DTSTART;TZID=America/New_York:20241215T150000
DTEND;TZID=America/New_York:20241215T160000
DTSTAMP:20260424T102936
CREATED:20241022T155004Z
LAST-MODIFIED:20241022T191631Z
UID:4761-1734274800-1734278400@altoonacommunitytheatre.com
SUMMARY:The Rainbow Fish Musical (Family Theatre at the Mishler)
DESCRIPTION:Altoona Community Theatre Presents\nThe Rainbow Fish Musical\nAs part of the Blair County Arts Foundation’s Family Theatre at the Mishler Series\nBook\, Music\, and Lyrics by Austin Zumbro\nAdapted from the Book by Marcus Pfister\, translated into English by J. Alison James\, illustrations by Marcus Pfister\nDecember 15th\, 2024 at 3 PM in the Historic Mishler Theatre \nWhen Rainbow Fish refuses to share his vibrant\, shimmering scales\, the whole ocean seems to turn against the vain creature. Unhappy that no one adores him anymore\, the Rainbow Fish seeks out the wise Octopus\, who helps him learn that it’s far better to be admired for being kind than for being beautiful. \nGet tickets now!
URL:https://altoonacommunitytheatre.com/event/the-rainbow-fish-musical-family-theatre-at-the-mishler/
LOCATION:The Historic Mishler Theatre\, 1208 12th Ave\, Altoona\, PA\, 16601\, United States
CATEGORIES:Family Theatre Series
ATTACH;FMTTYPE=image/jpeg:https://altoonacommunitytheatre.com/wp-content/uploads/2024/10/Rainbow-Fish-Musical-colorfishandtitle.jpg
ORGANIZER;CN="Altoona Community Theatre":MAILTO:act@altoonacommunitytheatre.com
END:VEVENT
END:VCALENDAR