BEGIN:VCALENDAR
VERSION:2.0
PRODID:-//Altoona Community Theatre - ECPv6.15.20//NONSGML v1.0//EN
CALSCALE:GREGORIAN
METHOD:PUBLISH
X-ORIGINAL-URL:https://altoonacommunitytheatre.com
X-WR-CALDESC:Events for Altoona Community Theatre
REFRESH-INTERVAL;VALUE=DURATION:PT1H
X-Robots-Tag:noindex
X-PUBLISHED-TTL:PT1H
BEGIN:VTIMEZONE
TZID:America/New_York
BEGIN:DAYLIGHT
TZOFFSETFROM:-0500
TZOFFSETTO:-0400
TZNAME:EDT
DTSTART:20240310T070000
END:DAYLIGHT
BEGIN:STANDARD
TZOFFSETFROM:-0400
TZOFFSETTO:-0500
TZNAME:EST
DTSTART:20241103T060000
END:STANDARD
BEGIN:DAYLIGHT
TZOFFSETFROM:-0500
TZOFFSETTO:-0400
TZNAME:EDT
DTSTART:20250309T070000
END:DAYLIGHT
BEGIN:STANDARD
TZOFFSETFROM:-0400
TZOFFSETTO:-0500
TZNAME:EST
DTSTART:20251102T060000
END:STANDARD
BEGIN:DAYLIGHT
TZOFFSETFROM:-0500
TZOFFSETTO:-0400
TZNAME:EDT
DTSTART:20260308T070000
END:DAYLIGHT
BEGIN:STANDARD
TZOFFSETFROM:-0400
TZOFFSETTO:-0500
TZNAME:EST
DTSTART:20261101T060000
END:STANDARD
END:VTIMEZONE
BEGIN:VEVENT
DTSTART;TZID=America/New_York:20251113T193000
DTEND;TZID=America/New_York:20251113T213000
DTSTAMP:20260423T160527
CREATED:20250730T164825Z
LAST-MODIFIED:20251020T191457Z
UID:5303-1763062200-1763069400@altoonacommunitytheatre.com
SUMMARY:Boeing Boeing
DESCRIPTION:Boeing Boeing\nBy Marc Camoletti\nTranslated by Beverley Cross & Francis Evans\nNovember 13\, 14\, & 15 at 7:30 PM\nNovember 16 at 2 PM\nDirected by Kate Kale Wolf\nAn uproarious farce with 3 flight attendant fiancées\, 1 bachelor\, and plenty of turbulence. Set in the swinging 1960s\, this riotous comedy follows bachelor Bernard who is juggling secret engagements to three international air hostesses from his Paris apartment. \nWith careful planning and the reliable schedules of the airlines\, his love life runs like clockwork. That is until the introduction of jet planes and a surprise visit from an old school friend brings his precise life to a screeching halt. As Bernard’s carefully separated worlds begin to collide\, the resulting chaos is a first-class ticket to laughter\, making Boeing Boeing an unmissable comedic flight. \n\n\nTickets on sale now through the Mishler Theatre Box Office – 814-944-9434\n 
URL:https://altoonacommunitytheatre.com/event/boeing/
LOCATION:The Historic Mishler Theatre\, 1208 12th Ave\, Altoona\, PA\, 16601\, United States
CATEGORIES:Mainstage
ATTACH;FMTTYPE=image/png:https://altoonacommunitytheatre.com/wp-content/uploads/2025/07/Boeing-Boeing.png
ORGANIZER;CN="Altoona Community Theatre":MAILTO:act@altoonacommunitytheatre.com
END:VEVENT
BEGIN:VEVENT
DTSTART;TZID=America/New_York:20251114T193000
DTEND;TZID=America/New_York:20251114T213000
DTSTAMP:20260423T160527
CREATED:20251013T181621Z
LAST-MODIFIED:20251013T181703Z
UID:5493-1763148600-1763155800@altoonacommunitytheatre.com
SUMMARY:Boeing Boeing
DESCRIPTION:Boeing Boeing\nBy Marc Camoletti\nTranslated by Beverley Cross & Francis Evans\nNovember 13\, 14\, & 15 at 7:30 PM\nNovember 16 at 2 PM\nDirected by Kate Kale Wolf\nAn uproarious farce with 3 flight attendant fiancées\, 1 bachelor\, and plenty of turbulence. Set in the swinging 1960s\, this riotous comedy follows bachelor Bernard who is juggling secret engagements to three international air hostesses from his Paris apartment. \nWith careful planning and the reliable schedules of the airlines\, his love life runs like clockwork. That is until the introduction of jet planes and a surprise visit from an old school friend brings his precise life to a screeching halt. As Bernard’s carefully separated worlds begin to collide\, the resulting chaos is a first-class ticket to laughter\, making Boeing Boeing an unmissable comedic flight. \n\n\nTickets on sale now through the Mishler Theatre Box Office – 814-944-9434\n 
URL:https://altoonacommunitytheatre.com/event/boeing2/
LOCATION:The Historic Mishler Theatre\, 1208 12th Ave\, Altoona\, PA\, 16601\, United States
CATEGORIES:Mainstage
ATTACH;FMTTYPE=image/png:https://altoonacommunitytheatre.com/wp-content/uploads/2025/07/Boeing-Boeing.png
ORGANIZER;CN="Altoona Community Theatre":MAILTO:act@altoonacommunitytheatre.com
END:VEVENT
BEGIN:VEVENT
DTSTART;TZID=America/New_York:20251115T150000
DTEND;TZID=America/New_York:20251115T170000
DTSTAMP:20260423T160527
CREATED:20251106T152105Z
LAST-MODIFIED:20251106T154109Z
UID:5629-1763218800-1763226000@altoonacommunitytheatre.com
SUMMARY:Play Reading #1
DESCRIPTION:  \nJoin the Artistic Committee for the first of two Play Reading events! \nWe will present a few titles to gauge membership interest as we prepare to propose the 2026-2027 Main Stage season slate. The plays presented are in consideration\, but not necessarily indicative of the Artistic Committee’s opinions for the proposed season. \nPlay Reading #1: \n\nNovember 15 starting at 3 PM until approximately 5 PM (giving you plenty of time to have dinner and come back to see Boeing Boeing in the Mishler!)\nACT Rehearsal Hall (1213 12th St. Altoona\, PA)\nPlease enter through the back door of ACT\, located behind Tom & Joe’s.\n\nLight refreshments provided\, but feel free to bring a snack to share! \nThis event is free for ACT Members. Suggested $5 donations for Non-Members. \nWe will ask for volunteers to read selections from: \n\nPresent Laughter\nBetty’s Summer Vacation\nRadium Girls\n\nYou can sign up for a membership or renew a membership at this link: https://altoonacommunitytheatre.com/membership/. \n  \nWe will host a second play reading November 23 at 6 PM with selections from A Few Good Men\, Turn of the Screw\, Southern Fried Funeral\, and Prelude to a Kiss.
URL:https://altoonacommunitytheatre.com/event/playreading/
LOCATION:ACT Rehearsal Hall\, 1213 12th St\, Altoona\, PA\, 16601\, United States
CATEGORIES:Membership Events
ATTACH;FMTTYPE=image/png:https://altoonacommunitytheatre.com/wp-content/uploads/2025/11/26-27-play-readings-1-e1762443549966.png
ORGANIZER;CN="Altoona Community Theatre":MAILTO:act@altoonacommunitytheatre.com
END:VEVENT
BEGIN:VEVENT
DTSTART;TZID=America/New_York:20251115T193000
DTEND;TZID=America/New_York:20251115T213000
DTSTAMP:20260423T160527
CREATED:20251013T181841Z
LAST-MODIFIED:20251013T182130Z
UID:5497-1763235000-1763242200@altoonacommunitytheatre.com
SUMMARY:Boeing Boeing
DESCRIPTION:Boeing Boeing\nBy Marc Camoletti\nTranslated by Beverley Cross & Francis Evans\nNovember 13\, 14\, & 15 at 7:30 PM\nNovember 16 at 2 PM\nDirected by Kate Kale Wolf\nAn uproarious farce with 3 flight attendant fiancées\, 1 bachelor\, and plenty of turbulence. Set in the swinging 1960s\, this riotous comedy follows bachelor Bernard who is juggling secret engagements to three international air hostesses from his Paris apartment. \nWith careful planning and the reliable schedules of the airlines\, his love life runs like clockwork. That is until the introduction of jet planes and a surprise visit from an old school friend brings his precise life to a screeching halt. As Bernard’s carefully separated worlds begin to collide\, the resulting chaos is a first-class ticket to laughter\, making Boeing Boeing an unmissable comedic flight. \n\n\nTickets on sale now through the Mishler Theatre Box Office – 814-944-9434\n 
URL:https://altoonacommunitytheatre.com/event/boeing3/
LOCATION:The Historic Mishler Theatre\, 1208 12th Ave\, Altoona\, PA\, 16601\, United States
CATEGORIES:Mainstage
ATTACH;FMTTYPE=image/png:https://altoonacommunitytheatre.com/wp-content/uploads/2025/07/Boeing-Boeing.png
ORGANIZER;CN="Altoona Community Theatre":MAILTO:act@altoonacommunitytheatre.com
END:VEVENT
BEGIN:VEVENT
DTSTART;TZID=America/New_York:20251116T140000
DTEND;TZID=America/New_York:20251116T160000
DTSTAMP:20260423T160527
CREATED:20251013T181935Z
LAST-MODIFIED:20251013T181935Z
UID:5499-1763301600-1763308800@altoonacommunitytheatre.com
SUMMARY:Boeing Boeing
DESCRIPTION:Boeing Boeing\nBy Marc Camoletti\nTranslated by Beverley Cross & Francis Evans\nNovember 13\, 14\, & 15 at 7:30 PM\nNovember 16 at 2 PM\nDirected by Kate Kale Wolf\nAn uproarious farce with 3 flight attendant fiancées\, 1 bachelor\, and plenty of turbulence. Set in the swinging 1960s\, this riotous comedy follows bachelor Bernard who is juggling secret engagements to three international air hostesses from his Paris apartment. \nWith careful planning and the reliable schedules of the airlines\, his love life runs like clockwork. That is until the introduction of jet planes and a surprise visit from an old school friend brings his precise life to a screeching halt. As Bernard’s carefully separated worlds begin to collide\, the resulting chaos is a first-class ticket to laughter\, making Boeing Boeing an unmissable comedic flight. \n\n\nTickets on sale now through the Mishler Theatre Box Office – 814-944-9434\n 
URL:https://altoonacommunitytheatre.com/event/boeing4/
LOCATION:The Historic Mishler Theatre\, 1208 12th Ave\, Altoona\, PA\, 16601\, United States
CATEGORIES:Mainstage
ATTACH;FMTTYPE=image/png:https://altoonacommunitytheatre.com/wp-content/uploads/2025/07/Boeing-Boeing.png
ORGANIZER;CN="Altoona Community Theatre":MAILTO:act@altoonacommunitytheatre.com
END:VEVENT
BEGIN:VEVENT
DTSTART;TZID=America/New_York:20251123T180000
DTEND;TZID=America/New_York:20251123T200000
DTSTAMP:20260423T160527
CREATED:20251106T153406Z
LAST-MODIFIED:20251106T153919Z
UID:5632-1763920800-1763928000@altoonacommunitytheatre.com
SUMMARY:Play Reading #2
DESCRIPTION:  \nJoin the Artistic Committee for our second Play Reading event! \nWe will present a few titles to gauge membership interest as we prepare to propose the 2026-2027 Main Stage season slate. The plays presented are in consideration\, but not necessarily indicative of the Artistic Committee’s opinions for the proposed season. \nPlay Reading #2: \n\nNovember 23 starting at 6 PM until approximately 8 PM\nACT Rehearsal Hall (1213 12th St. Altoona\, PA)\nPlease enter through the back door of ACT\, located behind Tom & Joe’s.\n\nLight refreshments provided\, but feel free to bring a snack to share! \nThis event is free for ACT Members. Suggested $5 donations for Non-Members. \nWe will ask for volunteers to read selections from: \n\nA Few Good Men\nTurn of the Screw\nSouthern Fried Funeral\nPrelude to a Kiss.\n\nYou can sign up for a membership or renew a membership at this link: https://altoonacommunitytheatre.com/membership/.
URL:https://altoonacommunitytheatre.com/event/playreading2/
LOCATION:ACT Rehearsal Hall\, 1213 12th St\, Altoona\, PA\, 16601\, United States
CATEGORIES:Membership Events
ATTACH;FMTTYPE=image/png:https://altoonacommunitytheatre.com/wp-content/uploads/2025/11/26-27-play-readings-1-e1762443549966.png
ORGANIZER;CN="Altoona Community Theatre":MAILTO:act@altoonacommunitytheatre.com
END:VEVENT
END:VCALENDAR