BEGIN:VCALENDAR
VERSION:2.0
PRODID:-//Altoona Community Theatre - ECPv6.15.20//NONSGML v1.0//EN
CALSCALE:GREGORIAN
METHOD:PUBLISH
X-ORIGINAL-URL:https://altoonacommunitytheatre.com
X-WR-CALDESC:Events for Altoona Community Theatre
REFRESH-INTERVAL;VALUE=DURATION:PT1H
X-Robots-Tag:noindex
X-PUBLISHED-TTL:PT1H
BEGIN:VTIMEZONE
TZID:America/New_York
BEGIN:DAYLIGHT
TZOFFSETFROM:-0500
TZOFFSETTO:-0400
TZNAME:EDT
DTSTART:20250309T070000
END:DAYLIGHT
BEGIN:STANDARD
TZOFFSETFROM:-0400
TZOFFSETTO:-0500
TZNAME:EST
DTSTART:20251102T060000
END:STANDARD
BEGIN:DAYLIGHT
TZOFFSETFROM:-0500
TZOFFSETTO:-0400
TZNAME:EDT
DTSTART:20260308T070000
END:DAYLIGHT
BEGIN:STANDARD
TZOFFSETFROM:-0400
TZOFFSETTO:-0500
TZNAME:EST
DTSTART:20261101T060000
END:STANDARD
BEGIN:DAYLIGHT
TZOFFSETFROM:-0500
TZOFFSETTO:-0400
TZNAME:EDT
DTSTART:20270314T070000
END:DAYLIGHT
BEGIN:STANDARD
TZOFFSETFROM:-0400
TZOFFSETTO:-0500
TZNAME:EST
DTSTART:20271107T060000
END:STANDARD
END:VTIMEZONE
BEGIN:VEVENT
DTSTART;TZID=America/New_York:20260319T123000
DTEND;TZID=America/New_York:20260319T180000
DTSTAMP:20260423T100846
CREATED:20260116T162909Z
LAST-MODIFIED:20260116T163102Z
UID:5766-1773923400-1773943200@altoonacommunitytheatre.com
SUMMARY:Blood Drive
DESCRIPTION:  \nAltoona Community Theatre is proud to host an American Red Cross blood drive on March 19\,  12:30-6:00  \nSchedule your donation time now!  \nAll who come to give at ACT’s blood drive will receive a discount voucher for tickets to our upcoming production of “9 to 5”. \nAltoona Community Theatre\nRehearsal Hall\n1213 12th Street\nAltoona\, PA 16601\n(Located next to Tom & Joe’s\, downtown Altoona)
URL:https://altoonacommunitytheatre.com/event/blood-drive-2/
LOCATION:ACT Rehearsal Hall\, 1213 12th St\, Altoona\, PA\, 16601\, United States
ATTACH;FMTTYPE=image/png:https://altoonacommunitytheatre.com/wp-content/uploads/2022/03/save-a-life-give-blood.png
END:VEVENT
BEGIN:VEVENT
DTSTART;TZID=America/New_York:20260321T180000
DTEND;TZID=America/New_York:20260321T210000
DTSTAMP:20260423T100846
CREATED:20260216T190659Z
LAST-MODIFIED:20260227T173701Z
UID:5839-1774116000-1774126800@altoonacommunitytheatre.com
SUMMARY:Bet On The Arts Fundraiser
DESCRIPTION:You’re invited to BET ON THE ARTS with Altoona Community Theatre!\nJoin us for an unforgettable night of casino-style games\, live entertainment\, and show-stopping fun. \nACT’s brand new fundraising gala event takes place March 21\, 2026 from 6 pm to 9 pm at the Blair County Convention Center. \nEach ticket to the gala includes:-Two drink tickets for select alcoholic beverages-$10 worth of game chips-Catered Hors d’oeuvres-Support of quality live theatre in your community and art education programs such as Summer Drama Camps\, The Isaac Awards\, and The Penguin Project \nAvailable games include poker\, blackjack\, roulette\, craps and virtual horse racing\, all run by professional dealers! \nAs you place your bets\, local performers will serenade you with Broadway to Hollywood favorites\, as well as music from ACT’s upcoming 2026-2027 season. \nAdditional alcoholic beverages and game chips available for purchase with cash or card.Game chips/winnings are exchanged for raffle tickets entered for prizes. \nCocktail or semi-formal attire\, please. \n21+ only event.ID required for alcohol consumption. \n  \nTicket options:Individual Buy-in: $65 a ticket\, includes two drink tickets\, $10 worth of game chipsDouble Down: Buy a pair of tickets and save! $100\, includes four drink tickets and $20 worth of game chipsHigh Roller VIP: $450\, includes 8 VIP ticket packages (total 16 drink tickets and $80 worth of game chips) plus a reserved table for your group! Limited quantity available \nGo all in on your support of the arts now!
URL:https://altoonacommunitytheatre.com/event/bet-on-the-arts-fundraiser/
LOCATION:PA
ATTACH;FMTTYPE=image/png:https://altoonacommunitytheatre.com/wp-content/uploads/2026/02/BET-ON-THE-ARTS-DIGITAL-INVITE-e1771269721773.png
END:VEVENT
BEGIN:VEVENT
DTSTART;TZID=America/New_York:20260328T140000
DTEND;TZID=America/New_York:20260328T170000
DTSTAMP:20260423T100846
CREATED:20260324T170122Z
LAST-MODIFIED:20260324T170122Z
UID:5908-1774706400-1774717200@altoonacommunitytheatre.com
SUMMARY:Penguin Project Spring Fling
DESCRIPTION:ACT invites you to our Penguin Project Spring Fling! \nOpen to current Penguins or those interested in getting involved for the first time. \nPlease RSVP to act@altoonacommunitytheatre.com
URL:https://altoonacommunitytheatre.com/event/penguin-project-spring-fling-2/
LOCATION:ACT Rehearsal Hall\, 1213 12th St\, Altoona\, PA\, 16601\, United States
CATEGORIES:The Penguin Project
ATTACH;FMTTYPE=image/png:https://altoonacommunitytheatre.com/wp-content/uploads/2023/06/Penguin-Project-Email-banner.png
ORGANIZER;CN="Altoona Community Theatre":MAILTO:act@altoonacommunitytheatre.com
END:VEVENT
END:VCALENDAR