BEGIN:VCALENDAR
VERSION:2.0
PRODID:-//Altoona Community Theatre - ECPv6.15.20//NONSGML v1.0//EN
CALSCALE:GREGORIAN
METHOD:PUBLISH
X-ORIGINAL-URL:https://altoonacommunitytheatre.com
X-WR-CALDESC:Events for Altoona Community Theatre
REFRESH-INTERVAL;VALUE=DURATION:PT1H
X-Robots-Tag:noindex
X-PUBLISHED-TTL:PT1H
BEGIN:VTIMEZONE
TZID:America/New_York
BEGIN:DAYLIGHT
TZOFFSETFROM:-0500
TZOFFSETTO:-0400
TZNAME:EDT
DTSTART:20220313T070000
END:DAYLIGHT
BEGIN:STANDARD
TZOFFSETFROM:-0400
TZOFFSETTO:-0500
TZNAME:EST
DTSTART:20221106T060000
END:STANDARD
BEGIN:DAYLIGHT
TZOFFSETFROM:-0500
TZOFFSETTO:-0400
TZNAME:EDT
DTSTART:20230312T070000
END:DAYLIGHT
BEGIN:STANDARD
TZOFFSETFROM:-0400
TZOFFSETTO:-0500
TZNAME:EST
DTSTART:20231105T060000
END:STANDARD
BEGIN:DAYLIGHT
TZOFFSETFROM:-0500
TZOFFSETTO:-0400
TZNAME:EDT
DTSTART:20240310T070000
END:DAYLIGHT
BEGIN:STANDARD
TZOFFSETFROM:-0400
TZOFFSETTO:-0500
TZNAME:EST
DTSTART:20241103T060000
END:STANDARD
END:VTIMEZONE
BEGIN:VEVENT
DTSTART;TZID=America/New_York:20231008T140000
DTEND;TZID=America/New_York:20231008T153000
DTSTAMP:20260425T113308
CREATED:20230915T180442Z
LAST-MODIFIED:20230915T180459Z
UID:3874-1696773600-1696779000@altoonacommunitytheatre.com
SUMMARY:Annie Jr (As part of The Penguin Project at ACT)
DESCRIPTION:The Penguin Project at Altoona Community Theatre Presents\nANNIE JR\nBook by Thomas Meehan\, Music by Charles Strouse\, Lyrics by Martin Charnin\nPresented on Broadway by Mike Nichols\nOriginally produced by Irwin Meyer\, Stephen R. Friedman\, Lewis Allen\, Alvin Nederlander Associates Inc\, The John F. Kennedy Center for the Performing Arts\, Icarus Productions\nBased on “Little Orphan Annie”® By Permission of The Tribune Content Agency\, LLC\nThe Penguin Project™ at Altoona Community Theatre will present Annie JR. on October 7 at 7 pm and October 8 at 2 pm at the Altoona Area High School Auditorium. Tickets are $10 and can be purchased at altoonaasd.booktix.net. There is no dress code\, but the cast will remind you that you are “never fully dressed without a smile.” \nAnnie JR. follows the story of an orphan named Annie living a “hard-knock life” at The New York City Municipal Orphanage run by the cruel Miss Hannigan. Annie dreams of being reunited with her parents and takes action to find them. In adventure after fun-filled adventure\, Annie foils Miss Hannigan’s evil machinations\, befriends President Franklin Roosevelt and finds a new family in billionaire Oliver Warbucks\, his personal secretary Grace Farrell and a lovable mutt named Sandy. \nThis production is made possible by a partnership with the Altoona Area School District; grants from The T.Dean Lower and Jane Young Lower Trust and the Zack Hinish Foundation; and a donation from UPMC Altoona. \nTICKETS\nLearn more about The Penguin Project
URL:https://altoonacommunitytheatre.com/event/anniejr2/
LOCATION:Altoona Area High School Auditorium\, 1415 6th Ave\, Altoona\, PA\, 16602
CATEGORIES:Mainstage,The Penguin Project
ATTACH;FMTTYPE=image/png:https://altoonacommunitytheatre.com/wp-content/uploads/2023/09/Annie-Jr-Logo-Only.png
ORGANIZER;CN="Altoona Community Theatre":MAILTO:act@altoonacommunitytheatre.com
END:VEVENT
END:VCALENDAR