BEGIN:VCALENDAR
VERSION:2.0
PRODID:-//Altoona Community Theatre - ECPv6.15.20//NONSGML v1.0//EN
CALSCALE:GREGORIAN
METHOD:PUBLISH
X-ORIGINAL-URL:https://altoonacommunitytheatre.com
X-WR-CALDESC:Events for Altoona Community Theatre
REFRESH-INTERVAL;VALUE=DURATION:PT1H
X-Robots-Tag:noindex
X-PUBLISHED-TTL:PT1H
BEGIN:VTIMEZONE
TZID:America/New_York
BEGIN:DAYLIGHT
TZOFFSETFROM:-0500
TZOFFSETTO:-0400
TZNAME:EDT
DTSTART:20240310T070000
END:DAYLIGHT
BEGIN:STANDARD
TZOFFSETFROM:-0400
TZOFFSETTO:-0500
TZNAME:EST
DTSTART:20241103T060000
END:STANDARD
BEGIN:DAYLIGHT
TZOFFSETFROM:-0500
TZOFFSETTO:-0400
TZNAME:EDT
DTSTART:20250309T070000
END:DAYLIGHT
BEGIN:STANDARD
TZOFFSETFROM:-0400
TZOFFSETTO:-0500
TZNAME:EST
DTSTART:20251102T060000
END:STANDARD
BEGIN:DAYLIGHT
TZOFFSETFROM:-0500
TZOFFSETTO:-0400
TZNAME:EDT
DTSTART:20260308T070000
END:DAYLIGHT
BEGIN:STANDARD
TZOFFSETFROM:-0400
TZOFFSETTO:-0500
TZNAME:EST
DTSTART:20261101T060000
END:STANDARD
END:VTIMEZONE
BEGIN:VEVENT
DTSTART;TZID=America/New_York:20250713T180000
DTEND;TZID=America/New_York:20250713T200000
DTSTAMP:20260424T090445
CREATED:20250604T141459Z
LAST-MODIFIED:20250703T172104Z
UID:5163-1752429600-1752436800@altoonacommunitytheatre.com
SUMMARY:Cinderella Auditions
DESCRIPTION:Auditions for Rodgers + Hammerstein’s Cinderella\nOpen Auditions: Sunday\, July 13 at 6:00 PM & Monday\, July 14 at 6:00 PM\nShow Dates: September 18\, 19\, & 20 @ 7:30 pm\, September 21 @ 2 PM\nDirected by Bryce Cossitor \nOpen auditions for Altoona Community Theatre’s production of “Cinderella” will be held Sunday and Monday\, July 13 & 14\, beginning 6:00 p.m. in the Historic Mishler Theatre\, 1208 12th Street\, Downtown Altoona. Auditionees need only attend one night of auditions unless asked to also attend callbacks\, which are expected to be held as needed Wednesday July 16 starting at 6 p.m. \nAuditions will consist of singing and cold readings from the script. Auditionees should be 8 years of age or older. Note that all speaking roles will require age 17 or older. There will be a limited number of children 8-16 used in ensemble numbers and for specialized puppetry tasks. Everyone should be prepared with 16 to 32 bars of any Rodgers and Hammerstein song that showcases their ability. No unaccompanied singing will be permitted. An accompanist will be provided. Please bring paper copies of your sheet music in the appropriate key.  A song will be taught to those without a prepared number. \nEveryone will participate in a general movement audition. No special dance clothing is required\, just clothes and shoes that are comfortable to move in.  \nActors must be available for all performances (September 16 through September 21\, 2025). Availability for rehearsals will be asked at auditions. Please be prepared to list all conflicts from auditions through performance dates. Rehearsals are expected to begin at 7:00 p.m. \nIf you are unable to attend general auditions\, please contact the ACT Office at least a week in advance to discuss scheduling an alternative audition time. \nAbout the show:  \nGet ready to be swept away by the timeless tale of Cinderella\, the definitive rags to riches story that has charmed and inspired audiences all over the world. Rodgers & Hammerstein’s Cinderella is the new Broadway adaptation of the classic musical. This contemporary take on the treasured fairy tale features some of their most beloved songs including “In My Own Little Corner\,” “Impossible\,” and “Ten Minutes Ago” in this romantic (and hilarious) update.  \nWinning nine 2013 Tony Awards including Best Revival of a Musical\, critics called it\, “Reassuringly old-fashioned and refreshingly irreverent\, sentimental and snarky\, sincere and ironic\, all at once!”  \nAvailable Roles: \nElla: Idealistic and hopeful\, she courageously challenges the prince to change the policies in the kingdom – and helps him discover who he truly is. Soprano B3-Eb5 \nTopher: A misguided and lost prince who longs to do something important with his life. Baritone C#3-A4 \nMadame: Ella’s selfish stepmother\, the epitome of vanity and fashion. MezzoSoprano C4-D5 \nSebastian: The kingdom’s Lord Chancellor and trusted advisor to the Prince\, though uses propaganda and dishonesty to keep Topher in the dark about his kingdom. Baritone C3-E4 \nMarie: A friend to Ella and the town’s crazy lady and beggar who also happens to be a Fairy Godmother. Soprano A3-Ab5 \nGabrielle: Ella’s stepsister and publicly follows her mother and sister but secretly empathetic\, passionate\, and drawn to Ella and Jean-Michel. Soprano C4-G5 \nCharlotte: Ella’s stepsister who is brash\, self-centered\, materialistic and always wants to be the center of attention. Mezzo-Soprano B3-F5 \nJean-Michel: A feisty\, passionate peasant determined to make a change for the starving class. Also has a crush on Gabrielle. Baritone C3-G4 \nLord Pinkleton: Sebastian’s right-hand man who announces royal balls\, banquets and occasionally the weather to the villagers. Tenor D3-A4 \nEnsemble: Interchanging parts to include a Giant\, Fox and Raccoon\, Footman\, Coachman\, Knights\, Peasants\, Townspeople\, Ladies and Gentlemen of the Court\, Etc \n  \nAll roles are available. No prior theatrical or ACT experience is required. \nRoles are open to racially diverse and gender-inclusive casting for actors of all physical and neurological abilities. Our casting seeks to be as inclusive as possible and we invite gender nonconforming\, genderqueer\, transgender\, and nonbinary actors to select the roles they most identify with. \nQuestions can be directed to the ACT Office at 814-943-4357 or act@altoonacommunitytheatre.com.
URL:https://altoonacommunitytheatre.com/event/cinderellaauditions/
LOCATION:The Historic Mishler Theatre\, 1208 12th Ave\, Altoona\, PA\, 16601\, United States
CATEGORIES:Auditions
ATTACH;FMTTYPE=image/png:https://altoonacommunitytheatre.com/wp-content/uploads/2025/06/v2-font-auditions-e1749046520565.png
ORGANIZER;CN="Altoona Community Theatre":MAILTO:act@altoonacommunitytheatre.com
END:VEVENT
END:VCALENDAR