BEGIN:VCALENDAR
VERSION:2.0
PRODID:-//Altoona Community Theatre - ECPv6.15.20//NONSGML v1.0//EN
CALSCALE:GREGORIAN
METHOD:PUBLISH
X-WR-CALNAME:Altoona Community Theatre
X-ORIGINAL-URL:https://altoonacommunitytheatre.com
X-WR-CALDESC:Events for Altoona Community Theatre
REFRESH-INTERVAL;VALUE=DURATION:PT1H
X-Robots-Tag:noindex
X-PUBLISHED-TTL:PT1H
BEGIN:VTIMEZONE
TZID:America/New_York
BEGIN:DAYLIGHT
TZOFFSETFROM:-0500
TZOFFSETTO:-0400
TZNAME:EDT
DTSTART:20240310T070000
END:DAYLIGHT
BEGIN:STANDARD
TZOFFSETFROM:-0400
TZOFFSETTO:-0500
TZNAME:EST
DTSTART:20241103T060000
END:STANDARD
BEGIN:DAYLIGHT
TZOFFSETFROM:-0500
TZOFFSETTO:-0400
TZNAME:EDT
DTSTART:20250309T070000
END:DAYLIGHT
BEGIN:STANDARD
TZOFFSETFROM:-0400
TZOFFSETTO:-0500
TZNAME:EST
DTSTART:20251102T060000
END:STANDARD
BEGIN:DAYLIGHT
TZOFFSETFROM:-0500
TZOFFSETTO:-0400
TZNAME:EDT
DTSTART:20260308T070000
END:DAYLIGHT
BEGIN:STANDARD
TZOFFSETFROM:-0400
TZOFFSETTO:-0500
TZNAME:EST
DTSTART:20261101T060000
END:STANDARD
END:VTIMEZONE
BEGIN:VEVENT
DTSTART;TZID=America/New_York:20251214T150000
DTEND;TZID=America/New_York:20251214T163000
DTSTAMP:20260423T170205
CREATED:20251103T194818Z
LAST-MODIFIED:20251119T144037Z
UID:5623-1765724400-1765729800@altoonacommunitytheatre.com
SUMMARY:A Seussified Christmas Carol
DESCRIPTION:A SEUSSIFIED CHRISTMAS CAROL\nby Peter Bloedel\nA whimsical reinvention of Dickens’ most beloved Christmas story in wacky rhymed couplets. With zoot fruited juices and binka bird geese\, from Ded-Headed Fred to Timmy Loo Hoo\, this tale of glorious holiday cheer is similar to something Dr. Seuss might have come up with…if he ever had his way with the story! \nPresented by Altoona Community Theater as part of BCAF’s Family Theatre at the Mishler Series \nMany thanks to UPMC Altoona Foundation for sponsoring this performance. \n\nTickets on sale now through the Mishler Theatre Box Office – 814-944-9434
URL:https://altoonacommunitytheatre.com/event/seussxmas/
LOCATION:The Historic Mishler Theatre\, 1208 12th Ave\, Altoona\, PA\, 16601\, United States
CATEGORIES:Family Theatre Series,Mainstage
ATTACH;FMTTYPE=image/png:https://altoonacommunitytheatre.com/wp-content/uploads/2025/11/A-Seussified-Christmas-Carol-1.png
ORGANIZER;CN="Altoona Community Theatre":MAILTO:act@altoonacommunitytheatre.com
END:VEVENT
END:VCALENDAR