BEGIN:VCALENDAR
VERSION:2.0
PRODID:-//Altoona Community Theatre - ECPv6.15.20//NONSGML v1.0//EN
CALSCALE:GREGORIAN
METHOD:PUBLISH
X-ORIGINAL-URL:https://altoonacommunitytheatre.com
X-WR-CALDESC:Events for Altoona Community Theatre
REFRESH-INTERVAL;VALUE=DURATION:PT1H
X-Robots-Tag:noindex
X-PUBLISHED-TTL:PT1H
BEGIN:VTIMEZONE
TZID:America/New_York
BEGIN:DAYLIGHT
TZOFFSETFROM:-0500
TZOFFSETTO:-0400
TZNAME:EDT
DTSTART:20220313T070000
END:DAYLIGHT
BEGIN:STANDARD
TZOFFSETFROM:-0400
TZOFFSETTO:-0500
TZNAME:EST
DTSTART:20221106T060000
END:STANDARD
BEGIN:DAYLIGHT
TZOFFSETFROM:-0500
TZOFFSETTO:-0400
TZNAME:EDT
DTSTART:20230312T070000
END:DAYLIGHT
BEGIN:STANDARD
TZOFFSETFROM:-0400
TZOFFSETTO:-0500
TZNAME:EST
DTSTART:20231105T060000
END:STANDARD
BEGIN:DAYLIGHT
TZOFFSETFROM:-0500
TZOFFSETTO:-0400
TZNAME:EDT
DTSTART:20240310T070000
END:DAYLIGHT
BEGIN:STANDARD
TZOFFSETFROM:-0400
TZOFFSETTO:-0500
TZNAME:EST
DTSTART:20241103T060000
END:STANDARD
END:VTIMEZONE
BEGIN:VEVENT
DTSTART;TZID=America/New_York:20230819T150000
DTEND;TZID=America/New_York:20230819T180000
DTSTAMP:20260426T000426
CREATED:20230802T185926Z
LAST-MODIFIED:20230802T185926Z
UID:3798-1692457200-1692468000@altoonacommunitytheatre.com
SUMMARY:Rails & Ales Brewfest
DESCRIPTION:What: BOOZE & FOOD & MUSIC\, benefitting ACT\n\n\nWhen: August 19\, 2023\, 3PM – 6PM (2PM for VIPs)\nWhere: Heritage Plaza\, 1401 11th Ave\, Downtown Altoona\n  \n\nDrink for a good cause! Sample beers from your favorite local breweries\, dance to live music\, enjoy great food\, and support Altoona Community Theatre. \nNow located at Heritage Plaza in Downtown Altoona. \n$35 in advance\, $40 at the gate.* \nLIMITED QUANTITY VIP TICKETS AVAILABLE! \n$60 VIP tickets include an extra hour of tasting\, exclusive brews\, and appetizers catered by US Hotel (specialty brews and food only available during VIP hour from 2-3PM). PLUS a Rails & Ales event t-shirt! \n*Processing fees applies to tickets bought online and at the gate \n  \nJoining us this year on the stage is local rock band The Jaded Lips! \n  \nRain or Shine Event! \nTickets available at railsandalesaltoona.com/tickets\n\n\n\n\nIf you’re interested in being a beer or wine vendor\, food truck\, or Sponsor for the event\, you can get more information at railsandalesaltoona.com\nOR contact the ACT Office at 814-943-4357 or act@altoonacommunitytheatre.com
URL:https://altoonacommunitytheatre.com/event/rails-ales-brewfest-2/
LOCATION:Heritage Plaza\, Downtown Altoona\, Altoona
CATEGORIES:Fundraiser
ATTACH;FMTTYPE=image/png:https://altoonacommunitytheatre.com/wp-content/uploads/2021/04/basic-logo.png
ORGANIZER;CN="Altoona Community Theatre":MAILTO:act@altoonacommunitytheatre.com
END:VEVENT
END:VCALENDAR