BEGIN:VCALENDAR
VERSION:2.0
PRODID:-//Altoona Community Theatre - ECPv6.15.20//NONSGML v1.0//EN
CALSCALE:GREGORIAN
METHOD:PUBLISH
X-WR-CALNAME:Altoona Community Theatre
X-ORIGINAL-URL:https://altoonacommunitytheatre.com
X-WR-CALDESC:Events for Altoona Community Theatre
REFRESH-INTERVAL;VALUE=DURATION:PT1H
X-Robots-Tag:noindex
X-PUBLISHED-TTL:PT1H
BEGIN:VTIMEZONE
TZID:America/New_York
BEGIN:DAYLIGHT
TZOFFSETFROM:-0500
TZOFFSETTO:-0400
TZNAME:EDT
DTSTART:20220313T070000
END:DAYLIGHT
BEGIN:STANDARD
TZOFFSETFROM:-0400
TZOFFSETTO:-0500
TZNAME:EST
DTSTART:20221106T060000
END:STANDARD
BEGIN:DAYLIGHT
TZOFFSETFROM:-0500
TZOFFSETTO:-0400
TZNAME:EDT
DTSTART:20230312T070000
END:DAYLIGHT
BEGIN:STANDARD
TZOFFSETFROM:-0400
TZOFFSETTO:-0500
TZNAME:EST
DTSTART:20231105T060000
END:STANDARD
BEGIN:DAYLIGHT
TZOFFSETFROM:-0500
TZOFFSETTO:-0400
TZNAME:EDT
DTSTART:20240310T070000
END:DAYLIGHT
BEGIN:STANDARD
TZOFFSETFROM:-0400
TZOFFSETTO:-0500
TZNAME:EST
DTSTART:20241103T060000
END:STANDARD
END:VTIMEZONE
BEGIN:VEVENT
DTSTART;TZID=America/New_York:20230911T180000
DTEND;TZID=America/New_York:20230911T210000
DTSTAMP:20260425T175807
CREATED:20230804T142637Z
LAST-MODIFIED:20230807T144913Z
UID:3810-1694455200-1694466000@altoonacommunitytheatre.com
SUMMARY:Clue: On Stage AUDITIONS
DESCRIPTION:  \n \nClue: On Stage\nBased on the screenplay by Jonathan Lynn \nWritten by Sandy Rustin \nAdditional Material by Hunter Foster and Eric Price \nDirected by Jerry Cox\n  \nOpen Auditions: September 10 & 11 from 6 to 9 PM\nPerformances: November 16\, 17\, & 18 at 7:30 PM\n& November 19 at 2:00 PM\n  \nOpen auditions for this comedic murder mystery will be held September 10 & 11 from 6:00 – 9:00 PM in the Altoona Community Theatre Rehearsal Hall\, 1213 12th Street\, Downtown Altoona. Auditions will consist of cold readings from the script. Auditionees need only attend one night unless asked to attend callbacks\, expected to be held September 13. \nActors must be available for all performances. Availability for rehearsals will be asked at auditions\, please be prepared to list all conflicts from auditions to performance dates. Rehearsals are expected to begin the first week of October. \nIf you are unable to attend general auditions\, please contact the ACT Office at least a week in advance to discuss scheduling an alternative audition time. \n  \nAbout the show:\n It’s a dark and stormy night\, and you’ve been invited to a remote mansion where six mysterious guests assemble for an unusual dinner party where murder and blackmail are on the menu. When their host turns up dead\, the dinner guests become murder suspects.  So whodunnit?  Join the iconic oddballs known as Miss Scarlet\, Mr. Green\, Colonel Mustard\, Mrs. White\, Professor Plum\, and Mrs. Peacock as they race to find the murderer while the body count stacks up. \nBased on the 1985 cult classic film and the popular board game\, “Clue: On Stage” is a madcap murder-mystery-comedy-thriller that will keep you guessing until the final twist. \nCast of Characters:\nAll roles are available. No prior theatrical or ACT experience is required. Roles are open to diverse & gender-inclusive casting. \nWADSWORTH– (30+) a traditional British butler in every sense: uptight\, formal and “by the book.” He is the driving force in the play. \n  \nYVETTE– (18-35) a loyal and sexy French maid. \n  \nMISS SCARLET– (30s-40s) a dry\, sardonic D.C. madam\, more interested in secrets than sex. \n  \nMRS. PEACOCK– (40+) the wealthy wife of a senator. A bit batty\, neurotic\, and quick to hysteria. \n  \nMRS. WHITE– (30s-40s) a morbid\, and tragic woman. Mrs. White may or may not be the murderer of her five ex-husbands. \n  \nCOLONEL MUSTARD– (40+) a puffy\, pompous\, dense\, blowhard of a military man. \n  \nPROFESSOR PLUM– (35+) an arrogant academic\, easily impressed by himself. \n  \nGREEN– (25-40) a timid yet officious rule follower. He’s awfully anxious \n  \nENSEMBLE– (18+) three or four actors playing a variety of comedic parts throughout the show \n  \nRoles are open to diverse & gender-inclusive casting. Our casting seeks to be as inclusive as possible and we invite gender nonconforming\, genderqueer\, transgender and nonbinary actors to select the roles they most identify with. \nAge ranges are suggestions\, please audition for any role you would like. \n  \n  \nQuestions can be directed to the ACT Office. \nPhone: 814-943-4357 \nEmail: act@altoonacommunitytheatre.com \n  \n  \nClue: On Stage\nBased on the screenplay by Jonathan Lynn \nWritten by Sandy Rustin \nAdditional Material by Hunter Foster and Eric Price \nBased on the Paramount Pictures Motion Picture \nBased on the Hasbro board game \nCLUE Original Music by Michael Holland
URL:https://altoonacommunitytheatre.com/event/clue-on-stage-auditions-2/
LOCATION:ACT Rehearsal Hall\, 1213 12th St\, Altoona\, PA\, 16601\, United States
CATEGORIES:Auditions
ATTACH;FMTTYPE=image/png:https://altoonacommunitytheatre.com/wp-content/uploads/2023/08/23-24-Season-Logos-e1691158974184.png
ORGANIZER;CN="Altoona Community Theatre":MAILTO:act@altoonacommunitytheatre.com
END:VEVENT
END:VCALENDAR