BEGIN:VCALENDAR
VERSION:2.0
PRODID:-//Altoona Community Theatre - ECPv6.15.20//NONSGML v1.0//EN
CALSCALE:GREGORIAN
METHOD:PUBLISH
X-ORIGINAL-URL:https://altoonacommunitytheatre.com
X-WR-CALDESC:Events for Altoona Community Theatre
REFRESH-INTERVAL;VALUE=DURATION:PT1H
X-Robots-Tag:noindex
X-PUBLISHED-TTL:PT1H
BEGIN:VTIMEZONE
TZID:America/New_York
BEGIN:DAYLIGHT
TZOFFSETFROM:-0500
TZOFFSETTO:-0400
TZNAME:EDT
DTSTART:20220313T070000
END:DAYLIGHT
BEGIN:STANDARD
TZOFFSETFROM:-0400
TZOFFSETTO:-0500
TZNAME:EST
DTSTART:20221106T060000
END:STANDARD
BEGIN:DAYLIGHT
TZOFFSETFROM:-0500
TZOFFSETTO:-0400
TZNAME:EDT
DTSTART:20230312T070000
END:DAYLIGHT
BEGIN:STANDARD
TZOFFSETFROM:-0400
TZOFFSETTO:-0500
TZNAME:EST
DTSTART:20231105T060000
END:STANDARD
BEGIN:DAYLIGHT
TZOFFSETFROM:-0500
TZOFFSETTO:-0400
TZNAME:EDT
DTSTART:20240310T070000
END:DAYLIGHT
BEGIN:STANDARD
TZOFFSETFROM:-0400
TZOFFSETTO:-0500
TZNAME:EST
DTSTART:20241103T060000
END:STANDARD
END:VTIMEZONE
BEGIN:VEVENT
DTSTART;TZID=America/New_York:20231127T180000
DTEND;TZID=America/New_York:20231127T210000
DTSTAMP:20260425T100704
CREATED:20231006T200742Z
LAST-MODIFIED:20231009T163505Z
UID:3948-1701108000-1701118800@altoonacommunitytheatre.com
SUMMARY:Angel Street (Gaslight) AUDITIONS
DESCRIPTION:Angel Street (Gaslight)\nBy Patrick Hamilton\nDirected by Matt Michrina\n  \nOpen Auditions: November 26 & 27 from 6-9pm.\n\nPerformances: February 15-17 @ 7:30pm and February 18 @ 2pm\n  \nAudition Information:\nOpen auditions for this classic thriller will be held November 26 & 27 from 6:00 – 9:00 PM in the Altoona Community Theatre Rehearsal Hall\, 1213 12th Street\, Downtown Altoona.\nAuditions will consist of cold readings from the script. Auditionees need only attend one night unless asked to attend callbacks\, expected to be held November 29. \nActors must be available for all performances. Availability for rehearsals will be asked at auditions\, please be prepared to list all conflicts from auditions to performance dates. Rehearsals are expected to begin the first week of January\, with some possible work to begin in December. \nIf you are unable to attend general auditions\, please contact the ACT Office at least a week in advance to discuss scheduling an alternative audition time. \n  \nAbout the show: \n“Mystery and madness loom in the air in this classic Victorian thriller. Strange things have been happening in the Manningham household: items go missing\, their dog is injured\, and Mrs. Manningham hears footsteps coming from the locked\, uninhabited top floor. She fears that she is going mad–that is certainly what Mr. Manningham believes. But when Detective Rough arrives one night to visit Mrs. Manningham while she is alone\, questions arise and secrets are revealed.\nFirst performed in 1939\, this play is relevant today since it is the origin of the term “gaslighting” which Merriam-Webster named their “word of the year” for 2022.” \n  \nCast of Characters: \nJack Manningham– (35-50) A little too well dressed. A narcissist and smooth talker. His manner is suave and authoritative. Must be capable of great violence and cruelty.  Will require stage kissing and violence. \n  \nBella Manningham– (25-35) A recent beauty but now severely depressed and highly anxious. She believes she is gradually losing her memory and going mad.  Shows a wide range of emotions.  Will require stage kissing and violence. \n  \nDetective Rough– (30-60) Friendly and overbearing. Easy laugh.  Underneath an affable exterior lies a deeply determined man.  The main driver of the plot\, he spins a tale of high adventure and keeps the action moving within long passages of narration. \n  \nNancy– (16-25) Cheeky\, taunting\, outrageous flirt with overt ambitions to sleep with Mr. Manningham and become the lady of the house. She has many “admirers” and uses her sexuality to her own advantage.  Will require strong sensuality and stage kissing. \n  \nElizabeth– (40-60) The other maid who has worked for Mrs. Manningham for quite some time. She is meek\, scared\, loyal and very\, very worried about her Mistress’s mental health. She takes large risks to do what’s right. \n  \nAll roles are available. No prior theatrical or ACT experience is required.\nRoles are open to diverse & gender-inclusive casting.  Our casting seeks to be as inclusive as possible and we invite gender nonconforming\, genderqueer\, transgender and nonbinary actors to select the roles they most identify with. \nAge ranges are suggestions\, please audition for any role you would like. \n  \nQuestions can be directed to the ACT Office. \nPhone: 814-943-4357 \nEmail: act@altoonacommunitytheatre.com
URL:https://altoonacommunitytheatre.com/event/angelstreetauditions2/
LOCATION:ACT Rehearsal Hall\, 1213 12th St\, Altoona\, PA\, 16601\, United States
CATEGORIES:Auditions
ATTACH;FMTTYPE=image/png:https://altoonacommunitytheatre.com/wp-content/uploads/2023/10/Angel-Street-Logo.png
ORGANIZER;CN="Altoona Community Theatre":MAILTO:act@altoonacommunitytheatre.com
END:VEVENT
END:VCALENDAR