BEGIN:VCALENDAR
VERSION:2.0
PRODID:-//Altoona Community Theatre - ECPv6.15.20//NONSGML v1.0//EN
CALSCALE:GREGORIAN
METHOD:PUBLISH
X-ORIGINAL-URL:https://altoonacommunitytheatre.com
X-WR-CALDESC:Events for Altoona Community Theatre
REFRESH-INTERVAL;VALUE=DURATION:PT1H
X-Robots-Tag:noindex
X-PUBLISHED-TTL:PT1H
BEGIN:VTIMEZONE
TZID:America/New_York
BEGIN:DAYLIGHT
TZOFFSETFROM:-0500
TZOFFSETTO:-0400
TZNAME:EDT
DTSTART:20240310T070000
END:DAYLIGHT
BEGIN:STANDARD
TZOFFSETFROM:-0400
TZOFFSETTO:-0500
TZNAME:EST
DTSTART:20241103T060000
END:STANDARD
BEGIN:DAYLIGHT
TZOFFSETFROM:-0500
TZOFFSETTO:-0400
TZNAME:EDT
DTSTART:20250309T070000
END:DAYLIGHT
BEGIN:STANDARD
TZOFFSETFROM:-0400
TZOFFSETTO:-0500
TZNAME:EST
DTSTART:20251102T060000
END:STANDARD
BEGIN:DAYLIGHT
TZOFFSETFROM:-0500
TZOFFSETTO:-0400
TZNAME:EDT
DTSTART:20260308T070000
END:DAYLIGHT
BEGIN:STANDARD
TZOFFSETFROM:-0400
TZOFFSETTO:-0500
TZNAME:EST
DTSTART:20261101T060000
END:STANDARD
END:VTIMEZONE
BEGIN:VEVENT
DTSTART;TZID=America/New_York:20250214T193000
DTEND;TZID=America/New_York:20250214T213000
DTSTAMP:20260424T110003
CREATED:20250110T193025Z
LAST-MODIFIED:20250110T193025Z
UID:4911-1739561400-1739568600@altoonacommunitytheatre.com
SUMMARY:Much Ado About Nothing
DESCRIPTION:Much Ado About Nothing\nby William Shakespeare\nFebruary 13\, 14\, 15 at 7:30 PM\nFebruary 16 at 2 PM\n\n\nDirected by Tom Liszka\n\n\nLove is in the air as two of Shakespeare’s most tumultuous couples— Beatrice and Benedick\, and Claudio and Hero—volley hilarious quips and damning accusations back and forth. For Beatrice and Benedick\, wit is a full-contact sport\, and each is happy to throw some elbows. But wethinks they doth protest too much. Sometimes a stubborn soul needs that proverbial kick in the pantaloons to get out of their own way.\n\n\nWill the truth win in this mischievous game of love? Romance\, wit\, false accusations\, mistaken identities\, and a cunning villain fuel this beloved classic with a central couple that set the standard for today’s rom coms.\n\n\nTickets on sale now through the Mishler Theatre Box Office – 814-944-9434
URL:https://altoonacommunitytheatre.com/event/much-ado-about-nothing/
LOCATION:The Historic Mishler Theatre\, 1208 12th Ave\, Altoona\, PA\, 16601\, United States
CATEGORIES:Mainstage
ATTACH;FMTTYPE=image/png:https://altoonacommunitytheatre.com/wp-content/uploads/2024/08/Much-Ado-Logo-Only-1-e1736286741672.png
ORGANIZER;CN="Altoona Community Theatre":MAILTO:act@altoonacommunitytheatre.com
END:VEVENT
END:VCALENDAR