BEGIN:VCALENDAR
VERSION:2.0
PRODID:-//Altoona Community Theatre - ECPv6.15.20//NONSGML v1.0//EN
CALSCALE:GREGORIAN
METHOD:PUBLISH
X-WR-CALNAME:Altoona Community Theatre
X-ORIGINAL-URL:https://altoonacommunitytheatre.com
X-WR-CALDESC:Events for Altoona Community Theatre
REFRESH-INTERVAL;VALUE=DURATION:PT1H
X-Robots-Tag:noindex
X-PUBLISHED-TTL:PT1H
BEGIN:VTIMEZONE
TZID:America/New_York
BEGIN:DAYLIGHT
TZOFFSETFROM:-0500
TZOFFSETTO:-0400
TZNAME:EDT
DTSTART:20230312T070000
END:DAYLIGHT
BEGIN:STANDARD
TZOFFSETFROM:-0400
TZOFFSETTO:-0500
TZNAME:EST
DTSTART:20231105T060000
END:STANDARD
BEGIN:DAYLIGHT
TZOFFSETFROM:-0500
TZOFFSETTO:-0400
TZNAME:EDT
DTSTART:20240310T070000
END:DAYLIGHT
BEGIN:STANDARD
TZOFFSETFROM:-0400
TZOFFSETTO:-0500
TZNAME:EST
DTSTART:20241103T060000
END:STANDARD
BEGIN:DAYLIGHT
TZOFFSETFROM:-0500
TZOFFSETTO:-0400
TZNAME:EDT
DTSTART:20250309T070000
END:DAYLIGHT
BEGIN:STANDARD
TZOFFSETFROM:-0400
TZOFFSETTO:-0500
TZNAME:EST
DTSTART:20251102T060000
END:STANDARD
END:VTIMEZONE
BEGIN:VEVENT
DTSTART;TZID=America/New_York:20241114T193000
DTEND;TZID=America/New_York:20241114T213000
DTSTAMP:20260424T101504
CREATED:20240829T134413Z
LAST-MODIFIED:20241022T163117Z
UID:4513-1731612600-1731619800@altoonacommunitytheatre.com
SUMMARY:A Dicken's Christmas Carol
DESCRIPTION:A Dickens’ Christmas Carol: A Traveling Travesty in Two Tumultuous Acts\n\nby Mark Landon Smith\nNovember 14\, 15\, 16 at 7:30\nNovember 17 at 2 PM\n\nDirected by Sam Wagner\n\n\nThis is NOT your traditional “Christmas Carol!” When a rag-tag theatrical touring company stages their 15th annual farewell performance of “A Christmas Carol\,” nothing goes right. All the characters in Dickens’ story are there\, but only seven actors play them. Mayhem ensues as these “seasoned professionals” scramble to keep the show going. But everything that can go wrong does go wrong to hilarious\, ridiculous results!\n\n\nThis show celebrates the Dickens classic but with a bit of a twist. If you love the original but would like to see something a little different this holiday season\, this is the show for you!\n\n\nTickets on sale now through the Mishler Theatre Box Office – 814-944-9434
URL:https://altoonacommunitytheatre.com/event/xmascarol/
LOCATION:The Historic Mishler Theatre\, 1208 12th Ave\, Altoona\, PA\, 16601\, United States
CATEGORIES:Mainstage
ATTACH;FMTTYPE=image/jpeg:https://altoonacommunitytheatre.com/wp-content/uploads/2024/08/CC-logo-UPDATED-scaled.jpg
ORGANIZER;CN="Altoona Community Theatre":MAILTO:act@altoonacommunitytheatre.com
END:VEVENT
BEGIN:VEVENT
DTSTART;TZID=America/New_York:20241115T193000
DTEND;TZID=America/New_York:20241115T213000
DTSTAMP:20260424T101504
CREATED:20241003T151420Z
LAST-MODIFIED:20241022T163802Z
UID:4577-1731699000-1731706200@altoonacommunitytheatre.com
SUMMARY:A Dicken's Christmas Carol
DESCRIPTION:A Dickens’ Christmas Carol: A Traveling Travesty in Two Tumultuous Acts\n\nby Mark Landon Smith\nNovember 14\, 15\, 16 at 7:30\nNovember 17 at 2 PM\n\nDirected by Sam Wagner\n\n\nThis is NOT your traditional “Christmas Carol!” When a rag-tag theatrical touring company stages their 15th annual farewell performance of “A Christmas Carol\,” nothing goes right. All the characters in Dickens’ story are there\, but only seven actors play them. Mayhem ensues as these “seasoned professionals” scramble to keep the show going. But everything that can go wrong does go wrong to hilarious\, ridiculous results!\n\n\nThis show celebrates the Dickens classic but with a bit of a twist. If you love the original but would like to see something a little different this holiday season\, this is the show for you!\n\n\nTickets on sale now through the Mishler Theatre Box Office – 814-944-9434
URL:https://altoonacommunitytheatre.com/event/a-dickens-christmas-carol/
LOCATION:The Historic Mishler Theatre\, 1208 12th Ave\, Altoona\, PA\, 16601\, United States
CATEGORIES:Mainstage
ATTACH;FMTTYPE=image/jpeg:https://altoonacommunitytheatre.com/wp-content/uploads/2024/08/CC-logo-UPDATED-scaled.jpg
ORGANIZER;CN="Altoona Community Theatre":MAILTO:act@altoonacommunitytheatre.com
END:VEVENT
BEGIN:VEVENT
DTSTART;TZID=America/New_York:20241116T193000
DTEND;TZID=America/New_York:20241116T213000
DTSTAMP:20260424T101504
CREATED:20241003T151442Z
LAST-MODIFIED:20241022T163357Z
UID:4578-1731785400-1731792600@altoonacommunitytheatre.com
SUMMARY:A Dicken's Christmas Carol
DESCRIPTION:A Dickens’ Christmas Carol: A Traveling Travesty in Two Tumultuous Acts\n\nby Mark Landon Smith\nNovember 14\, 15\, 16 at 7:30\nNovember 17 at 2 PM\n\nDirected by Sam Wagner\n\n\nThis is NOT your traditional “Christmas Carol!” When a rag-tag theatrical touring company stages their 15th annual farewell performance of “A Christmas Carol\,” nothing goes right. All the characters in Dickens’ story are there\, but only seven actors play them. Mayhem ensues as these “seasoned professionals” scramble to keep the show going. But everything that can go wrong does go wrong to hilarious\, ridiculous results!\n\n\nThis show celebrates the Dickens classic but with a bit of a twist. If you love the original but would like to see something a little different this holiday season\, this is the show for you!\n\n\nTickets on sale now through the Mishler Theatre Box Office – 814-944-9434
URL:https://altoonacommunitytheatre.com/event/a-dickens-christmas-carol-2/
LOCATION:The Historic Mishler Theatre\, 1208 12th Ave\, Altoona\, PA\, 16601\, United States
CATEGORIES:Mainstage
ATTACH;FMTTYPE=image/jpeg:https://altoonacommunitytheatre.com/wp-content/uploads/2024/08/CC-logo-UPDATED-scaled.jpg
ORGANIZER;CN="Altoona Community Theatre":MAILTO:act@altoonacommunitytheatre.com
END:VEVENT
BEGIN:VEVENT
DTSTART;TZID=America/New_York:20241117T140000
DTEND;TZID=America/New_York:20241117T160000
DTSTAMP:20260424T101504
CREATED:20241003T151458Z
LAST-MODIFIED:20241022T163658Z
UID:4579-1731852000-1731859200@altoonacommunitytheatre.com
SUMMARY:A Dicken's Christmas Carol
DESCRIPTION:A Dickens’ Christmas Carol: A Traveling Travesty in Two Tumultuous Acts\n\nby Mark Landon Smith\nNovember 14\, 15\, 16 at 7:30\nNovember 17 at 2 PM\n\nDirected by Sam Wagner\n\n\nThis is NOT your traditional “Christmas Carol!” When a rag-tag theatrical touring company stages their 15th annual farewell performance of “A Christmas Carol\,” nothing goes right. All the characters in Dickens’ story are there\, but only seven actors play them. Mayhem ensues as these “seasoned professionals” scramble to keep the show going. But everything that can go wrong does go wrong to hilarious\, ridiculous results!\n\n\nThis show celebrates the Dickens classic but with a bit of a twist. If you love the original but would like to see something a little different this holiday season\, this is the show for you!\n\n\nTickets on sale now through the Mishler Theatre Box Office – 814-944-9434
URL:https://altoonacommunitytheatre.com/event/a-dickens-christmas-carol-3/
LOCATION:The Historic Mishler Theatre\, 1208 12th Ave\, Altoona\, PA\, 16601\, United States
CATEGORIES:Mainstage
ATTACH;FMTTYPE=image/jpeg:https://altoonacommunitytheatre.com/wp-content/uploads/2024/08/CC-logo-UPDATED-scaled.jpg
ORGANIZER;CN="Altoona Community Theatre":MAILTO:act@altoonacommunitytheatre.com
END:VEVENT
END:VCALENDAR